BEGIN:VCALENDAR
VERSION:2.0
PRODID:-//Gateway Association - ECPv6.15.20//NONSGML v1.0//EN
CALSCALE:GREGORIAN
METHOD:PUBLISH
X-ORIGINAL-URL:https://gatewayassociation.ca
X-WR-CALDESC:Events for Gateway Association
REFRESH-INTERVAL;VALUE=DURATION:PT1H
X-Robots-Tag:noindex
X-PUBLISHED-TTL:PT1H
BEGIN:VTIMEZONE
TZID:America/Denver
BEGIN:DAYLIGHT
TZOFFSETFROM:-0700
TZOFFSETTO:-0600
TZNAME:MDT
DTSTART:20210314T090000
END:DAYLIGHT
BEGIN:STANDARD
TZOFFSETFROM:-0600
TZOFFSETTO:-0700
TZNAME:MST
DTSTART:20211107T080000
END:STANDARD
BEGIN:DAYLIGHT
TZOFFSETFROM:-0700
TZOFFSETTO:-0600
TZNAME:MDT
DTSTART:20220313T090000
END:DAYLIGHT
BEGIN:STANDARD
TZOFFSETFROM:-0600
TZOFFSETTO:-0700
TZNAME:MST
DTSTART:20221106T080000
END:STANDARD
BEGIN:DAYLIGHT
TZOFFSETFROM:-0700
TZOFFSETTO:-0600
TZNAME:MDT
DTSTART:20230312T090000
END:DAYLIGHT
BEGIN:STANDARD
TZOFFSETFROM:-0600
TZOFFSETTO:-0700
TZNAME:MST
DTSTART:20231105T080000
END:STANDARD
END:VTIMEZONE
BEGIN:VEVENT
DTSTART;TZID=America/Denver:20220901T080000
DTEND;TZID=America/Denver:20220901T170000
DTSTAMP:20260421T061425
CREATED:20220714T193112Z
LAST-MODIFIED:20220714T193112Z
UID:248347-1662019200-1662051600@gatewayassociation.ca
SUMMARY:Work Simulation- Build a Website
DESCRIPTION:August 15th-September 8th- Build a Website: Increase your digital and social skills in this work simulation. Work as a part of a team to build a website for a company you help to create. \nIncrease your digital and social skills\, as you work in a team to build a website for an imaginary company. This is a tech-based work simulation\, where learners are ‘hired’ into positions at an imaginary tech company and work together to build a website for a simulated client. \nThis course covers basic: internet vocabulary\, web design\, and use of google apps while giving you experience with working on a team\, engaging with peers\, and giving presentations. Learn to design and build a website\, create and give presentations\, and practice your interview skills. \nTo register\, connect with us at GetDigital@GatewayAssociation.ca
URL:https://gatewayassociation.ca/calendar/work-simulation-build-a-website-13/
END:VEVENT
BEGIN:VEVENT
DTSTART;TZID=America/Denver:20220901T110000
DTEND;TZID=America/Denver:20220901T120000
DTSTAMP:20260421T061425
CREATED:20220714T222645Z
LAST-MODIFIED:20220714T222714Z
UID:248442-1662030000-1662033600@gatewayassociation.ca
SUMMARY:ePortfolio Series (4/4)
DESCRIPTION:Learners will work on their own between classes. In the eportfolio workshop\, participants will learn about the different types of portfolios\, how to use google sites\, and the basics of layout and design. Learners will choose the type of portfolio they want to build and the subject they want to focus on. They will select and add content to their sites along with descriptions\, statements about their motivation\, interests\, skills\, and hobbies. \nTo register or learn more about the series\, connect with us at GetDigital@GatewayAssociation.ca
URL:https://gatewayassociation.ca/calendar/eportfolio-series-4-4-2/
END:VEVENT
BEGIN:VEVENT
DTSTART;TZID=America/Denver:20220901T130000
DTEND;TZID=America/Denver:20220901T140000
DTSTAMP:20260421T061425
CREATED:20220714T223030Z
LAST-MODIFIED:20220714T223030Z
UID:248450-1662037200-1662040800@gatewayassociation.ca
SUMMARY:LinkedIn Series (4/4)
DESCRIPTION:Build your own LinkedIn profile! Share your skills\, goals\, and experiences\, create job alerts\, and grow your online network. \nTo register or learn more\, connect with us at GetDigital@GatewayAssociation.ca
URL:https://gatewayassociation.ca/calendar/linkedin-series-4-4/
END:VEVENT
END:VCALENDAR