BEGIN:VCALENDAR
VERSION:2.0
PRODID:-//Gateway Association - ECPv6.15.20//NONSGML v1.0//EN
CALSCALE:GREGORIAN
METHOD:PUBLISH
X-ORIGINAL-URL:https://gatewayassociation.ca
X-WR-CALDESC:Events for Gateway Association
REFRESH-INTERVAL;VALUE=DURATION:PT1H
X-Robots-Tag:noindex
X-PUBLISHED-TTL:PT1H
BEGIN:VTIMEZONE
TZID:America/Denver
BEGIN:DAYLIGHT
TZOFFSETFROM:-0700
TZOFFSETTO:-0600
TZNAME:MDT
DTSTART:20210314T090000
END:DAYLIGHT
BEGIN:STANDARD
TZOFFSETFROM:-0600
TZOFFSETTO:-0700
TZNAME:MST
DTSTART:20211107T080000
END:STANDARD
BEGIN:DAYLIGHT
TZOFFSETFROM:-0700
TZOFFSETTO:-0600
TZNAME:MDT
DTSTART:20220313T090000
END:DAYLIGHT
BEGIN:STANDARD
TZOFFSETFROM:-0600
TZOFFSETTO:-0700
TZNAME:MST
DTSTART:20221106T080000
END:STANDARD
BEGIN:DAYLIGHT
TZOFFSETFROM:-0700
TZOFFSETTO:-0600
TZNAME:MDT
DTSTART:20230312T090000
END:DAYLIGHT
BEGIN:STANDARD
TZOFFSETFROM:-0600
TZOFFSETTO:-0700
TZNAME:MST
DTSTART:20231105T080000
END:STANDARD
END:VTIMEZONE
BEGIN:VEVENT
DTSTART;TZID=America/Denver:20221102T100000
DTEND;TZID=America/Denver:20221102T103000
DTSTAMP:20260421T042345
CREATED:20220907T191141Z
LAST-MODIFIED:20220907T204500Z
UID:248703-1667383200-1667385000@gatewayassociation.ca
SUMMARY:Family Resource Centre (FRC) Info Session
DESCRIPTION:
URL:https://gatewayassociation.ca/calendar/frc-information-session/
CATEGORIES:FRC
END:VEVENT
BEGIN:VEVENT
DTSTART;TZID=America/Denver:20221102T100000
DTEND;TZID=America/Denver:20221102T120000
DTSTAMP:20260421T042345
CREATED:20220915T184537Z
LAST-MODIFIED:20220915T184537Z
UID:248921-1667383200-1667390400@gatewayassociation.ca
SUMMARY:Work Simulation\, Week 3
DESCRIPTION:Oct 18th to Nov 24rd – This is a 6-week course. \nClasses are on Tues to Thurs for 2 hours per session \nIncrease your digital and social skills\, as you work in a team to build a website for an imaginary company. This is a tech-based work simulation\, where learners are ‘hired’ into positions at an imaginary tech company and work together to build a website for a simulated client. \nThis course covers basic: internet vocabulary\, web design\, and use of google apps while giving you experience with working on a team\, engaging with peers\, and giving presentations. Learn to design and build a website\, create and give presentations\, and practice your interview skills. \nTo learn more or to register\, please connect with us at GetDigital@GatewayAssociation.ca
URL:https://gatewayassociation.ca/calendar/work-simulation-week-3-3/
END:VEVENT
BEGIN:VEVENT
DTSTART;TZID=America/Denver:20221102T150000
DTEND;TZID=America/Denver:20221102T163000
DTSTAMP:20260421T042345
CREATED:20221019T140719Z
LAST-MODIFIED:20221019T140719Z
UID:248979-1667401200-1667406600@gatewayassociation.ca
SUMMARY:OSC Boardgames
DESCRIPTION:**Requires Online Social Connections – Discord and Steam Tutorials as well as desktop or laptop computer.** \n\nCome hang out! Learn about setting up online accounts\, meet new friends\, socialize\, and have fun playing boardgames online. Meet new friends\, practise new skills\, have fun! \nFor questions and to register\, please connect with us at GetDigital@GatewayAssociation.ca
URL:https://gatewayassociation.ca/calendar/osc-boardgames-12/
END:VEVENT
END:VCALENDAR