BEGIN:VCALENDAR
VERSION:2.0
PRODID:-//Gateway Association - ECPv6.15.20//NONSGML v1.0//EN
CALSCALE:GREGORIAN
METHOD:PUBLISH
X-ORIGINAL-URL:https://gatewayassociation.ca
X-WR-CALDESC:Events for Gateway Association
REFRESH-INTERVAL;VALUE=DURATION:PT1H
X-Robots-Tag:noindex
X-PUBLISHED-TTL:PT1H
BEGIN:VTIMEZONE
TZID:America/Denver
BEGIN:DAYLIGHT
TZOFFSETFROM:-0700
TZOFFSETTO:-0600
TZNAME:MDT
DTSTART:20210314T090000
END:DAYLIGHT
BEGIN:STANDARD
TZOFFSETFROM:-0600
TZOFFSETTO:-0700
TZNAME:MST
DTSTART:20211107T080000
END:STANDARD
BEGIN:DAYLIGHT
TZOFFSETFROM:-0700
TZOFFSETTO:-0600
TZNAME:MDT
DTSTART:20220313T090000
END:DAYLIGHT
BEGIN:STANDARD
TZOFFSETFROM:-0600
TZOFFSETTO:-0700
TZNAME:MST
DTSTART:20221106T080000
END:STANDARD
BEGIN:DAYLIGHT
TZOFFSETFROM:-0700
TZOFFSETTO:-0600
TZNAME:MDT
DTSTART:20230312T090000
END:DAYLIGHT
BEGIN:STANDARD
TZOFFSETFROM:-0600
TZOFFSETTO:-0700
TZNAME:MST
DTSTART:20231105T080000
END:STANDARD
END:VTIMEZONE
BEGIN:VEVENT
DTSTART;TZID=America/Denver:20221108T100000
DTEND;TZID=America/Denver:20221108T110000
DTSTAMP:20260421T115117
CREATED:20221019T142935Z
LAST-MODIFIED:20221019T142935Z
UID:249007-1667901600-1667905200@gatewayassociation.ca
SUMMARY:Email Level 2 - Extra Practice
DESCRIPTION:**For participants who have completed Email Basics\, and would like more practice** \nA session for participants who have take the Email Basics session and would like more practice in writing professional emails for their job search and workplace communication \nFor questions and to register\, please connect with us at GetDigital@GatewayAssociation.ca
URL:https://gatewayassociation.ca/calendar/email-level-2-extra-practice/
END:VEVENT
BEGIN:VEVENT
DTSTART;TZID=America/Denver:20221108T100000
DTEND;TZID=America/Denver:20221108T120000
DTSTAMP:20260421T115117
CREATED:20220915T175726Z
LAST-MODIFIED:20220915T175726Z
UID:248861-1667901600-1667908800@gatewayassociation.ca
SUMMARY:Work Simulation\, Week 4
DESCRIPTION:Oct 18th to Nov 24rd – This is a 6-week course. \nClasses are on Tues to Thurs for 2 hours per session \nIncrease your digital and social skills\, as you work in a team to build a website for an imaginary company. This is a tech-based work simulation\, where learners are ‘hired’ into positions at an imaginary tech company and work together to build a website for a simulated client. \nThis course covers basic: internet vocabulary\, web design\, and use of google apps while giving you experience with working on a team\, engaging with peers\, and giving presentations. Learn to design and build a website\, create and give presentations\, and practice your interview skills. \nTo learn more or to register\, please connect with us at GetDigital@GatewayAssociation.ca
URL:https://gatewayassociation.ca/calendar/work-simulation-week-4/
END:VEVENT
BEGIN:VEVENT
DTSTART;TZID=America/Denver:20221108T110000
DTEND;TZID=America/Denver:20221108T120000
DTSTAMP:20260421T115117
CREATED:20221019T141546Z
LAST-MODIFIED:20221019T141546Z
UID:248993-1667905200-1667908800@gatewayassociation.ca
SUMMARY:Google Docs Series (2/4)
DESCRIPTION:This is a 4 part series \nIn this workshop series\, Participants will create their own google account\, learn to navigate google drive\, and keep their drives organized. Through a series of activities\, Learners will practice creating and sharing google documents\, explore the tools provided to help them write\, edit\, comment and chat. This workshop covers the Basics of google drive and google docs\, as well as file organization\, sharing\, and commenting. \nFor questions and to register\, please connect with us at GetDigital@GatewayAssociation.ca
URL:https://gatewayassociation.ca/calendar/google-docs-series-2-4/
END:VEVENT
BEGIN:VEVENT
DTSTART;TZID=America/Denver:20221108T130000
DTEND;TZID=America/Denver:20221108T140000
DTSTAMP:20260421T115117
CREATED:20221019T133656Z
LAST-MODIFIED:20221019T133656Z
UID:248959-1667912400-1667916000@gatewayassociation.ca
SUMMARY:Finding Your Purpose - Career Exploration
DESCRIPTION:In this workshop\, we will discuss how considering own interests and abilities along with researching job market trends and income can yield success and job satisfaction. \nTo register or for any accommodation needs\, please connect with us at Get-Work@GatewayAssociation.ca
URL:https://gatewayassociation.ca/calendar/finding-your-purpose-career-exploration-4/
CATEGORIES:ERC
END:VEVENT
BEGIN:VEVENT
DTSTART;TZID=America/Denver:20221108T130000
DTEND;TZID=America/Denver:20221108T140000
DTSTAMP:20260421T115117
CREATED:20221019T141912Z
LAST-MODIFIED:20221019T141912Z
UID:249001-1667912400-1667916000@gatewayassociation.ca
SUMMARY:Look Stuff Up Online Series (2/4)
DESCRIPTION:This is a 4 part series \nThis workshop series helps learners find\, share\, and explore things online through a series of fun activities. Participants will use different google map features to find their way around town\, share their favourite places\, plan a vacation\, and compare different search engines. As a group\, learners will chat about fake news\, investigate stories on Snopes\, and chat about the media we take in everyday. \nFor questions and to register\, please connect with us at GetDigital@GatewayAssociation.ca
URL:https://gatewayassociation.ca/calendar/look-stuff-up-online-series-2-4-4/
END:VEVENT
BEGIN:VEVENT
DTSTART;TZID=America/Denver:20221108T190000
DTEND;TZID=America/Denver:20221108T210000
DTSTAMP:20260421T115117
CREATED:20220907T193408Z
LAST-MODIFIED:20220907T193408Z
UID:248715-1667934000-1667941200@gatewayassociation.ca
SUMMARY:Families Forward\, Under 18
DESCRIPTION:Families Forward\, Under 18 \nTuesday\, November 8 \n7pm – 9pm | Zoom \nMonthly meeting for families with children under 18 with disabilities. \nWhere families can connect with other families\, learn from one another\, and explore issues that are important\, such as schooling\, leadership\, and community and government support. \nFor any accommodation requirements\, please contact Stacy@GatewayAssociation.ca for assistance
URL:https://gatewayassociation.ca/calendar/families-forward-under-18-2/
CATEGORIES:FRC
END:VEVENT
END:VCALENDAR