BEGIN:VCALENDAR
VERSION:2.0
PRODID:-//Gateway Association - ECPv6.15.20//NONSGML v1.0//EN
CALSCALE:GREGORIAN
METHOD:PUBLISH
X-WR-CALNAME:Gateway Association
X-ORIGINAL-URL:https://gatewayassociation.ca
X-WR-CALDESC:Events for Gateway Association
REFRESH-INTERVAL;VALUE=DURATION:PT1H
X-Robots-Tag:noindex
X-PUBLISHED-TTL:PT1H
BEGIN:VTIMEZONE
TZID:America/Denver
BEGIN:DAYLIGHT
TZOFFSETFROM:-0700
TZOFFSETTO:-0600
TZNAME:MDT
DTSTART:20210314T090000
END:DAYLIGHT
BEGIN:STANDARD
TZOFFSETFROM:-0600
TZOFFSETTO:-0700
TZNAME:MST
DTSTART:20211107T080000
END:STANDARD
BEGIN:DAYLIGHT
TZOFFSETFROM:-0700
TZOFFSETTO:-0600
TZNAME:MDT
DTSTART:20220313T090000
END:DAYLIGHT
BEGIN:STANDARD
TZOFFSETFROM:-0600
TZOFFSETTO:-0700
TZNAME:MST
DTSTART:20221106T080000
END:STANDARD
BEGIN:DAYLIGHT
TZOFFSETFROM:-0700
TZOFFSETTO:-0600
TZNAME:MDT
DTSTART:20230312T090000
END:DAYLIGHT
BEGIN:STANDARD
TZOFFSETFROM:-0600
TZOFFSETTO:-0700
TZNAME:MST
DTSTART:20231105T080000
END:STANDARD
END:VTIMEZONE
BEGIN:VEVENT
DTSTART;TZID=America/Denver:20221109T100000
DTEND;TZID=America/Denver:20221109T120000
DTSTAMP:20260421T152736
CREATED:20220915T184607Z
LAST-MODIFIED:20220915T184607Z
UID:248923-1667988000-1667995200@gatewayassociation.ca
SUMMARY:Work Simulation\, Week 4
DESCRIPTION:Oct 18th to Nov 24rd – This is a 6-week course. \nClasses are on Tues to Thurs for 2 hours per session \nIncrease your digital and social skills\, as you work in a team to build a website for an imaginary company. This is a tech-based work simulation\, where learners are ‘hired’ into positions at an imaginary tech company and work together to build a website for a simulated client. \nThis course covers basic: internet vocabulary\, web design\, and use of google apps while giving you experience with working on a team\, engaging with peers\, and giving presentations. Learn to design and build a website\, create and give presentations\, and practice your interview skills. \nTo learn more or to register\, please connect with us at GetDigital@GatewayAssociation.ca
URL:https://gatewayassociation.ca/calendar/work-simulation-week-4-3/
END:VEVENT
BEGIN:VEVENT
DTSTART;TZID=America/Denver:20221109T110000
DTEND;TZID=America/Denver:20221109T120000
DTSTAMP:20260421T152736
CREATED:20221019T141615Z
LAST-MODIFIED:20221019T141615Z
UID:248995-1667991600-1667995200@gatewayassociation.ca
SUMMARY:Google Docs Series (3/4)
DESCRIPTION:This is a 4 part series \nIn this workshop series\, Participants will create their own google account\, learn to navigate google drive\, and keep their drives organized. Through a series of activities\, Learners will practice creating and sharing google documents\, explore the tools provided to help them write\, edit\, comment and chat. This workshop covers the Basics of google drive and google docs\, as well as file organization\, sharing\, and commenting. \nFor questions and to register\, please connect with us at GetDigital@GatewayAssociation.ca
URL:https://gatewayassociation.ca/calendar/google-docs-series-3-4/
END:VEVENT
BEGIN:VEVENT
DTSTART;TZID=America/Denver:20221109T130000
DTEND;TZID=America/Denver:20221109T140000
DTSTAMP:20260421T152736
CREATED:20221019T142106Z
LAST-MODIFIED:20221019T142106Z
UID:249003-1667998800-1668002400@gatewayassociation.ca
SUMMARY:Look Stuff Up Online Series (3/4)
DESCRIPTION:This is a 4 part series \nThis workshop series helps learners find\, share\, and explore things online through a series of fun activities. Participants will use different google map features to find their way around town\, share their favourite places\, plan a vacation\, and compare different search engines. As a group\, learners will chat about fake news\, investigate stories on Snopes\, and chat about the media we take in everyday. \nFor questions and to register\, please connect with us at GetDigital@GatewayAssociation.ca
URL:https://gatewayassociation.ca/calendar/look-stuff-up-online-series-3-4-2/
END:VEVENT
BEGIN:VEVENT
DTSTART;TZID=America/Denver:20221109T150000
DTEND;TZID=America/Denver:20221109T163000
DTSTAMP:20260421T152736
CREATED:20221019T140810Z
LAST-MODIFIED:20221019T140810Z
UID:248981-1668006000-1668011400@gatewayassociation.ca
SUMMARY:OSC Boardgames
DESCRIPTION:**Requires Online Social Connections – Discord and Steam Tutorials as well as desktop or laptop computer.** \nCome hang out! Learn about setting up online accounts\, meet new friends\, socialize\, and have fun playing boardgames online. Meet new friends\, practise new skills\, have fun! \nFor questions and to register\, please connect with us at GetDigital@GatewayAssociation.ca
URL:https://gatewayassociation.ca/calendar/osc-boardgames-13/
END:VEVENT
END:VCALENDAR