BEGIN:VCALENDAR
VERSION:2.0
PRODID:-//Gateway Association - ECPv6.15.20//NONSGML v1.0//EN
CALSCALE:GREGORIAN
METHOD:PUBLISH
X-ORIGINAL-URL:https://gatewayassociation.ca
X-WR-CALDESC:Events for Gateway Association
REFRESH-INTERVAL;VALUE=DURATION:PT1H
X-Robots-Tag:noindex
X-PUBLISHED-TTL:PT1H
BEGIN:VTIMEZONE
TZID:America/Denver
BEGIN:DAYLIGHT
TZOFFSETFROM:-0700
TZOFFSETTO:-0600
TZNAME:MDT
DTSTART:20220313T090000
END:DAYLIGHT
BEGIN:STANDARD
TZOFFSETFROM:-0600
TZOFFSETTO:-0700
TZNAME:MST
DTSTART:20221106T080000
END:STANDARD
BEGIN:DAYLIGHT
TZOFFSETFROM:-0700
TZOFFSETTO:-0600
TZNAME:MDT
DTSTART:20230312T090000
END:DAYLIGHT
BEGIN:STANDARD
TZOFFSETFROM:-0600
TZOFFSETTO:-0700
TZNAME:MST
DTSTART:20231105T080000
END:STANDARD
BEGIN:DAYLIGHT
TZOFFSETFROM:-0700
TZOFFSETTO:-0600
TZNAME:MDT
DTSTART:20240310T090000
END:DAYLIGHT
BEGIN:STANDARD
TZOFFSETFROM:-0600
TZOFFSETTO:-0700
TZNAME:MST
DTSTART:20241103T080000
END:STANDARD
END:VTIMEZONE
BEGIN:VEVENT
DTSTART;TZID=America/Denver:20230502T110000
DTEND;TZID=America/Denver:20230502T120000
DTSTAMP:20260421T061424
CREATED:20230405T135611Z
LAST-MODIFIED:20230405T135611Z
UID:250125-1683025200-1683028800@gatewayassociation.ca
SUMMARY:Google Drive (1/2)
DESCRIPTION:Session: 1 of 2 \nDuration: 1 hr \nFacilitator: Lee \nPrivate – GTDI Program intake required prior to workshop: getdigital@gatewayassociation.ca \nLearn how to create a google accounts\, access google drive\, upload files\, create folders\, search for files. Group discussion on cloud storage\, strong passwords\, file naming conventions and keeping documents and folders organized.
URL:https://gatewayassociation.ca/calendar/google-drive-1-2-2/
END:VEVENT
BEGIN:VEVENT
DTSTART;TZID=America/Denver:20230502T160000
DTEND;TZID=America/Denver:20230502T180000
DTSTAMP:20260421T061424
CREATED:20230424T154724Z
LAST-MODIFIED:20230424T154751Z
UID:250454-1683043200-1683050400@gatewayassociation.ca
SUMMARY:Introduction to Coding with Scratch
DESCRIPTION:Scratch\, is a beginner-level programming environment. It was developed at the MIT Media Lab and shared as an open-source (and FREE) resource for people to dip their toes into the world of code. No computer science or coding experience is required just bring your imagination.  Participants will be able to create stories\, games\, and animations they can share with their family & friends or other like-minded people around the world. It can also be a great introduction or gateway to the theory and logic needed in more complex programming languages and environments. \nSession 1: This workshop will go through the basic building blocks of code. We will go through the different types of coding commands and complete some basic exercises to visually understand what each of the commands does and how they can be combined together to make something cool. We will take a tour through the Scratch interface and review how to participate in the Scratch Community including highlighting some of the things that are allowed/not allowed. We will also go over Creative Commons Licencing including attribution and derivative works (plain language will also be used to explain these concepts) and participants will learn how that applies to their own creations\, remixing in Scratch\, and sharing or collaborating with the online community. \nSign Up HERE
URL:https://gatewayassociation.ca/calendar/introduction-to-coding-with-scratch-1-2/
END:VEVENT
END:VCALENDAR