BEGIN:VCALENDAR
VERSION:2.0
PRODID:-//Gateway Association - ECPv6.15.20//NONSGML v1.0//EN
CALSCALE:GREGORIAN
METHOD:PUBLISH
X-WR-CALNAME:Gateway Association
X-ORIGINAL-URL:https://gatewayassociation.ca
X-WR-CALDESC:Events for Gateway Association
REFRESH-INTERVAL;VALUE=DURATION:PT1H
X-Robots-Tag:noindex
X-PUBLISHED-TTL:PT1H
BEGIN:VTIMEZONE
TZID:America/Denver
BEGIN:DAYLIGHT
TZOFFSETFROM:-0700
TZOFFSETTO:-0600
TZNAME:MDT
DTSTART:20220313T090000
END:DAYLIGHT
BEGIN:STANDARD
TZOFFSETFROM:-0600
TZOFFSETTO:-0700
TZNAME:MST
DTSTART:20221106T080000
END:STANDARD
BEGIN:DAYLIGHT
TZOFFSETFROM:-0700
TZOFFSETTO:-0600
TZNAME:MDT
DTSTART:20230312T090000
END:DAYLIGHT
BEGIN:STANDARD
TZOFFSETFROM:-0600
TZOFFSETTO:-0700
TZNAME:MST
DTSTART:20231105T080000
END:STANDARD
BEGIN:DAYLIGHT
TZOFFSETFROM:-0700
TZOFFSETTO:-0600
TZNAME:MDT
DTSTART:20240310T090000
END:DAYLIGHT
BEGIN:STANDARD
TZOFFSETFROM:-0600
TZOFFSETTO:-0700
TZNAME:MST
DTSTART:20241103T080000
END:STANDARD
END:VTIMEZONE
BEGIN:VEVENT
DTSTART;TZID=America/Denver:20230509T110000
DTEND;TZID=America/Denver:20230509T120000
DTSTAMP:20260421T061159
CREATED:20230410T221212Z
LAST-MODIFIED:20230410T221212Z
UID:250367-1683630000-1683633600@gatewayassociation.ca
SUMMARY:Email Basics
DESCRIPTION:Session: 1 of 1 \nDuration: 1 hr \nFacilitator: Lee \nPrivate – GTDI Program intake required prior to workshop: getdigital@gatewayassociation.ca \nLearn about and practice the basics of writing professional emails for your job search and workplace communication.
URL:https://gatewayassociation.ca/calendar/email-basics-28/
END:VEVENT
BEGIN:VEVENT
DTSTART;TZID=America/Denver:20230509T130000
DTEND;TZID=America/Denver:20230509T140000
DTSTAMP:20260421T061159
CREATED:20230331T165741Z
LAST-MODIFIED:20230331T165741Z
UID:250016-1683637200-1683640800@gatewayassociation.ca
SUMMARY:Growth Mindset- Resiliency in Job Search
DESCRIPTION:Growth Mindset – Resiliency in Job Search  \nJob search can be a long and daunting process for many. This workshop will help individuals create a positive and persistent mindset along with tips on how to stay motivated.  \nFor more information and to register\, please connect with us at Get-Work@GatewayAssociation.ca
URL:https://gatewayassociation.ca/calendar/growth-mindset-resiliency-in-job-search-7/
CATEGORIES:ERC
END:VEVENT
BEGIN:VEVENT
DTSTART;TZID=America/Denver:20230509T130000
DTEND;TZID=America/Denver:20230509T140000
DTSTAMP:20260421T061159
CREATED:20230410T220826Z
LAST-MODIFIED:20230410T220826Z
UID:250361-1683637200-1683640800@gatewayassociation.ca
SUMMARY:You TOO Can YouTube Series (2/4)
DESCRIPTION:Session: 2 of 4 \nDuration: 1 hr \nFacilitator: Toby \nPrivate – GTDI Program intake required prior to workshop: getdigital@gatewayassociation.ca \nLearn about being a YouTube viewer and a YouTube creator. Find out how to make your own YouTube Channel and what to consider when you are choosing videos to watch. Create YouTube content\, learn about what to consider when watching videos as well as how to save and organize videos.
URL:https://gatewayassociation.ca/calendar/you-too-can-youtube-series-2-4-5/
END:VEVENT
BEGIN:VEVENT
DTSTART;TZID=America/Denver:20230509T160000
DTEND;TZID=America/Denver:20230509T180000
DTSTAMP:20260421T061159
CREATED:20230424T155139Z
LAST-MODIFIED:20230424T155139Z
UID:250459-1683648000-1683655200@gatewayassociation.ca
SUMMARY:Animation in Scratch (1/2)
DESCRIPTION:Scratch\, is a beginner-level programming environment. It was developed at the MIT Media Lab and shared as an open-source (and FREE) resource for people to dip their toes into the world of code. No computer science or coding experience is required just bring your imagination.  Participants will be able to create stories\, games\, and animations they can share with their family & friends or other like-minded people around the world. It can also be a great introduction or gateway to the theory and logic needed in more complex programming languages and environments. \nThis workshop will go through guided activities to build in the knowledge from Introducing to Coding with Scratch from the first workshop. In this workshop\, we will review what animation is\, and the elements required to turn a picture into something that appears to move. Traditionally\, animation involves drawing several pictures\, sometimes thousands\, and then playing them in sequence to create the illusion of movement. Today\, we have digital tools that help us create animations more easily by letting us control characters\, backgrounds\, and even sounds with code. We will apply these concepts and go through an exercise in order for the participant to turn static images (aka Sprites) into an animated project of the participant’s own creation. \nSign Up HERE
URL:https://gatewayassociation.ca/calendar/animation-in-scratch-1-2/
END:VEVENT
BEGIN:VEVENT
DTSTART;TZID=America/Denver:20230509T190000
DTEND;TZID=America/Denver:20230509T210000
DTSTAMP:20260421T061159
CREATED:20221028T171457Z
LAST-MODIFIED:20230428T194659Z
UID:249150-1683658800-1683666000@gatewayassociation.ca
SUMMARY:Families Forward\, Under 18
DESCRIPTION:Families Forward\, Under 18 \nTuesday\, May 9 \n7pm – 9pm | Zoom \nMonthly meeting for families with children under 18 with disabilities. \nWhere families can connect with other families\, learn from one another\, and explore issues that are important\, such as schooling\, leadership\, and community and government support. \nMay topic: \nJoin us and with FUNctional Therapy! \nWe love to support clients and families in many environments! We see clients at Functional Place in St. Albert\, at home\, in schools\, parks\, and community settings. \nOur team of therapists value COLLABORATION and FUN while providing evidence based treatment to children. We walk with clients on their journey as simple or as complicated as it is – we honor the process and find ways to bring a wholistic and safe approach into our sessions. \nWhether it is through FSCD\, Jordan’s Principle\, schools or privately\, we have experienced therapists in all areas and enjoy the creativity that comes with partnering with families all across Alberta. \nFor accommodations and questions\, please connect with Stacy@GatewayAssociation.ca \nRegister HERE \nFT Postcard
URL:https://gatewayassociation.ca/calendar/families-forward-under-18-7/
CATEGORIES:FRC
END:VEVENT
END:VCALENDAR