BEGIN:VCALENDAR
VERSION:2.0
PRODID:-//Gateway Association - ECPv6.15.20//NONSGML v1.0//EN
CALSCALE:GREGORIAN
METHOD:PUBLISH
X-WR-CALNAME:Gateway Association
X-ORIGINAL-URL:https://gatewayassociation.ca
X-WR-CALDESC:Events for Gateway Association
REFRESH-INTERVAL;VALUE=DURATION:PT1H
X-Robots-Tag:noindex
X-PUBLISHED-TTL:PT1H
BEGIN:VTIMEZONE
TZID:America/Denver
BEGIN:DAYLIGHT
TZOFFSETFROM:-0700
TZOFFSETTO:-0600
TZNAME:MDT
DTSTART:20220313T090000
END:DAYLIGHT
BEGIN:STANDARD
TZOFFSETFROM:-0600
TZOFFSETTO:-0700
TZNAME:MST
DTSTART:20221106T080000
END:STANDARD
BEGIN:DAYLIGHT
TZOFFSETFROM:-0700
TZOFFSETTO:-0600
TZNAME:MDT
DTSTART:20230312T090000
END:DAYLIGHT
BEGIN:STANDARD
TZOFFSETFROM:-0600
TZOFFSETTO:-0700
TZNAME:MST
DTSTART:20231105T080000
END:STANDARD
BEGIN:DAYLIGHT
TZOFFSETFROM:-0700
TZOFFSETTO:-0600
TZNAME:MDT
DTSTART:20240310T090000
END:DAYLIGHT
BEGIN:STANDARD
TZOFFSETFROM:-0600
TZOFFSETTO:-0700
TZNAME:MST
DTSTART:20241103T080000
END:STANDARD
END:VTIMEZONE
BEGIN:VEVENT
DTSTART;TZID=America/Denver:20230524T110000
DTEND;TZID=America/Denver:20230524T120000
DTSTAMP:20260421T062314
CREATED:20230410T222856Z
LAST-MODIFIED:20230410T222856Z
UID:250390-1684926000-1684929600@gatewayassociation.ca
SUMMARY:ePortfolio Series (2/3)
DESCRIPTION:Session 2 of 3 \nDuration 1 hr \nFacilitator: Lee \nPrivate – GTDI Program intake required prior to workshop: getdigital@gatewayassociation.ca \n\nIn the eportfolio workshop series\, participants will learn about the different types of portfolios\, how to use google sites\, and the basics of layout and design. Learners will choose the type of portfolio they want to build and the subject they want to focus on. They will select and add content to their sites along with descriptions\, statements about their motivation\, interests\, skills\, and hobbies. Learners will work on their own between classes.
URL:https://gatewayassociation.ca/calendar/eportfolio-series-2-3-6/
END:VEVENT
BEGIN:VEVENT
DTSTART;TZID=America/Denver:20230524T130000
DTEND;TZID=America/Denver:20230524T140000
DTSTAMP:20260421T062314
CREATED:20230417T115042Z
LAST-MODIFIED:20230417T115051Z
UID:250405-1684933200-1684936800@gatewayassociation.ca
SUMMARY:Audio Editing with Audacity series (2/3)
DESCRIPTION:Session 2 of 3 \nDuration 1 hr \nFacilitator: Toby \nPrivate – GTDI Program intake required prior to workshop: getdigital@gatewayassociation.ca \nIn this 3 session workshop series participants will be guided through the steps to use Audacity software for basic audio editing. This series will focus on editing spoken dialogue.
URL:https://gatewayassociation.ca/calendar/audio-editing-with-audacity-series-2-3/
END:VEVENT
BEGIN:VEVENT
DTSTART;TZID=America/Denver:20230524T143000
DTEND;TZID=America/Denver:20230524T153000
DTSTAMP:20260421T062314
CREATED:20230417T115206Z
LAST-MODIFIED:20230417T115206Z
UID:250410-1684938600-1684942200@gatewayassociation.ca
SUMMARY:LinkedIn Learning
DESCRIPTION:Session 1 of 1 \nDuration 1 hr \nFacilitator: Toby \nPrivate – GTDI Program intake required prior to workshop: getdigital@gatewayassociation.ca \n\n***Requires an active library membership.** \nExplore LinkedIn website as a group\, learn how to: create an account\, search for course\, save and organize courses\, and customize your profile.
URL:https://gatewayassociation.ca/calendar/linkedin-learning-15/
END:VEVENT
BEGIN:VEVENT
DTSTART;TZID=America/Denver:20230524T150000
DTEND;TZID=America/Denver:20230524T163000
DTSTAMP:20260421T062314
CREATED:20230417T115244Z
LAST-MODIFIED:20230417T115244Z
UID:250412-1684940400-1684945800@gatewayassociation.ca
SUMMARY:OSC Boardgames
DESCRIPTION:Session: 1 of 1 \nDuration: 1.5 to 2 hr \nFacilitator: Lee \nPrivate – GTDI Program intake required prior to workshop signup: getdigital@gatewayassociation.ca . \n\n**Requires Online Social Connections – Discord and Steam Tutorials as well as desktop or laptop computer.** \nCome hang out! Learn about setting up online accounts\, meet new friends\, socialize\, and have fun playing boardgames online. Meet new friends\, practise new skills\, have fun!
URL:https://gatewayassociation.ca/calendar/osc-boardgames-38/
END:VEVENT
END:VCALENDAR