BEGIN:VCALENDAR
VERSION:2.0
PRODID:-//Gateway Association - ECPv6.15.20//NONSGML v1.0//EN
CALSCALE:GREGORIAN
METHOD:PUBLISH
X-ORIGINAL-URL:https://gatewayassociation.ca
X-WR-CALDESC:Events for Gateway Association
REFRESH-INTERVAL;VALUE=DURATION:PT1H
X-Robots-Tag:noindex
X-PUBLISHED-TTL:PT1H
BEGIN:VTIMEZONE
TZID:America/Denver
BEGIN:DAYLIGHT
TZOFFSETFROM:-0700
TZOFFSETTO:-0600
TZNAME:MDT
DTSTART:20220313T090000
END:DAYLIGHT
BEGIN:STANDARD
TZOFFSETFROM:-0600
TZOFFSETTO:-0700
TZNAME:MST
DTSTART:20221106T080000
END:STANDARD
BEGIN:DAYLIGHT
TZOFFSETFROM:-0700
TZOFFSETTO:-0600
TZNAME:MDT
DTSTART:20230312T090000
END:DAYLIGHT
BEGIN:STANDARD
TZOFFSETFROM:-0600
TZOFFSETTO:-0700
TZNAME:MST
DTSTART:20231105T080000
END:STANDARD
BEGIN:DAYLIGHT
TZOFFSETFROM:-0700
TZOFFSETTO:-0600
TZNAME:MDT
DTSTART:20240310T090000
END:DAYLIGHT
BEGIN:STANDARD
TZOFFSETFROM:-0600
TZOFFSETTO:-0700
TZNAME:MST
DTSTART:20241103T080000
END:STANDARD
END:VTIMEZONE
BEGIN:VEVENT
DTSTART;TZID=America/Denver:20230529T130000
DTEND;TZID=America/Denver:20230529T153000
DTSTAMP:20260421T061341
CREATED:20230501T201137Z
LAST-MODIFIED:20230509T184442Z
UID:250480-1685365200-1685374200@gatewayassociation.ca
SUMMARY:Mental Health Workshop Day with CMHA
DESCRIPTION:Gateway Association – YEG ERC\, invites all participants to join this in-person mental health awareness session. \nThis event will be facilitated by Canadian Mental Health Association. \nWhen: May 29\, 2023 from 1:00pm-3:15pm \nWhere: YEG Gateway Office – #201\, 10941 120st NW \nWhat: Mental Health Workshop Day \n\nWe will cover two CMHA courses through these sessions; Confronting the Discomfort and Stress Management \n\nConfront the Discomfort:\n\nAnxiety is a normal reaction to uncertainty during challenging times. However\, too much anxiety can take a toll on our daily lives and overall well-being. In this course\, you will learn a variety of tools to recognize and react to important warning signs and confront your discomfort in a positive and healthy way.\n\n\nStress Management\n\nMany people are experiencing increased levels of stress in our ever- changing world. This 1-hour course will look at how our minds and bodies react to stress\, and explore way to manage and cope with stress\, as well as how to establish balance in these uncertain times\n\n\n\n\nLight refreshments will be provided. \nTo register\, please connect with Jasmine@GatewayAssociation.ca
URL:https://gatewayassociation.ca/calendar/mental-health-workshop-day-with-cmha/
CATEGORIES:ERC
END:VEVENT
BEGIN:VEVENT
DTSTART;TZID=America/Denver:20230529T143000
DTEND;TZID=America/Denver:20230529T153000
DTSTAMP:20260421T061341
CREATED:20230417T115345Z
LAST-MODIFIED:20230417T115345Z
UID:250414-1685370600-1685374200@gatewayassociation.ca
SUMMARY:Explore Canva (1/2)
DESCRIPTION:Session 1 of 2 \nDuration 1 hr \nFacilitator: Toby \nPrivate – GTDI Program intake required prior to workshop: getdigital@gatewayassociation.ca \nLet your imagination be your guide as you create your own posters\, flyers\, cards\, videos\, and more to share information important to you.
URL:https://gatewayassociation.ca/calendar/explore-canva-1-2-4/
END:VEVENT
END:VCALENDAR