BEGIN:VCALENDAR
VERSION:2.0
PRODID:-//Gateway Association - ECPv6.15.20//NONSGML v1.0//EN
CALSCALE:GREGORIAN
METHOD:PUBLISH
X-ORIGINAL-URL:https://gatewayassociation.ca
X-WR-CALDESC:Events for Gateway Association
REFRESH-INTERVAL;VALUE=DURATION:PT1H
X-Robots-Tag:noindex
X-PUBLISHED-TTL:PT1H
BEGIN:VTIMEZONE
TZID:America/Denver
BEGIN:DAYLIGHT
TZOFFSETFROM:-0700
TZOFFSETTO:-0600
TZNAME:MDT
DTSTART:20220313T090000
END:DAYLIGHT
BEGIN:STANDARD
TZOFFSETFROM:-0600
TZOFFSETTO:-0700
TZNAME:MST
DTSTART:20221106T080000
END:STANDARD
BEGIN:DAYLIGHT
TZOFFSETFROM:-0700
TZOFFSETTO:-0600
TZNAME:MDT
DTSTART:20230312T090000
END:DAYLIGHT
BEGIN:STANDARD
TZOFFSETFROM:-0600
TZOFFSETTO:-0700
TZNAME:MST
DTSTART:20231105T080000
END:STANDARD
BEGIN:DAYLIGHT
TZOFFSETFROM:-0700
TZOFFSETTO:-0600
TZNAME:MDT
DTSTART:20240310T090000
END:DAYLIGHT
BEGIN:STANDARD
TZOFFSETFROM:-0600
TZOFFSETTO:-0700
TZNAME:MST
DTSTART:20241103T080000
END:STANDARD
END:VTIMEZONE
BEGIN:VEVENT
DTSTART;TZID=America/Denver:20230531T080000
DTEND;TZID=America/Denver:20230531T170000
DTSTAMP:20260421T061406
CREATED:20230601T040113Z
LAST-MODIFIED:20230601T040113Z
UID:250714-1685520000-1685552400@gatewayassociation.ca
SUMMARY:Digital Storytelling Showcase
DESCRIPTION:We all have stories. It’s important they are told.  \n\n\nAre you interested in seeing what Gateway Association’s Digital Storytelling series is all about? \n\n\nGateway Storyfinders are hosting an online public digital story screening on Wednesday\, June 14\, 2023 @ 4-5:30 pm (MST); showcasing some of the stories created within our Digital Storytelling sessions\, and the storytellers behind them. You’re invited! \n\n\nRegister at getdigital@gatewayassociation.ca
URL:https://gatewayassociation.ca/calendar/digital-storytelling-showcase/
END:VEVENT
BEGIN:VEVENT
DTSTART;TZID=America/Denver:20230531T130000
DTEND;TZID=America/Denver:20230531T140000
DTSTAMP:20260421T061406
CREATED:20230417T115615Z
LAST-MODIFIED:20230417T115615Z
UID:250422-1685538000-1685541600@gatewayassociation.ca
SUMMARY:File Management and PDFs (2/2)
DESCRIPTION:Session 2 of 2 \nDuration 1 hr \nFacilitator: Toby \nPrivate – GTDI Program intake required prior to workshop: getdigital@gatewayassociation.ca \n\nIn this workshop participants will learn about saving files\, organizing and finding files\, converting documents to pdfs\, what a is pdf\, and how to use pdfs.
URL:https://gatewayassociation.ca/calendar/file-management-and-pdfs-2-2-3/
END:VEVENT
END:VCALENDAR