BEGIN:VCALENDAR
VERSION:2.0
PRODID:-//Gateway Association - ECPv6.15.20//NONSGML v1.0//EN
CALSCALE:GREGORIAN
METHOD:PUBLISH
X-ORIGINAL-URL:https://gatewayassociation.ca
X-WR-CALDESC:Events for Gateway Association
REFRESH-INTERVAL;VALUE=DURATION:PT1H
X-Robots-Tag:noindex
X-PUBLISHED-TTL:PT1H
BEGIN:VTIMEZONE
TZID:America/Denver
BEGIN:DAYLIGHT
TZOFFSETFROM:-0700
TZOFFSETTO:-0600
TZNAME:MDT
DTSTART:20220313T090000
END:DAYLIGHT
BEGIN:STANDARD
TZOFFSETFROM:-0600
TZOFFSETTO:-0700
TZNAME:MST
DTSTART:20221106T080000
END:STANDARD
BEGIN:DAYLIGHT
TZOFFSETFROM:-0700
TZOFFSETTO:-0600
TZNAME:MDT
DTSTART:20230312T090000
END:DAYLIGHT
BEGIN:STANDARD
TZOFFSETFROM:-0600
TZOFFSETTO:-0700
TZNAME:MST
DTSTART:20231105T080000
END:STANDARD
BEGIN:DAYLIGHT
TZOFFSETFROM:-0700
TZOFFSETTO:-0600
TZNAME:MDT
DTSTART:20240310T090000
END:DAYLIGHT
BEGIN:STANDARD
TZOFFSETFROM:-0600
TZOFFSETTO:-0700
TZNAME:MST
DTSTART:20241103T080000
END:STANDARD
END:VTIMEZONE
BEGIN:VEVENT
DTSTART;TZID=America/Denver:20230706T110000
DTEND;TZID=America/Denver:20230706T120000
DTSTAMP:20260421T133426
CREATED:20230620T170200Z
LAST-MODIFIED:20230620T170200Z
UID:250726-1688641200-1688644800@gatewayassociation.ca
SUMMARY:Email Basics
DESCRIPTION:Session: 1 of 1 \nDuration: 1 hr \nFacilitator: Lee \nPrivate – GTDI Program intake required prior to workshop: getdigital@gatewayassociation.ca \n**For participants who have completed Email Basics\, and would like more practice** \nA session for participants who have take the Email Basics session and would like more practice in writing professional emails for their job search and workplace communication.
URL:https://gatewayassociation.ca/calendar/email-basics-31/
END:VEVENT
BEGIN:VEVENT
DTSTART;TZID=America/Denver:20230706T130000
DTEND;TZID=America/Denver:20230706T140000
DTSTAMP:20260421T133426
CREATED:20230620T170715Z
LAST-MODIFIED:20230620T170715Z
UID:250728-1688648400-1688652000@gatewayassociation.ca
SUMMARY:Zoom Basics
DESCRIPTION:Session: 1 of 1 \nDuration: 1 hr \nFacilitator: Toby \nPrivate – GTDI Program intake required prior to workshop: getdigital@gatewayassociation.ca \nLearn what you need to know to participate in online Zoom meetings. Explore all the cool features of the program\, practice your digital skills and build your zoom social skills.
URL:https://gatewayassociation.ca/calendar/zoom-basics-17/
END:VEVENT
END:VCALENDAR