BEGIN:VCALENDAR
VERSION:2.0
PRODID:-//Gateway Association - ECPv6.15.20//NONSGML v1.0//EN
CALSCALE:GREGORIAN
METHOD:PUBLISH
X-ORIGINAL-URL:https://gatewayassociation.ca
X-WR-CALDESC:Events for Gateway Association
REFRESH-INTERVAL;VALUE=DURATION:PT1H
X-Robots-Tag:noindex
X-PUBLISHED-TTL:PT1H
BEGIN:VTIMEZONE
TZID:America/Denver
BEGIN:DAYLIGHT
TZOFFSETFROM:-0700
TZOFFSETTO:-0600
TZNAME:MDT
DTSTART:20220313T090000
END:DAYLIGHT
BEGIN:STANDARD
TZOFFSETFROM:-0600
TZOFFSETTO:-0700
TZNAME:MST
DTSTART:20221106T080000
END:STANDARD
BEGIN:DAYLIGHT
TZOFFSETFROM:-0700
TZOFFSETTO:-0600
TZNAME:MDT
DTSTART:20230312T090000
END:DAYLIGHT
BEGIN:STANDARD
TZOFFSETFROM:-0600
TZOFFSETTO:-0700
TZNAME:MST
DTSTART:20231105T080000
END:STANDARD
BEGIN:DAYLIGHT
TZOFFSETFROM:-0700
TZOFFSETTO:-0600
TZNAME:MDT
DTSTART:20240310T090000
END:DAYLIGHT
BEGIN:STANDARD
TZOFFSETFROM:-0600
TZOFFSETTO:-0700
TZNAME:MST
DTSTART:20241103T080000
END:STANDARD
END:VTIMEZONE
BEGIN:VEVENT
DTSTART;TZID=America/Denver:20230711T100000
DTEND;TZID=America/Denver:20230711T130000
DTSTAMP:20260421T171227
CREATED:20230620T173356Z
LAST-MODIFIED:20230620T173356Z
UID:250772-1689069600-1689080400@gatewayassociation.ca
SUMMARY:Calgary Interview Roundtable: Learning and Laughing Together - Part One
DESCRIPTION:Join us for a dynamic and interactive workshop designed to help you ace your next job interview. In our Interview Roundtable\, you’ll have the opportunity to connect with fellow job seekers and share your experiences and insights. Our experienced facilitators will guide you through real-life interview scenarios and help you develop the skills and confidence you need to succeed. We would love to bring a bagged lunch and join us for Open Art from 1-3 pm. \nSpots are limited. To register\, please e-mail Marnie@gatewayassociation.ca. Registration will be first-come first-serve. \nPrivate in-person \nThis session will be co-facilitated by ERC participant\, Erin Fletcher\, and Career and Inclusion Consultant\, Marnie.
URL:https://gatewayassociation.ca/calendar/calgary-interview-roundtable-learning-and-laughing-together-part-one/
CATEGORIES:ERC
END:VEVENT
BEGIN:VEVENT
DTSTART;TZID=America/Denver:20230711T130000
DTEND;TZID=America/Denver:20230711T150000
DTSTAMP:20260421T171227
CREATED:20230620T173522Z
LAST-MODIFIED:20230620T173522Z
UID:250774-1689080400-1689087600@gatewayassociation.ca
SUMMARY:Open Art Studio- IN PERSON\, Calgary office
DESCRIPTION:OPEN♥ART  \nAn open-hearted Art Studio experience  \nTuesday\, July 11\, 1:00-3:00 PM  \nFacilitated by Maigan van der Giessen  \nTHIS SUMMER\,  Gateway Association is offering an IN-PERSON art workshop in Calgary @ The Commons\, 1206 20 ave SE  \nOPEN♥ART is a chance to create alongside others\, share and experiment with different art forms\, and have fun. Each month we try different approaches to art-making to inspire your inner artist and bring us together in creativity.   \nArtists of all levels and abilities are WELCOME!  \nSign up at getdigital@gatewayassociation.ca 
URL:https://gatewayassociation.ca/calendar/open-art-studio-in-person-calgary-office/
CATEGORIES:ERC
END:VEVENT
END:VCALENDAR