BEGIN:VCALENDAR
VERSION:2.0
PRODID:-//Gateway Association - ECPv6.15.20//NONSGML v1.0//EN
CALSCALE:GREGORIAN
METHOD:PUBLISH
X-WR-CALNAME:Gateway Association
X-ORIGINAL-URL:https://gatewayassociation.ca
X-WR-CALDESC:Events for Gateway Association
REFRESH-INTERVAL;VALUE=DURATION:PT1H
X-Robots-Tag:noindex
X-PUBLISHED-TTL:PT1H
BEGIN:VTIMEZONE
TZID:America/Denver
BEGIN:DAYLIGHT
TZOFFSETFROM:-0700
TZOFFSETTO:-0600
TZNAME:MDT
DTSTART:20220313T090000
END:DAYLIGHT
BEGIN:STANDARD
TZOFFSETFROM:-0600
TZOFFSETTO:-0700
TZNAME:MST
DTSTART:20221106T080000
END:STANDARD
BEGIN:DAYLIGHT
TZOFFSETFROM:-0700
TZOFFSETTO:-0600
TZNAME:MDT
DTSTART:20230312T090000
END:DAYLIGHT
BEGIN:STANDARD
TZOFFSETFROM:-0600
TZOFFSETTO:-0700
TZNAME:MST
DTSTART:20231105T080000
END:STANDARD
BEGIN:DAYLIGHT
TZOFFSETFROM:-0700
TZOFFSETTO:-0600
TZNAME:MDT
DTSTART:20240310T090000
END:DAYLIGHT
BEGIN:STANDARD
TZOFFSETFROM:-0600
TZOFFSETTO:-0700
TZNAME:MST
DTSTART:20241103T080000
END:STANDARD
END:VTIMEZONE
BEGIN:VEVENT
DTSTART;TZID=America/Denver:20231104T090000
DTEND;TZID=America/Denver:20231104T120000
DTSTAMP:20260421T061143
CREATED:20230720T182625Z
LAST-MODIFIED:20230720T182625Z
UID:250965-1699088400-1699099200@gatewayassociation.ca
SUMMARY:Finding the Right Staff (FMS Admin)
DESCRIPTION:Finding the Right Staff (FMS Admin) \nSaturday\, November 4 \n9:00am – 12:00pm | Online \n  \nA workshop for Family Managed Services Administrators that looks at using your vision plan to identify appropriate supports to help achieve \nThis workshop\, for Family Managed Services Administrators only\, looks at using the Individual Support Plan to help your staff create valued roles and enhance community connections. \nDetails: \n  \nFacilitator:  Miriam at miriam@GatewayAssociation.ca \nRegister HERE
URL:https://gatewayassociation.ca/calendar/finding-the-right-staff-fms-admin/
CATEGORIES:FRC
END:VEVENT
END:VCALENDAR