BEGIN:VCALENDAR
VERSION:2.0
PRODID:-//Gateway Association - ECPv6.15.20//NONSGML v1.0//EN
CALSCALE:GREGORIAN
METHOD:PUBLISH
X-ORIGINAL-URL:https://gatewayassociation.ca
X-WR-CALDESC:Events for Gateway Association
REFRESH-INTERVAL;VALUE=DURATION:PT1H
X-Robots-Tag:noindex
X-PUBLISHED-TTL:PT1H
BEGIN:VTIMEZONE
TZID:America/Denver
BEGIN:DAYLIGHT
TZOFFSETFROM:-0700
TZOFFSETTO:-0600
TZNAME:MDT
DTSTART:20220313T090000
END:DAYLIGHT
BEGIN:STANDARD
TZOFFSETFROM:-0600
TZOFFSETTO:-0700
TZNAME:MST
DTSTART:20221106T080000
END:STANDARD
BEGIN:DAYLIGHT
TZOFFSETFROM:-0700
TZOFFSETTO:-0600
TZNAME:MDT
DTSTART:20230312T090000
END:DAYLIGHT
BEGIN:STANDARD
TZOFFSETFROM:-0600
TZOFFSETTO:-0700
TZNAME:MST
DTSTART:20231105T080000
END:STANDARD
BEGIN:DAYLIGHT
TZOFFSETFROM:-0700
TZOFFSETTO:-0600
TZNAME:MDT
DTSTART:20240310T090000
END:DAYLIGHT
BEGIN:STANDARD
TZOFFSETFROM:-0600
TZOFFSETTO:-0700
TZNAME:MST
DTSTART:20241103T080000
END:STANDARD
END:VTIMEZONE
BEGIN:VEVENT
DTSTART;TZID=America/Denver:20231106T110000
DTEND;TZID=America/Denver:20231106T120000
DTSTAMP:20260421T061407
CREATED:20230817T142425Z
LAST-MODIFIED:20230817T142425Z
UID:251306-1699268400-1699272000@gatewayassociation.ca
SUMMARY:Google Drive (1 of 2)
DESCRIPTION:Session: 1 of 2 \nDuration: 1 hr \nFacilitator: Lee \nPrivate – GTDI Program intake required prior to workshop: getdigital@gatewayassociation.ca \n  \nLearn how to create a google accounts\, access google drive\, upload files\, create folders\, search for files. Group discussion on cloud storage\, strong passwords\, file naming conventions and keeping documents and folders organized.
URL:https://gatewayassociation.ca/calendar/google-drive-1-of-2-5/
END:VEVENT
BEGIN:VEVENT
DTSTART;TZID=America/Denver:20231106T130000
DTEND;TZID=America/Denver:20231106T140000
DTSTAMP:20260421T061407
CREATED:20230817T153818Z
LAST-MODIFIED:20230817T153818Z
UID:251314-1699275600-1699279200@gatewayassociation.ca
SUMMARY:LinkedIn Learning
DESCRIPTION:Session 1 of 1 \nDuration 1 hr \nFacilitator: Toby \nPrivate – GTDI Program intake required prior to workshop: getdigital@gatewayassociation.ca \n\n***Requires an active library membership.** \nExplore LinkedIn website as a group\, learn how to: create an account\, search for course\, save and organize courses\, and customize your profile.
URL:https://gatewayassociation.ca/calendar/linkedin-learning-20/
END:VEVENT
END:VCALENDAR