BEGIN:VCALENDAR
VERSION:2.0
PRODID:-//Gateway Association - ECPv6.15.20//NONSGML v1.0//EN
CALSCALE:GREGORIAN
METHOD:PUBLISH
X-ORIGINAL-URL:https://gatewayassociation.ca
X-WR-CALDESC:Events for Gateway Association
REFRESH-INTERVAL;VALUE=DURATION:PT1H
X-Robots-Tag:noindex
X-PUBLISHED-TTL:PT1H
BEGIN:VTIMEZONE
TZID:America/Denver
BEGIN:DAYLIGHT
TZOFFSETFROM:-0700
TZOFFSETTO:-0600
TZNAME:MDT
DTSTART:20220313T090000
END:DAYLIGHT
BEGIN:STANDARD
TZOFFSETFROM:-0600
TZOFFSETTO:-0700
TZNAME:MST
DTSTART:20221106T080000
END:STANDARD
BEGIN:DAYLIGHT
TZOFFSETFROM:-0700
TZOFFSETTO:-0600
TZNAME:MDT
DTSTART:20230312T090000
END:DAYLIGHT
BEGIN:STANDARD
TZOFFSETFROM:-0600
TZOFFSETTO:-0700
TZNAME:MST
DTSTART:20231105T080000
END:STANDARD
BEGIN:DAYLIGHT
TZOFFSETFROM:-0700
TZOFFSETTO:-0600
TZNAME:MDT
DTSTART:20240310T090000
END:DAYLIGHT
BEGIN:STANDARD
TZOFFSETFROM:-0600
TZOFFSETTO:-0700
TZNAME:MST
DTSTART:20241103T080000
END:STANDARD
END:VTIMEZONE
BEGIN:VEVENT
DTSTART;TZID=America/Denver:20231118T090000
DTEND;TZID=America/Denver:20231118T120000
DTSTAMP:20260419T210832
CREATED:20230720T183003Z
LAST-MODIFIED:20230720T183104Z
UID:250967-1700298000-1700308800@gatewayassociation.ca
SUMMARY:Understanding Disability (covering 3 different sessions)
DESCRIPTION:Understanding Disability \nSaturday\, November 18 \n9:00am – 12:00pm | Online \n  \nUnderstanding Disability workshop covers 3 part series: \n  \nUnderstanding Disability in Alberta \nA workshop for those who would like information about disability and initial government programs that can be accessed in Alberta. \nThis workshop is for caregivers and professionals to gain knowledge and bring awareness about services that support those with disabilities in Alberta. \n  \nUnderstanding Disability in the Transitioning Years \nA workshop that provides an overview of supports available to youth who are transitioning to adulthood. \nThis workshop is for caregivers and professionals who are supporting a young person who is transitioning to adulthood to think about their future in the community and access the right support. \n  \nUnderstanding Disability: Community Resources \nA workshop that explores community and government resources for adults with disabilities. \nThis workshop is for caregivers and professionals who are supporting an adult with a disability to ensure the proper supports are accessed for them to live a good life. The workshop will empower participants with the knowledge they need to begin planning for adulthood and seniorhood. \n  \nFacilitators: Yonique at Yonique@GatewayAssociation.ca and Shelley (facilitator) & Shelley@GatewayAssociation.ca \nRegister HERE
URL:https://gatewayassociation.ca/calendar/understanding-disability-covering-3-different-sessions/
CATEGORIES:FRC
END:VEVENT
END:VCALENDAR