BEGIN:VCALENDAR
VERSION:2.0
PRODID:-//Gateway Association - ECPv6.15.20//NONSGML v1.0//EN
CALSCALE:GREGORIAN
METHOD:PUBLISH
X-ORIGINAL-URL:https://gatewayassociation.ca
X-WR-CALDESC:Events for Gateway Association
REFRESH-INTERVAL;VALUE=DURATION:PT1H
X-Robots-Tag:noindex
X-PUBLISHED-TTL:PT1H
BEGIN:VTIMEZONE
TZID:America/Denver
BEGIN:DAYLIGHT
TZOFFSETFROM:-0700
TZOFFSETTO:-0600
TZNAME:MDT
DTSTART:20220313T090000
END:DAYLIGHT
BEGIN:STANDARD
TZOFFSETFROM:-0600
TZOFFSETTO:-0700
TZNAME:MST
DTSTART:20221106T080000
END:STANDARD
BEGIN:DAYLIGHT
TZOFFSETFROM:-0700
TZOFFSETTO:-0600
TZNAME:MDT
DTSTART:20230312T090000
END:DAYLIGHT
BEGIN:STANDARD
TZOFFSETFROM:-0600
TZOFFSETTO:-0700
TZNAME:MST
DTSTART:20231105T080000
END:STANDARD
BEGIN:DAYLIGHT
TZOFFSETFROM:-0700
TZOFFSETTO:-0600
TZNAME:MDT
DTSTART:20240310T090000
END:DAYLIGHT
BEGIN:STANDARD
TZOFFSETFROM:-0600
TZOFFSETTO:-0700
TZNAME:MST
DTSTART:20241103T080000
END:STANDARD
END:VTIMEZONE
BEGIN:VEVENT
DTSTART;TZID=America/Denver:20231122T100000
DTEND;TZID=America/Denver:20231122T113000
DTSTAMP:20260420T044340
CREATED:20230817T155227Z
LAST-MODIFIED:20230817T155227Z
UID:251342-1700647200-1700652600@gatewayassociation.ca
SUMMARY:Build a Website Series (2 of 9)
DESCRIPTION:Session: 2 of 9 \nDuration: 1.5 hours \nFacilitator: Lee \nPrivate – GTDI Program intake required prior to workshop: getdigital@gatewayassociation.ca \n\nBuild a Website is Part 3 of the Work Simulation. Completion of Part 1: Internet Basics\, and Part 2: Social Media Basics is recommended prior to taking this 3 week course. \nClasses are on Tues to Thurs for 1.5 hours per session. \nIncrease your digital and social media skills\, as you work in a team to build a website for an imaginary company. This is a tech-based work simulation\, where learners are ‘hired’ into positions at an imaginary tech company and work together to build a website for a simulated client. \nThis course covers basic: use of internet vocabulary and social media\, as well as web design while giving you experience with working on a team\, engaging with peers\, and giving presentations. Learn to design and build a website\, create and give presentations\, and practice your teamwork skills.
URL:https://gatewayassociation.ca/calendar/build-a-website-series-2-of-9-2/
END:VEVENT
BEGIN:VEVENT
DTSTART;TZID=America/Denver:20231122T100000
DTEND;TZID=America/Denver:20231122T150000
DTSTAMP:20260420T044340
CREATED:20231024T173625Z
LAST-MODIFIED:20231024T173625Z
UID:251628-1700647200-1700665200@gatewayassociation.ca
SUMMARY:DROP IN WEDNESDAYS at Calgary Employment Resource Centre
DESCRIPTION:DROP IN Wednesdays at the Calgary Employment Resource Centre \nFor job seekers\, each Wednesday drop in any time between 10am and 3pm to connect with ERC team members to work on resumes\, interview skills\, job search and meet other job seekers! \n1206 20 AVE SE \nCalgary\, AB
URL:https://gatewayassociation.ca/calendar/drop-in-wednesdays-at-calgary-employment-resource-centre/
CATEGORIES:ERC
END:VEVENT
BEGIN:VEVENT
DTSTART;TZID=America/Denver:20231122T130000
DTEND;TZID=America/Denver:20231122T140000
DTSTAMP:20260420T044340
CREATED:20230817T155924Z
LAST-MODIFIED:20230817T155924Z
UID:251362-1700658000-1700661600@gatewayassociation.ca
SUMMARY:You TOO Can YouTube (3 of 4)
DESCRIPTION:Session: 3 of 4 \nDuration: 1 hr \nFacilitator: Toby \nPrivate – GTDI Program intake required prior to workshop: getdigital@gatewayassociation.ca \n\nLearn about being a YouTube viewer and a YouTube creator. Find out how to make your own YouTube Channel and what to consider when you are choosing videos to watch. Create YouTube content\, learn about what to consider when watching videos as well as how to save and organize videos.
URL:https://gatewayassociation.ca/calendar/you-too-can-youtube-3-of-4-4/
END:VEVENT
BEGIN:VEVENT
DTSTART;TZID=America/Denver:20231122T143000
DTEND;TZID=America/Denver:20231122T153000
DTSTAMP:20260420T044340
CREATED:20230817T160046Z
LAST-MODIFIED:20230817T160046Z
UID:251366-1700663400-1700667000@gatewayassociation.ca
SUMMARY:File Management and PDFs (1 of 2)
DESCRIPTION:Session 1 of 2 \nDuration 1 hr \nFacilitator: Toby \nPrivate – GTDI Program intake required prior to workshop: getdigital@gatewayassociation.ca \n\nIn this workshop participants will learn about saving files\, organizing and finding files\, converting documents to pdfs\, what a is pdf\, and how to use pdfs.
URL:https://gatewayassociation.ca/calendar/file-management-and-pdfs-1-of-2-2/
END:VEVENT
BEGIN:VEVENT
DTSTART;TZID=America/Denver:20231122T150000
DTEND;TZID=America/Denver:20231122T163000
DTSTAMP:20260420T044340
CREATED:20231004T234810Z
LAST-MODIFIED:20231004T234810Z
UID:251520-1700665200-1700670600@gatewayassociation.ca
SUMMARY:Online Boardgames
DESCRIPTION:Session: 1 of 1 \nDuration: 1.5 to 2 hr \nFacilitator: Lee \nPrivate – GTDI Program intake required prior to workshop signup: getdigital@gatewayassociation.ca \n\n**Requires Online Social Connections – Discord and Steam Tutorials as well as desktop or laptop computer.** \nCome hang out! Learn about setting up online accounts\, meet new friends\, socialize\, and have fun playing boardgames online. Meet new friends\, practise new skills\, have fun!
URL:https://gatewayassociation.ca/calendar/online-boardgames-25/
END:VEVENT
BEGIN:VEVENT
DTSTART;TZID=America/Denver:20231122T180000
DTEND;TZID=America/Denver:20231122T210000
DTSTAMP:20260420T044340
CREATED:20230720T183709Z
LAST-MODIFIED:20230720T183709Z
UID:250969-1700676000-1700686800@gatewayassociation.ca
SUMMARY:Persons with Developmental Disabilities (PDD) 101
DESCRIPTION:Persons with Developmental Disabilities (PDD) 101 \nWednesday\, November 22 \n6:00pm  – 9:00pm | Online \n  \nThis workshop is an introduction to\, and overview of\, PDD for those who may be eligible. \nYou will gain an understanding of the PDD program\, options available for service provision\, and information to determine the best supports for your family. \n  \nFacilitator: Miriam at miriam@gatewayassociation.ca \nRegister HERE
URL:https://gatewayassociation.ca/calendar/persons-with-developmental-disabilities-pdd-101-7/
CATEGORIES:FRC
END:VEVENT
END:VCALENDAR