BEGIN:VCALENDAR
VERSION:2.0
PRODID:-//Gateway Association - ECPv6.15.20//NONSGML v1.0//EN
CALSCALE:GREGORIAN
METHOD:PUBLISH
X-WR-CALNAME:Gateway Association
X-ORIGINAL-URL:https://gatewayassociation.ca
X-WR-CALDESC:Events for Gateway Association
REFRESH-INTERVAL;VALUE=DURATION:PT1H
X-Robots-Tag:noindex
X-PUBLISHED-TTL:PT1H
BEGIN:VTIMEZONE
TZID:America/Denver
BEGIN:DAYLIGHT
TZOFFSETFROM:-0700
TZOFFSETTO:-0600
TZNAME:MDT
DTSTART:20220313T090000
END:DAYLIGHT
BEGIN:STANDARD
TZOFFSETFROM:-0600
TZOFFSETTO:-0700
TZNAME:MST
DTSTART:20221106T080000
END:STANDARD
BEGIN:DAYLIGHT
TZOFFSETFROM:-0700
TZOFFSETTO:-0600
TZNAME:MDT
DTSTART:20230312T090000
END:DAYLIGHT
BEGIN:STANDARD
TZOFFSETFROM:-0600
TZOFFSETTO:-0700
TZNAME:MST
DTSTART:20231105T080000
END:STANDARD
BEGIN:DAYLIGHT
TZOFFSETFROM:-0700
TZOFFSETTO:-0600
TZNAME:MDT
DTSTART:20240310T090000
END:DAYLIGHT
BEGIN:STANDARD
TZOFFSETFROM:-0600
TZOFFSETTO:-0700
TZNAME:MST
DTSTART:20241103T080000
END:STANDARD
END:VTIMEZONE
BEGIN:VEVENT
DTSTART;TZID=America/Denver:20231125T090000
DTEND;TZID=America/Denver:20231125T150000
DTSTAMP:20260420T110126
CREATED:20230720T193350Z
LAST-MODIFIED:20230720T193542Z
UID:250974-1700902800-1700924400@gatewayassociation.ca
SUMMARY:Transition Planning for Adulthood Weekend Blitz (Day 2)
DESCRIPTION:Transition Planning for Adulthood Weekend Blitz \nFriday\, November 24 – 6:00-9:00pm | Hybrid \nSaturday\, November 25 – 9:00am-3:00pm | Hybrid \n  \nHYBRID EVENT: Choose to attend in-person or online \n  \nA weekend blitz exploring the critical transition to adulthood for 14-20 year-olds and how to create a plan for the future.  \nJoin our 3-part workshop series that engages families in building knowledge when navigating this critical time for 14-20 year olds. \nThis workshop series includes topics on: life transitions\, valued roles in the community\, visioning and planning\, and navigating the systems.  \n  \nBoth days must be attended to receive a certificate. \n  \nFacilitators: Yonique at Yonique@GatewayAssociation.ca and Shelley at Shelley@GatewayAssociation.ca \nRegister HERE
URL:https://gatewayassociation.ca/calendar/transition-planning-for-adulthood-weekend-blitz-day-2/
CATEGORIES:FRC
END:VEVENT
END:VCALENDAR