BEGIN:VCALENDAR
VERSION:2.0
PRODID:-//Gateway Association - ECPv6.15.20//NONSGML v1.0//EN
CALSCALE:GREGORIAN
METHOD:PUBLISH
X-ORIGINAL-URL:https://gatewayassociation.ca
X-WR-CALDESC:Events for Gateway Association
REFRESH-INTERVAL;VALUE=DURATION:PT1H
X-Robots-Tag:noindex
X-PUBLISHED-TTL:PT1H
BEGIN:VTIMEZONE
TZID:America/Denver
BEGIN:DAYLIGHT
TZOFFSETFROM:-0700
TZOFFSETTO:-0600
TZNAME:MDT
DTSTART:20220313T090000
END:DAYLIGHT
BEGIN:STANDARD
TZOFFSETFROM:-0600
TZOFFSETTO:-0700
TZNAME:MST
DTSTART:20221106T080000
END:STANDARD
BEGIN:DAYLIGHT
TZOFFSETFROM:-0700
TZOFFSETTO:-0600
TZNAME:MDT
DTSTART:20230312T090000
END:DAYLIGHT
BEGIN:STANDARD
TZOFFSETFROM:-0600
TZOFFSETTO:-0700
TZNAME:MST
DTSTART:20231105T080000
END:STANDARD
BEGIN:DAYLIGHT
TZOFFSETFROM:-0700
TZOFFSETTO:-0600
TZNAME:MDT
DTSTART:20240310T090000
END:DAYLIGHT
BEGIN:STANDARD
TZOFFSETFROM:-0600
TZOFFSETTO:-0700
TZNAME:MST
DTSTART:20241103T080000
END:STANDARD
END:VTIMEZONE
BEGIN:VEVENT
DTSTART;TZID=America/Denver:20231206T100000
DTEND;TZID=America/Denver:20231206T113000
DTSTAMP:20260421T030431
CREATED:20230817T155640Z
LAST-MODIFIED:20230817T155640Z
UID:251354-1701856800-1701862200@gatewayassociation.ca
SUMMARY:Build a Website Series (8 of 9)
DESCRIPTION:Session: 8 of 9 \nDuration: 1.5 hours \nFacilitator: Lee \nPrivate – GTDI Program intake required prior to workshop: getdigital@gatewayassociation.ca \n\nBuild a Website is Part 3 of the Work Simulation. Completion of Part 1: Internet Basics\, and Part 2: Social Media Basics is recommended prior to taking this 3 week course. \nClasses are on Tues to Thurs for 1.5 hours per session. \nIncrease your digital and social media skills\, as you work in a team to build a website for an imaginary company. This is a tech-based work simulation\, where learners are ‘hired’ into positions at an imaginary tech company and work together to build a website for a simulated client. \nThis course covers basic: use of internet vocabulary and social media\, as well as web design while giving you experience with working on a team\, engaging with peers\, and giving presentations. Learn to design and build a website\, create and give presentations\, and practice your teamwork skills.
URL:https://gatewayassociation.ca/calendar/build-a-website-series-8-of-9-2/
END:VEVENT
BEGIN:VEVENT
DTSTART;TZID=America/Denver:20231206T100000
DTEND;TZID=America/Denver:20231206T150000
DTSTAMP:20260421T030431
CREATED:20231024T174032Z
LAST-MODIFIED:20231024T174032Z
UID:251632-1701856800-1701874800@gatewayassociation.ca
SUMMARY:DROP IN WEDNESDAYS at the Calgary Employment Resource Centre
DESCRIPTION:DROP IN Wednesdays at the Calgary Employment Resource Centre \nFor job seekers\, each Wednesday drop in any time between 10am and 3pm to connect with ERC team members to work on resumes\, interview skills\, job search and meet other job seekers! \n1206 20 AVE SE \nCalgary\, AB
URL:https://gatewayassociation.ca/calendar/drop-in-wednesdays-at-the-calgary-employment-resource-centre-2/
CATEGORIES:ERC
END:VEVENT
BEGIN:VEVENT
DTSTART;TZID=America/Denver:20231206T130000
DTEND;TZID=America/Denver:20231206T140000
DTSTAMP:20260421T030431
CREATED:20230817T161138Z
LAST-MODIFIED:20230817T161138Z
UID:251388-1701867600-1701871200@gatewayassociation.ca
SUMMARY:Audio Editing with Audacity (3 of 3)
DESCRIPTION:Session 3 of 3 \nDuration 1 hr \nFacilitator: Toby \nPrivate – GTDI Program intake required prior to workshop: getdigital@gatewayassociation.ca \n\nIn this 3 session workshop series participants will be guided through the steps to use Audacity software for basic audio editing. This series will focus on editing spoken dialogue.
URL:https://gatewayassociation.ca/calendar/audio-editing-with-audacity-3-of-3-4/
END:VEVENT
BEGIN:VEVENT
DTSTART;TZID=America/Denver:20231206T143000
DTEND;TZID=America/Denver:20231206T153000
DTSTAMP:20260421T030431
CREATED:20230817T161221Z
LAST-MODIFIED:20230817T161221Z
UID:251390-1701873000-1701876600@gatewayassociation.ca
SUMMARY:Explore Canva (1 of 2)
DESCRIPTION:Session 1 of 2 \nDuration 1 hr \nFacilitator: Toby \nPrivate – GTDI Program intake required prior to workshop: getdigital@gatewayassociation.ca \n\nLet your imagination be your guide as you create your own posters\, flyers\, cards\, videos\, and more to share information important to you.
URL:https://gatewayassociation.ca/calendar/explore-canva-1-of-2-5/
END:VEVENT
BEGIN:VEVENT
DTSTART;TZID=America/Denver:20231206T150000
DTEND;TZID=America/Denver:20231206T163000
DTSTAMP:20260421T030431
CREATED:20230817T161325Z
LAST-MODIFIED:20230817T161325Z
UID:251394-1701874800-1701880200@gatewayassociation.ca
SUMMARY:Online Boardgames
DESCRIPTION:Session: 1 of 1 \nDuration: 1.5 to 2 hr \nFacilitator: Lee \nPrivate – GTDI Program intake required prior to workshop signup: getdigital@gatewayassociation.ca \n\n**Requires Online Social Connections – Discord and Steam Tutorials as well as desktop or laptop computer.** \nCome hang out! Learn about setting up online accounts\, meet new friends\, socialize\, and have fun playing boardgames online. Meet new friends\, practise new skills\, have fun!
URL:https://gatewayassociation.ca/calendar/online-boardgames-23/
END:VEVENT
END:VCALENDAR