BEGIN:VCALENDAR
VERSION:2.0
PRODID:-//Gateway Association - ECPv6.15.20//NONSGML v1.0//EN
CALSCALE:GREGORIAN
METHOD:PUBLISH
X-WR-CALNAME:Gateway Association
X-ORIGINAL-URL:https://gatewayassociation.ca
X-WR-CALDESC:Events for Gateway Association
REFRESH-INTERVAL;VALUE=DURATION:PT1H
X-Robots-Tag:noindex
X-PUBLISHED-TTL:PT1H
BEGIN:VTIMEZONE
TZID:America/Denver
BEGIN:DAYLIGHT
TZOFFSETFROM:-0700
TZOFFSETTO:-0600
TZNAME:MDT
DTSTART:20220313T090000
END:DAYLIGHT
BEGIN:STANDARD
TZOFFSETFROM:-0600
TZOFFSETTO:-0700
TZNAME:MST
DTSTART:20221106T080000
END:STANDARD
BEGIN:DAYLIGHT
TZOFFSETFROM:-0700
TZOFFSETTO:-0600
TZNAME:MDT
DTSTART:20230312T090000
END:DAYLIGHT
BEGIN:STANDARD
TZOFFSETFROM:-0600
TZOFFSETTO:-0700
TZNAME:MST
DTSTART:20231105T080000
END:STANDARD
BEGIN:DAYLIGHT
TZOFFSETFROM:-0700
TZOFFSETTO:-0600
TZNAME:MDT
DTSTART:20240310T090000
END:DAYLIGHT
BEGIN:STANDARD
TZOFFSETFROM:-0600
TZOFFSETTO:-0700
TZNAME:MST
DTSTART:20241103T080000
END:STANDARD
END:VTIMEZONE
BEGIN:VEVENT
DTSTART;TZID=America/Denver:20231207T100000
DTEND;TZID=America/Denver:20231207T113000
DTSTAMP:20260421T030130
CREATED:20230817T155717Z
LAST-MODIFIED:20230817T155717Z
UID:251356-1701943200-1701948600@gatewayassociation.ca
SUMMARY:Build a Website Series (9 of 9)
DESCRIPTION:Session: 9 of 9 \nDuration: 1.5 hours \nFacilitator: Lee \nPrivate – GTDI Program intake required prior to workshop: getdigital@gatewayassociation.ca \n\nBuild a Website is Part 3 of the Work Simulation. Completion of Part 1: Internet Basics\, and Part 2: Social Media Basics is recommended prior to taking this 3 week course. \nClasses are on Tues to Thurs for 1.5 hours per session. \nIncrease your digital and social media skills\, as you work in a team to build a website for an imaginary company. This is a tech-based work simulation\, where learners are ‘hired’ into positions at an imaginary tech company and work together to build a website for a simulated client. \nThis course covers basic: use of internet vocabulary and social media\, as well as web design while giving you experience with working on a team\, engaging with peers\, and giving presentations. Learn to design and build a website\, create and give presentations\, and practice your teamwork skills.
URL:https://gatewayassociation.ca/calendar/build-a-website-series-9-of-9-2/
END:VEVENT
BEGIN:VEVENT
DTSTART;TZID=America/Denver:20231207T143000
DTEND;TZID=America/Denver:20231207T153000
DTSTAMP:20260421T030130
CREATED:20230817T161253Z
LAST-MODIFIED:20230817T161253Z
UID:251392-1701959400-1701963000@gatewayassociation.ca
SUMMARY:Explore Canva (2 of 2)
DESCRIPTION:Session 2 of 2 \nDuration 1 hr \nFacilitator: Toby \nPrivate – GTDI Program intake required prior to workshop: getdigital@gatewayassociation.ca \n\nLet your imagination be your guide as you create your own posters\, flyers\, cards\, videos\, and more to share information important to you.
URL:https://gatewayassociation.ca/calendar/explore-canva-2-of-2-5/
END:VEVENT
BEGIN:VEVENT
DTSTART;TZID=America/Denver:20231207T180000
DTEND;TZID=America/Denver:20231207T193000
DTSTAMP:20260421T030130
CREATED:20231127T195735Z
LAST-MODIFIED:20231127T195735Z
UID:251753-1701972000-1701977400@gatewayassociation.ca
SUMMARY:Financial Literacy Series\, Session 2: Debt Smarts
DESCRIPTION:Gateway Association is offering the Each One Teach One Financial Literacy workshop series\, a 3-part financial literacy program covering basic budgeting. \nBy registering for Part 2\, you will partake in a 1.5 hr workshop of virtual and interactive zoom sessions\, covering Debt Smarts.\nThe topics that will be discussed are:\n✓ Tips to manage your debt\n✓ When it makes sense to get a consolidation loan\n✓ About the difference between consumer proposal and bankruptcy \nNote: We suggest that participants have some experience with or basic knowledge of financial institutions. \nIf you require any accommodations\, please let us know prior to the start date of the workshop series.\nThank you\,\ninfo@gatewayassociation.ca
URL:https://gatewayassociation.ca/calendar/financial-literacy-series-session-2-debt-smarts/
CATEGORIES:ERC,FRC,MentorAbility Alberta
END:VEVENT
END:VCALENDAR