BEGIN:VCALENDAR
VERSION:2.0
PRODID:-//Gateway Association - ECPv6.15.20//NONSGML v1.0//EN
CALSCALE:GREGORIAN
METHOD:PUBLISH
X-ORIGINAL-URL:https://gatewayassociation.ca
X-WR-CALDESC:Events for Gateway Association
REFRESH-INTERVAL;VALUE=DURATION:PT1H
X-Robots-Tag:noindex
X-PUBLISHED-TTL:PT1H
BEGIN:VTIMEZONE
TZID:America/Denver
BEGIN:DAYLIGHT
TZOFFSETFROM:-0700
TZOFFSETTO:-0600
TZNAME:MDT
DTSTART:20230312T090000
END:DAYLIGHT
BEGIN:STANDARD
TZOFFSETFROM:-0600
TZOFFSETTO:-0700
TZNAME:MST
DTSTART:20231105T080000
END:STANDARD
BEGIN:DAYLIGHT
TZOFFSETFROM:-0700
TZOFFSETTO:-0600
TZNAME:MDT
DTSTART:20240310T090000
END:DAYLIGHT
BEGIN:STANDARD
TZOFFSETFROM:-0600
TZOFFSETTO:-0700
TZNAME:MST
DTSTART:20241103T080000
END:STANDARD
BEGIN:DAYLIGHT
TZOFFSETFROM:-0700
TZOFFSETTO:-0600
TZNAME:MDT
DTSTART:20250309T090000
END:DAYLIGHT
BEGIN:STANDARD
TZOFFSETFROM:-0600
TZOFFSETTO:-0700
TZNAME:MST
DTSTART:20251102T080000
END:STANDARD
END:VTIMEZONE
BEGIN:VEVENT
DTSTART;TZID=America/Denver:20240710T090000
DTEND;TZID=America/Denver:20240710T120000
DTSTAMP:20260421T061345
CREATED:20240524T191156Z
LAST-MODIFIED:20240524T191156Z
UID:252738-1720602000-1720612800@gatewayassociation.ca
SUMMARY:Finding the Right Staff (for Family Managed Services Administrators Only)
DESCRIPTION:Finding the Right Staff (FMS)    \nA workshop for Family Managed Services Administrators covering your roles and responsibilities as an employer.\n\nWednesday\, July 10\n9:00 am – 12:00 pm\n\n\nThis workshop\, for Family Managed Services Administrators only\,  looks at using your vision plan to identify appropriate supports to help achieve your family member’s goals.\n\nYou will learn  how the Individual Support Plan is used to help your staff create valued roles and enhance community connections.\n\nThis workshop will provide you with:\n1. Your role and responsibilities as a Funds Administrator/Family Managed Services Administrator\n2. Interviewing and hiring staff\n3. Conflict resolution and staff retention\n\nQuestions? Contact Betty at Betty@GatewayAssociation.ca \nREGISTER HERE
URL:https://gatewayassociation.ca/calendar/finding-the-right-staff-for-family-managed-services-administrators-only/
CATEGORIES:FRC
END:VEVENT
BEGIN:VEVENT
DTSTART;TZID=America/Denver:20240710T110000
DTEND;TZID=America/Denver:20240710T120000
DTSTAMP:20260421T061345
CREATED:20240524T144535Z
LAST-MODIFIED:20240524T144535Z
UID:252677-1720609200-1720612800@gatewayassociation.ca
SUMMARY:Google Docs (1 of 2)
DESCRIPTION:Session: 1 of 2  \nDuration: 1 hr   \nFacilitator: Lee  \nPrivate – GTDI Program intake required prior to workshop: getdigital@gatewayassociation.ca  \n  \nIn this 2 session workshop series\, Participants will practice creating and sharing google documents\, explore the tools provided to help them write\, edit\, comment and chat. This workshop covers the Basics of google docs\, as well as file organization\, sharing\, and commenting.  
URL:https://gatewayassociation.ca/calendar/google-docs-1-of-2-12/
END:VEVENT
BEGIN:VEVENT
DTSTART;TZID=America/Denver:20240710T110000
DTEND;TZID=America/Denver:20240710T140000
DTSTAMP:20260421T061345
CREATED:20240704T191407Z
LAST-MODIFIED:20240704T191407Z
UID:252831-1720609200-1720620000@gatewayassociation.ca
SUMMARY:YYC Stampede BBQ
DESCRIPTION:Join the Calgary Employment Resource Centre for a Stampede Summer BBQ! The team wants to kick off the summer with the CERC participants while enjoying some good food and even better company! Please email us for more details and to let us know you will be joining! \nnikkitta@gatewayassociation.ca
URL:https://gatewayassociation.ca/calendar/yyc-stampede-bbq/
CATEGORIES:ERC
END:VEVENT
BEGIN:VEVENT
DTSTART;TZID=America/Denver:20240710T130000
DTEND;TZID=America/Denver:20240710T143000
DTSTAMP:20260421T061345
CREATED:20240524T145022Z
LAST-MODIFIED:20240524T145022Z
UID:252685-1720616400-1720621800@gatewayassociation.ca
SUMMARY:Internet Basics (3 of 4)
DESCRIPTION:Session 3 of 4  \nDuration 1.5 hr   \nFacilitator: Toby  \nPrivate – GTDI Program intake required prior to workshop: getdigital@gatewayassociation.ca  \n  \nThis 4 session workshop series (part 1 of the work simulation) helps learners find\, share\, and explore things online through a series of fun activities. Participants will use different google map features to find their way around town\, share their favourite places\, plan a vacation\, and compare different search engines. As a group\, learners will chat about fake news\, investigate stories on Snopes\, and chat about the media we take in everyday.  
URL:https://gatewayassociation.ca/calendar/internet-basics-3-of-4-5/
END:VEVENT
BEGIN:VEVENT
DTSTART;TZID=America/Denver:20240710T143000
DTEND;TZID=America/Denver:20240710T163000
DTSTAMP:20260421T061345
CREATED:20240524T145203Z
LAST-MODIFIED:20240524T145203Z
UID:252690-1720621800-1720629000@gatewayassociation.ca
SUMMARY:Online Boardgames
DESCRIPTION:Session: 1 of 1 \nDuration: 1.5 to 2 hr \nFacilitator: Lee \nPrivate – GTDI Program intake required prior to workshop signup: getdigital@gatewayassociation.ca \n\n**Requires Online Social Connections – Discord and Steam Tutorials as well as desktop or laptop computer.** \nCome hang out! Learn about setting up online accounts\, meet new friends\, socialize\, and have fun playing boardgames online. Meet new friends\, practise new skills\, have fun!
URL:https://gatewayassociation.ca/calendar/online-boardgames-46/
END:VEVENT
BEGIN:VEVENT
DTSTART;TZID=America/Denver:20240710T180000
DTEND;TZID=America/Denver:20240710T190000
DTSTAMP:20260421T061345
CREATED:20240524T191316Z
LAST-MODIFIED:20240524T191316Z
UID:252740-1720634400-1720638000@gatewayassociation.ca
SUMMARY:Understanding Disability in Alberta
DESCRIPTION:Understanding Disability in Alberta  \nWednesday\, July 10\n6:00 pm – 7:00 pm\n\nA workshop for those who would like information about disability and initial government programs that can be accessed in Alberta.\n\nThis workshop is for caregivers and professionals to gain knowledge and bring awareness about services that support those with disabilities in Alberta. Topics include: defining disability\, available government disability services\, eligibility\, and understanding and accessing forms.                                                                                                                                                                                                                                                                                                                                                                                                                                                                                Questions? Li (Facilitator) at li@gatewayassociation.ca \n\nREGISTER HERE
URL:https://gatewayassociation.ca/calendar/understanding-disability-in-alberta-7/
CATEGORIES:FRC
END:VEVENT
END:VCALENDAR