BEGIN:VCALENDAR
VERSION:2.0
PRODID:-//Gateway Association - ECPv6.15.20//NONSGML v1.0//EN
CALSCALE:GREGORIAN
METHOD:PUBLISH
X-ORIGINAL-URL:https://gatewayassociation.ca
X-WR-CALDESC:Events for Gateway Association
REFRESH-INTERVAL;VALUE=DURATION:PT1H
X-Robots-Tag:noindex
X-PUBLISHED-TTL:PT1H
BEGIN:VTIMEZONE
TZID:America/Denver
BEGIN:DAYLIGHT
TZOFFSETFROM:-0700
TZOFFSETTO:-0600
TZNAME:MDT
DTSTART:20230312T090000
END:DAYLIGHT
BEGIN:STANDARD
TZOFFSETFROM:-0600
TZOFFSETTO:-0700
TZNAME:MST
DTSTART:20231105T080000
END:STANDARD
BEGIN:DAYLIGHT
TZOFFSETFROM:-0700
TZOFFSETTO:-0600
TZNAME:MDT
DTSTART:20240310T090000
END:DAYLIGHT
BEGIN:STANDARD
TZOFFSETFROM:-0600
TZOFFSETTO:-0700
TZNAME:MST
DTSTART:20241103T080000
END:STANDARD
BEGIN:DAYLIGHT
TZOFFSETFROM:-0700
TZOFFSETTO:-0600
TZNAME:MDT
DTSTART:20250309T090000
END:DAYLIGHT
BEGIN:STANDARD
TZOFFSETFROM:-0600
TZOFFSETTO:-0700
TZNAME:MST
DTSTART:20251102T080000
END:STANDARD
END:VTIMEZONE
BEGIN:VEVENT
DTSTART;TZID=America/Denver:20240724T130000
DTEND;TZID=America/Denver:20240724T140000
DTSTAMP:20260421T061346
CREATED:20240524T150822Z
LAST-MODIFIED:20240524T150822Z
UID:252714-1721826000-1721829600@gatewayassociation.ca
SUMMARY:You TOO Can YouTube (3 of 4)
DESCRIPTION:Session: 3 of 4 \nDuration: 1 hr \nFacilitator: Toby \nPrivate – GTDI Program intake required prior to workshop: getdigital@gatewayassociation.ca \n\nLearn about being a YouTube viewer and a YouTube creator. Find out how to make your own YouTube Channel and what to consider when you are choosing videos to watch. Create YouTube content\, learn about what to consider when watching videos as well as how to save and organize videos.
URL:https://gatewayassociation.ca/calendar/you-too-can-youtube-3-of-4-9/
END:VEVENT
BEGIN:VEVENT
DTSTART;TZID=America/Denver:20240724T130000
DTEND;TZID=America/Denver:20240724T140000
DTSTAMP:20260421T061346
CREATED:20240704T191805Z
LAST-MODIFIED:20240704T191805Z
UID:252835-1721826000-1721829600@gatewayassociation.ca
SUMMARY:YYC Interview Roundtable Session
DESCRIPTION:Join us for this IN-PERSON\, dynamic and interactive workshop designed to help you ace your next job interview.  \nIn our Interview Roundtable\, you’ll have the opportunity to connect with fellow job seekers and share your experiences and insights. Our experienced facilitators will guide you through real-life interview scenarios and help you develop the skills and confidence you need to succeed.   \nTo register\, please connect with nikkitta@gatewayassociation.ca
URL:https://gatewayassociation.ca/calendar/yyc-interview-roundtable-session/
CATEGORIES:ERC
END:VEVENT
BEGIN:VEVENT
DTSTART;TZID=America/Denver:20240724T143000
DTEND;TZID=America/Denver:20240724T163000
DTSTAMP:20260421T061346
CREATED:20240524T151022Z
LAST-MODIFIED:20240524T151022Z
UID:252718-1721831400-1721838600@gatewayassociation.ca
SUMMARY:Online Boardgames
DESCRIPTION:Session: 1 of 1 \nDuration: 1.5 to 2 hr \nFacilitator: Lee \nPrivate – GTDI Program intake required prior to workshop signup: getdigital@gatewayassociation.ca \n\n**Requires Online Social Connections – Discord and Steam Tutorials as well as desktop or laptop computer.** \nCome hang out! Learn about setting up online accounts\, meet new friends\, socialize\, and have fun playing boardgames online. Meet new friends\, practise new skills\, have fun!
URL:https://gatewayassociation.ca/calendar/online-boardgames-48/
END:VEVENT
END:VCALENDAR