BEGIN:VCALENDAR
VERSION:2.0
PRODID:-//Gateway Association - ECPv6.15.20//NONSGML v1.0//EN
CALSCALE:GREGORIAN
METHOD:PUBLISH
X-ORIGINAL-URL:https://gatewayassociation.ca
X-WR-CALDESC:Events for Gateway Association
REFRESH-INTERVAL;VALUE=DURATION:PT1H
X-Robots-Tag:noindex
X-PUBLISHED-TTL:PT1H
BEGIN:VTIMEZONE
TZID:America/Denver
BEGIN:DAYLIGHT
TZOFFSETFROM:-0700
TZOFFSETTO:-0600
TZNAME:MDT
DTSTART:20230312T090000
END:DAYLIGHT
BEGIN:STANDARD
TZOFFSETFROM:-0600
TZOFFSETTO:-0700
TZNAME:MST
DTSTART:20231105T080000
END:STANDARD
BEGIN:DAYLIGHT
TZOFFSETFROM:-0700
TZOFFSETTO:-0600
TZNAME:MDT
DTSTART:20240310T090000
END:DAYLIGHT
BEGIN:STANDARD
TZOFFSETFROM:-0600
TZOFFSETTO:-0700
TZNAME:MST
DTSTART:20241103T080000
END:STANDARD
BEGIN:DAYLIGHT
TZOFFSETFROM:-0700
TZOFFSETTO:-0600
TZNAME:MDT
DTSTART:20250309T090000
END:DAYLIGHT
BEGIN:STANDARD
TZOFFSETFROM:-0600
TZOFFSETTO:-0700
TZNAME:MST
DTSTART:20251102T080000
END:STANDARD
END:VTIMEZONE
BEGIN:VEVENT
DTSTART;TZID=America/Denver:20240727T090000
DTEND;TZID=America/Denver:20240727T120000
DTSTAMP:20260421T060246
CREATED:20240524T191628Z
LAST-MODIFIED:20240524T191628Z
UID:252744-1722070800-1722081600@gatewayassociation.ca
SUMMARY:Persons with Developmental Disabilities (PDD) 101
DESCRIPTION:PDD 101     \nA workshop for caregivers to develop knowledge of Alberta’s government service known as Persons with Developmental Disabilities (PDD).\n\nSaturday\, July 27\n9:00 am – 12:00 pm\n\n\n“This workshop is an introduction to\, and overview of\, PDD for those who may be eligible. You will gain an understanding of the PDD program\, options available for service provision\, and information to determine the best supports for your family.\n\n This workshop will provide you with:\n\n1. An understanding of the PDD program’s role in supporting adults with developmental disabilities \n2. Knowledge of available options for service provision – Family Managed Supports (FMS) and PDD Service Providers (agency)\n3. Information to guide you in determining which type of service provision will best suit your family and adult child’s needs”\n\nQuestions?  Contact Miriam (facilitator) at miriam@gatewayassociation.ca \n\n\nREGISTER HERE
URL:https://gatewayassociation.ca/calendar/persons-with-developmental-disabilities-pdd-101-12/
CATEGORIES:FRC
END:VEVENT
END:VCALENDAR