BEGIN:VCALENDAR
VERSION:2.0
PRODID:-//Gateway Association - ECPv6.15.20//NONSGML v1.0//EN
CALSCALE:GREGORIAN
METHOD:PUBLISH
X-WR-CALNAME:Gateway Association
X-ORIGINAL-URL:https://gatewayassociation.ca
X-WR-CALDESC:Events for Gateway Association
REFRESH-INTERVAL;VALUE=DURATION:PT1H
X-Robots-Tag:noindex
X-PUBLISHED-TTL:PT1H
BEGIN:VTIMEZONE
TZID:America/Denver
BEGIN:DAYLIGHT
TZOFFSETFROM:-0700
TZOFFSETTO:-0600
TZNAME:MDT
DTSTART:20230312T090000
END:DAYLIGHT
BEGIN:STANDARD
TZOFFSETFROM:-0600
TZOFFSETTO:-0700
TZNAME:MST
DTSTART:20231105T080000
END:STANDARD
BEGIN:DAYLIGHT
TZOFFSETFROM:-0700
TZOFFSETTO:-0600
TZNAME:MDT
DTSTART:20240310T090000
END:DAYLIGHT
BEGIN:STANDARD
TZOFFSETFROM:-0600
TZOFFSETTO:-0700
TZNAME:MST
DTSTART:20241103T080000
END:STANDARD
BEGIN:DAYLIGHT
TZOFFSETFROM:-0700
TZOFFSETTO:-0600
TZNAME:MDT
DTSTART:20250309T090000
END:DAYLIGHT
BEGIN:STANDARD
TZOFFSETFROM:-0600
TZOFFSETTO:-0700
TZNAME:MST
DTSTART:20251102T080000
END:STANDARD
END:VTIMEZONE
BEGIN:VEVENT
DTSTART;TZID=America/Denver:20240815T110000
DTEND;TZID=America/Denver:20240815T120000
DTSTAMP:20260421T074456
CREATED:20240723T200405Z
LAST-MODIFIED:20240723T200405Z
UID:252961-1723719600-1723723200@gatewayassociation.ca
SUMMARY:Google Docs (2 of 2)
DESCRIPTION:Google Docs\nSession: 2 of 2  \nDuration: 1 hr   \nFacilitator: Lee  \nPrivate – GTDI Program intake required prior to workshop: getdigital@gatewayassociation.ca  \n  \nIn this 2 session workshop series\, Participants will practice creating and sharing google documents\, explore the tools provided to help them write\, edit\, comment and chat. This workshop covers the Basics of google docs\, as well as file organization\, sharing\, and commenting.  
URL:https://gatewayassociation.ca/calendar/google-docs-2-of-2-13/
END:VEVENT
BEGIN:VEVENT
DTSTART;TZID=America/Denver:20240815T130000
DTEND;TZID=America/Denver:20240815T140000
DTSTAMP:20260421T074456
CREATED:20240723T201222Z
LAST-MODIFIED:20240726T205216Z
UID:252968-1723726800-1723730400@gatewayassociation.ca
SUMMARY:You TOO Can YouTube (4 of 4)
DESCRIPTION:You TOO Can YouTube\nSession: 4 of 4 \nDuration: 1 hr \nFacilitator: Toby \nPrivate – GTDI Program intake required prior to workshop: getdigital@gatewayassociation.ca \n\nLearn about being a YouTube viewer and a YouTube creator. Find out how to make your own YouTube Channel and what to consider when you are choosing videos to watch. Create YouTube content\, learn about what to consider when watching videos as well as how to save and organize videos.
URL:https://gatewayassociation.ca/calendar/social-media-basics-3-of-4-3/
END:VEVENT
BEGIN:VEVENT
DTSTART;TZID=America/Denver:20240815T140000
DTEND;TZID=America/Denver:20240815T180000
DTSTAMP:20260421T074456
CREATED:20240807T165905Z
LAST-MODIFIED:20240807T165905Z
UID:252996-1723730400-1723744800@gatewayassociation.ca
SUMMARY:Gateway Games: Connect and Compete
DESCRIPTION:Gateway Games: Connect and Compete!\nThis event welcomes job seekers\, community members\, employers\, and stakeholders alike for an enriching experience. \nActivities Include: \n\nOutdoor Lawn Games: Unwind and connect over friendly competition.\nJeopardy Game Round: Test your knowledge and win exciting prizes!\nRefreshments: Enjoy drinks and snacks while mingling with fellow attendees.\nNetworking Opportunities: Forge new connections and explore potential opportunities.\nCommunity Building: Strengthen bonds within our community and foster collaboration.\n\nDon’t miss out on this chance to network\, have fun\, and contribute to building a stronger community together! \nPlease bring your own lawn chair if possible for added comfort! \nWhere:\nIt will take place at the park behind the Gateway Association office. \nQueen Mary Park. \nGetting Here:\nBus stops are located on 107th and 111th avenue. \nParking will be available at the Gateway Association office. \nRegister here: https://www.eventbrite.ca/e/946620466297?aff=oddtdtcreator
URL:https://gatewayassociation.ca/calendar/gateway-games-connect-and-compete/
CATEGORIES:ERC,FRC,MentorAbility Alberta
END:VEVENT
END:VCALENDAR