BEGIN:VCALENDAR
VERSION:2.0
PRODID:-//Gateway Association - ECPv6.15.20//NONSGML v1.0//EN
CALSCALE:GREGORIAN
METHOD:PUBLISH
X-WR-CALNAME:Gateway Association
X-ORIGINAL-URL:https://gatewayassociation.ca
X-WR-CALDESC:Events for Gateway Association
REFRESH-INTERVAL;VALUE=DURATION:PT1H
X-Robots-Tag:noindex
X-PUBLISHED-TTL:PT1H
BEGIN:VTIMEZONE
TZID:America/Denver
BEGIN:DAYLIGHT
TZOFFSETFROM:-0700
TZOFFSETTO:-0600
TZNAME:MDT
DTSTART:20230312T090000
END:DAYLIGHT
BEGIN:STANDARD
TZOFFSETFROM:-0600
TZOFFSETTO:-0700
TZNAME:MST
DTSTART:20231105T080000
END:STANDARD
BEGIN:DAYLIGHT
TZOFFSETFROM:-0700
TZOFFSETTO:-0600
TZNAME:MDT
DTSTART:20240310T090000
END:DAYLIGHT
BEGIN:STANDARD
TZOFFSETFROM:-0600
TZOFFSETTO:-0700
TZNAME:MST
DTSTART:20241103T080000
END:STANDARD
BEGIN:DAYLIGHT
TZOFFSETFROM:-0700
TZOFFSETTO:-0600
TZNAME:MDT
DTSTART:20250309T090000
END:DAYLIGHT
BEGIN:STANDARD
TZOFFSETFROM:-0600
TZOFFSETTO:-0700
TZNAME:MST
DTSTART:20251102T080000
END:STANDARD
END:VTIMEZONE
BEGIN:VEVENT
DTSTART;TZID=America/Denver:20240821T120000
DTEND;TZID=America/Denver:20240821T150000
DTSTAMP:20260421T075933
CREATED:20240704T195357Z
LAST-MODIFIED:20240704T195408Z
UID:252848-1724241600-1724252400@gatewayassociation.ca
SUMMARY:YYC Talent Show/Skill Share & Lunch
DESCRIPTION:Time for our hardworking participants to kick off their shoes and have some fun with a Talent Show and Skill Share! Are you into art? Can you play an instrument? Maybe you have some amazing dance moves! IF SO\, join us in CERC’s first ever Talent Show! Participants (and maybe some staff!) will have a chance to share their amazing skills with each other! Lunch provided at noon followed by the show\, see you there! \nTo learn more and to register\, connect with nikkitta@gatewayassociation.ca
URL:https://gatewayassociation.ca/calendar/yyc-talent-show-skill-share-lunch/
CATEGORIES:ERC
END:VEVENT
BEGIN:VEVENT
DTSTART;TZID=America/Denver:20240821T180000
DTEND;TZID=America/Denver:20240821T210000
DTSTAMP:20260421T075933
CREATED:20240722T151850Z
LAST-MODIFIED:20240722T151850Z
UID:252885-1724263200-1724274000@gatewayassociation.ca
SUMMARY:PDD 101  
DESCRIPTION:PDD 101\nA workshop for caregivers to develop knowledge of Alberta’s government service known as Persons with Developmental Disabilities (PDD).\n\nWednesday\, August 21\n6:00 pm – 9:00 pm\nOnline\n\n\n“This workshop is an introduction to\, and overview of\, PDD for those who may be eligible. You will gain an understanding of the PDD program\, options available for service provision\, and information to determine the best supports for your family.\n\n This workshop will provide you with:\n1. An understanding of the PDD program’s role in supporting adults with developmental disabilities\n2. Knowledge of available options for service provision – Family Managed Supports (FMS) and PDD Service Providers (agency)\n3. Information to guide you in determining which type of service provision will best suit your family and adult child’s needs”\n\nQuestions?  contact Shelley (facilitator) at Shelley@gatewayassociation.ca\n\nRegister here: https://www.eventbrite.ca/e/persons-with-developmental-disabilities-pdd-101-tickets-919689795937?aff=oddtdtcreator
URL:https://gatewayassociation.ca/calendar/pdd-101/
CATEGORIES:FRC
END:VEVENT
END:VCALENDAR