BEGIN:VCALENDAR
VERSION:2.0
PRODID:-//Gateway Association - ECPv6.15.20//NONSGML v1.0//EN
CALSCALE:GREGORIAN
METHOD:PUBLISH
X-ORIGINAL-URL:https://gatewayassociation.ca
X-WR-CALDESC:Events for Gateway Association
REFRESH-INTERVAL;VALUE=DURATION:PT1H
X-Robots-Tag:noindex
X-PUBLISHED-TTL:PT1H
BEGIN:VTIMEZONE
TZID:America/Denver
BEGIN:DAYLIGHT
TZOFFSETFROM:-0700
TZOFFSETTO:-0600
TZNAME:MDT
DTSTART:20230312T090000
END:DAYLIGHT
BEGIN:STANDARD
TZOFFSETFROM:-0600
TZOFFSETTO:-0700
TZNAME:MST
DTSTART:20231105T080000
END:STANDARD
BEGIN:DAYLIGHT
TZOFFSETFROM:-0700
TZOFFSETTO:-0600
TZNAME:MDT
DTSTART:20240310T090000
END:DAYLIGHT
BEGIN:STANDARD
TZOFFSETFROM:-0600
TZOFFSETTO:-0700
TZNAME:MST
DTSTART:20241103T080000
END:STANDARD
BEGIN:DAYLIGHT
TZOFFSETFROM:-0700
TZOFFSETTO:-0600
TZNAME:MDT
DTSTART:20250309T090000
END:DAYLIGHT
BEGIN:STANDARD
TZOFFSETFROM:-0600
TZOFFSETTO:-0700
TZNAME:MST
DTSTART:20251102T080000
END:STANDARD
END:VTIMEZONE
BEGIN:VEVENT
DTSTART;TZID=America/Denver:20240923T130000
DTEND;TZID=America/Denver:20240923T140000
DTSTAMP:20260421T063511
CREATED:20240704T184215Z
LAST-MODIFIED:20240704T185928Z
UID:252824-1727096400-1727100000@gatewayassociation.ca
SUMMARY:Edmonton Employment Resource Centre Info Session
DESCRIPTION:Join Gateway Association for a virtual Employment Resource Centre information session. \nThis session is for job seekers with disability or mental health-based barriers to learn about how Gateway Association can support you with achieving your employment goals! \nLearn about individualized supports and group workshops that will help you with: \n\nCareer development and action plans\nResume building\nInterview skills\nWorkplace communication\nOnboarding and training\nJob search and finding the right job for you\nKeeping your job!\nAND much more!\n\nFor additional accommodations or questions\, please connect with us at employment@gatewayassociation.ca \nRegister HERE
URL:https://gatewayassociation.ca/calendar/252824/
CATEGORIES:ERC
END:VEVENT
BEGIN:VEVENT
DTSTART;TZID=America/Denver:20240923T130000
DTEND;TZID=America/Denver:20240923T143000
DTSTAMP:20260421T063511
CREATED:20240816T164244Z
LAST-MODIFIED:20240816T164244Z
UID:253272-1727096400-1727101800@gatewayassociation.ca
SUMMARY:Social Media Basics (1 of 4)
DESCRIPTION:Social Media Basics\nSession 1 of 4  \nDuration 1.5 hr   \nFacilitator: Toby  \nPrivate – GTDI Program intake required prior to workshop: getdigital@gatewayassociation.ca  \n  \nSocial Media Basics is Part 2 of the Work Simulation. Completion of Part 1: Internet Basics is recommended prior to taking this 4 session workshop series.  \nIncrease your understanding and use of social media! In this workshop we will go through understanding different types of social media and their uses\, creating material for social media\, and managing your social media.  
URL:https://gatewayassociation.ca/calendar/social-media-basics-1-of-4-4/
END:VEVENT
END:VCALENDAR