BEGIN:VCALENDAR
VERSION:2.0
PRODID:-//Gateway Association - ECPv6.15.20//NONSGML v1.0//EN
CALSCALE:GREGORIAN
METHOD:PUBLISH
X-ORIGINAL-URL:https://gatewayassociation.ca
X-WR-CALDESC:Events for Gateway Association
REFRESH-INTERVAL;VALUE=DURATION:PT1H
X-Robots-Tag:noindex
X-PUBLISHED-TTL:PT1H
BEGIN:VTIMEZONE
TZID:America/Denver
BEGIN:DAYLIGHT
TZOFFSETFROM:-0700
TZOFFSETTO:-0600
TZNAME:MDT
DTSTART:20230312T090000
END:DAYLIGHT
BEGIN:STANDARD
TZOFFSETFROM:-0600
TZOFFSETTO:-0700
TZNAME:MST
DTSTART:20231105T080000
END:STANDARD
BEGIN:DAYLIGHT
TZOFFSETFROM:-0700
TZOFFSETTO:-0600
TZNAME:MDT
DTSTART:20240310T090000
END:DAYLIGHT
BEGIN:STANDARD
TZOFFSETFROM:-0600
TZOFFSETTO:-0700
TZNAME:MST
DTSTART:20241103T080000
END:STANDARD
BEGIN:DAYLIGHT
TZOFFSETFROM:-0700
TZOFFSETTO:-0600
TZNAME:MDT
DTSTART:20250309T090000
END:DAYLIGHT
BEGIN:STANDARD
TZOFFSETFROM:-0600
TZOFFSETTO:-0700
TZNAME:MST
DTSTART:20251102T080000
END:STANDARD
END:VTIMEZONE
BEGIN:VEVENT
DTSTART;TZID=America/Denver:20240925T130000
DTEND;TZID=America/Denver:20240925T143000
DTSTAMP:20260421T061423
CREATED:20240816T164347Z
LAST-MODIFIED:20240816T164347Z
UID:253276-1727269200-1727274600@gatewayassociation.ca
SUMMARY:Social Media Basics (3 of 4)
DESCRIPTION:Social Media Basics\nSession 3 of 4  \nDuration 1.5 hr   \nFacilitator: Toby  \nPrivate – GTDI Program intake required prior to workshop: getdigital@gatewayassociation.ca  \n  \nSocial Media Basics is Part 2 of the Work Simulation. Completion of Part 1: Internet Basics is recommended prior to taking this 4 session workshop series.  \nIncrease your understanding and use of social media! In this workshop we will go through understanding different types of social media and their uses\, creating material for social media\, and managing your social media.  
URL:https://gatewayassociation.ca/calendar/social-media-basics-3-of-4-5/
END:VEVENT
BEGIN:VEVENT
DTSTART;TZID=America/Denver:20240925T143000
DTEND;TZID=America/Denver:20240925T163000
DTSTAMP:20260421T061423
CREATED:20240816T164453Z
LAST-MODIFIED:20240816T164453Z
UID:253280-1727274600-1727281800@gatewayassociation.ca
SUMMARY:Online Boardgames
DESCRIPTION:Online Boardgames\nSession: 1 of 1 \nDuration: 1.5 to 2 hr \nFacilitator: Lee \nPrivate – GTDI Program intake required prior to workshop signup: getdigital@gatewayassociation.ca \n\n**Requires Online Social Connections – Discord and Steam Tutorials as well as desktop or laptop computer.** \nCome hang out! Learn about setting up online accounts\, meet new friends\, socialize\, and have fun playing boardgames online. Meet new friends\, practise new skills\, have fun!
URL:https://gatewayassociation.ca/calendar/online-boardgames-54/
END:VEVENT
BEGIN:VEVENT
DTSTART;TZID=America/Denver:20240925T160000
DTEND;TZID=America/Denver:20240925T170000
DTSTAMP:20260421T061423
CREATED:20240812T171703Z
LAST-MODIFIED:20240812T171703Z
UID:253188-1727280000-1727283600@gatewayassociation.ca
SUMMARY:Calgary Employment Resource Centre Information Session
DESCRIPTION:Employment Resource Centre Information Session\nJoin Gateway Association for a virtual Employment Resource Centre information session. \nThis session is for job seekers with disability or mental health-based barriers to learn about how Gateway Association can support you with achieving your employment goals! \nL earn about individualized supports and group workshops that will help you with: \n\nCareer development and action plans\nResume building\nInterview skills\nWorkplace communication\nOnboarding and training\nJob search and finding the right job for you\nKeeping your job!\nA ND much more!\n\nFor additional accommodations or questions\, please connect with us at Get-Work@GatewayAssociation.ca \nClick HERE to register
URL:https://gatewayassociation.ca/calendar/calgary-employment-resource-centre-information-session-3/
CATEGORIES:ERC
END:VEVENT
END:VCALENDAR