BEGIN:VCALENDAR
VERSION:2.0
PRODID:-//Gateway Association - ECPv6.15.20//NONSGML v1.0//EN
CALSCALE:GREGORIAN
METHOD:PUBLISH
X-ORIGINAL-URL:https://gatewayassociation.ca
X-WR-CALDESC:Events for Gateway Association
REFRESH-INTERVAL;VALUE=DURATION:PT1H
X-Robots-Tag:noindex
X-PUBLISHED-TTL:PT1H
BEGIN:VTIMEZONE
TZID:America/Denver
BEGIN:DAYLIGHT
TZOFFSETFROM:-0700
TZOFFSETTO:-0600
TZNAME:MDT
DTSTART:20230312T090000
END:DAYLIGHT
BEGIN:STANDARD
TZOFFSETFROM:-0600
TZOFFSETTO:-0700
TZNAME:MST
DTSTART:20231105T080000
END:STANDARD
BEGIN:DAYLIGHT
TZOFFSETFROM:-0700
TZOFFSETTO:-0600
TZNAME:MDT
DTSTART:20240310T090000
END:DAYLIGHT
BEGIN:STANDARD
TZOFFSETFROM:-0600
TZOFFSETTO:-0700
TZNAME:MST
DTSTART:20241103T080000
END:STANDARD
BEGIN:DAYLIGHT
TZOFFSETFROM:-0700
TZOFFSETTO:-0600
TZNAME:MDT
DTSTART:20250309T090000
END:DAYLIGHT
BEGIN:STANDARD
TZOFFSETFROM:-0600
TZOFFSETTO:-0700
TZNAME:MST
DTSTART:20251102T080000
END:STANDARD
END:VTIMEZONE
BEGIN:VEVENT
DTSTART;TZID=America/Denver:20241008T130000
DTEND;TZID=America/Denver:20241008T140000
DTSTAMP:20260421T042209
CREATED:20240911T184736Z
LAST-MODIFIED:20240911T184736Z
UID:253405-1728392400-1728396000@gatewayassociation.ca
SUMMARY:Explore Canva (1 of 2)
DESCRIPTION:Explore Canva\nSession 1 of 2  \nDuration 1 hr   \nFacilitator: Toby  \nPrivate – GTDI Program intake required prior to workshop: getdigital@gatewayassociation.ca  \n  \nLet your imagination be your guide as you create your own posters\, flyers\, cards\, videos\, and more to share information important to you. 
URL:https://gatewayassociation.ca/calendar/explore-canva-1-of-2-12/
END:VEVENT
BEGIN:VEVENT
DTSTART;TZID=America/Denver:20241008T130000
DTEND;TZID=America/Denver:20241008T140000
DTSTAMP:20260421T042209
CREATED:20240912T153543Z
LAST-MODIFIED:20240912T153543Z
UID:253452-1728392400-1728396000@gatewayassociation.ca
SUMMARY:Finding Your Purpose
DESCRIPTION:Finding Your Purpose \nDescription: Are you wondering what your purpose is? Stuck and not sure where to go? Then we have a workshop for you! Come join us for self exploration and learning. We will talk about what people need in life to grow and how we can access those resources. As well\, we will explore a personality test and leave the workshop with a deeper understanding of who we are and where we would like to go! \nTo learn more and to register\, please connect with us at Get-Work@GatewayAssociation.ca
URL:https://gatewayassociation.ca/calendar/finding-your-purpose-11/
CATEGORIES:ERC
END:VEVENT
BEGIN:VEVENT
DTSTART;TZID=America/Denver:20241008T180000
DTEND;TZID=America/Denver:20241008T200000
DTSTAMP:20260421T042209
CREATED:20240722T153424Z
LAST-MODIFIED:20240722T153424Z
UID:252906-1728410400-1728417600@gatewayassociation.ca
SUMMARY:Visioning & Planning 0-8 years (1 of 3)
DESCRIPTION:Visioning & Planning 0-8 years\n\nTuesdays \nOctober 8\nOctober 15\nOctober 22\n\n6:00 pm – 8:00 pm | Online\n\nA 3-part workshop series that empowers families of children with disabilities up to 8 years old with knowledge\, resources\, and more.\n\nThis is a workshop for parents/caregivers of children with disabilities from birth-8 years old with knowledge\, resources\, and a sense of direction for the future.\n\nWe will touch on a variety of topics including values and belonging in the community\, visioning and planning\, various transitions during early elementary school\, navigating various systems (FSCD) age appropriate for families with younger children as well as advocacy and having difficult conversations.\n\nQuestions? Stacy (facilitator) at Stacy@gatewayassociation.ca\n\n\nRegister here: https://www.eventbrite.ca/e/visioning-planning-0-8-years-tickets-945687505787?aff=oddtdtcreator
URL:https://gatewayassociation.ca/calendar/visioning-planning-0-8-years-1-of-3/
CATEGORIES:FRC
END:VEVENT
END:VCALENDAR