BEGIN:VCALENDAR
VERSION:2.0
PRODID:-//Gateway Association - ECPv6.15.20//NONSGML v1.0//EN
CALSCALE:GREGORIAN
METHOD:PUBLISH
X-WR-CALNAME:Gateway Association
X-ORIGINAL-URL:https://gatewayassociation.ca
X-WR-CALDESC:Events for Gateway Association
REFRESH-INTERVAL;VALUE=DURATION:PT1H
X-Robots-Tag:noindex
X-PUBLISHED-TTL:PT1H
BEGIN:VTIMEZONE
TZID:America/Denver
BEGIN:DAYLIGHT
TZOFFSETFROM:-0700
TZOFFSETTO:-0600
TZNAME:MDT
DTSTART:20230312T090000
END:DAYLIGHT
BEGIN:STANDARD
TZOFFSETFROM:-0600
TZOFFSETTO:-0700
TZNAME:MST
DTSTART:20231105T080000
END:STANDARD
BEGIN:DAYLIGHT
TZOFFSETFROM:-0700
TZOFFSETTO:-0600
TZNAME:MDT
DTSTART:20240310T090000
END:DAYLIGHT
BEGIN:STANDARD
TZOFFSETFROM:-0600
TZOFFSETTO:-0700
TZNAME:MST
DTSTART:20241103T080000
END:STANDARD
BEGIN:DAYLIGHT
TZOFFSETFROM:-0700
TZOFFSETTO:-0600
TZNAME:MDT
DTSTART:20250309T090000
END:DAYLIGHT
BEGIN:STANDARD
TZOFFSETFROM:-0600
TZOFFSETTO:-0700
TZNAME:MST
DTSTART:20251102T080000
END:STANDARD
END:VTIMEZONE
BEGIN:VEVENT
DTSTART;TZID=America/Denver:20241009T100000
DTEND;TZID=America/Denver:20241009T150000
DTSTAMP:20260421T061200
CREATED:20240906T211903Z
LAST-MODIFIED:20240906T211903Z
UID:253347-1728468000-1728486000@gatewayassociation.ca
SUMMARY:Calgary Drop In Wednesdays
DESCRIPTION:Drop In Wednesday CERC\nFor job seekers\, each Wednesday drop in any time between 10am and 3pm to connect with ERC team members to work on resumes\, interview skills\, job search and meet other job seekers!
URL:https://gatewayassociation.ca/calendar/calgary-drop-in-wednesdays-2/
CATEGORIES:ERC
END:VEVENT
BEGIN:VEVENT
DTSTART;TZID=America/Denver:20241009T110000
DTEND;TZID=America/Denver:20241009T120000
DTSTAMP:20260421T061200
CREATED:20240911T184929Z
LAST-MODIFIED:20240911T184929Z
UID:253409-1728471600-1728475200@gatewayassociation.ca
SUMMARY:Google Drive (1 of 2)
DESCRIPTION:Google Drive\nSession: 1 of 2  \nDuration: 1  hr  \nFacilitator: Lee   \nPrivate – GTDI Program intake required prior to workshop: getdigital@gatewayassociation.ca  \n  \nLearn how to create a google accounts\, access google drive\, upload files\, create folders\, search for files. Group discussion on cloud storage\, strong passwords\, file naming conventions and keeping documents and folders organized.  
URL:https://gatewayassociation.ca/calendar/google-drive-1-of-2-16/
END:VEVENT
BEGIN:VEVENT
DTSTART;TZID=America/Denver:20241009T130000
DTEND;TZID=America/Denver:20241009T140000
DTSTAMP:20260421T061200
CREATED:20240911T184827Z
LAST-MODIFIED:20240911T184827Z
UID:253407-1728478800-1728482400@gatewayassociation.ca
SUMMARY:Explore Canva (2 of 3)
DESCRIPTION:Explore Canva\nSession 2 of 2  \nDuration 1 hr   \nFacilitator: Toby  \nPrivate – GTDI Program intake required prior to workshop: getdigital@gatewayassociation.ca  \n  \nLet your imagination be your guide as you create your own posters\, flyers\, cards\, videos\, and more to share information important to you. 
URL:https://gatewayassociation.ca/calendar/explore-canva-2-of-3/
END:VEVENT
BEGIN:VEVENT
DTSTART;TZID=America/Denver:20241009T143000
DTEND;TZID=America/Denver:20241009T163000
DTSTAMP:20260421T061200
CREATED:20240911T184210Z
LAST-MODIFIED:20240911T184210Z
UID:253395-1728484200-1728491400@gatewayassociation.ca
SUMMARY:Online Boardgames
DESCRIPTION:Online Boardgames\nSession: 1 of 1 \nDuration: 1.5 to 2 hr \nFacilitator: Lee \nPrivate – GTDI Program intake required prior to workshop signup: getdigital@gatewayassociation.ca \n\n**Requires Online Social Connections – Discord and Steam Tutorials as well as desktop or laptop computer.** \nCome hang out! Learn about setting up online accounts\, meet new friends\, socialize\, and have fun playing boardgames online. Meet new friends\, practise new skills\, have fun!
URL:https://gatewayassociation.ca/calendar/online-boardgames-56/
END:VEVENT
BEGIN:VEVENT
DTSTART;TZID=America/Denver:20241009T180000
DTEND;TZID=America/Denver:20241009T210000
DTSTAMP:20260421T061200
CREATED:20240722T154114Z
LAST-MODIFIED:20240722T154114Z
UID:252913-1728496800-1728507600@gatewayassociation.ca
SUMMARY:Transition Planning to Adulthood (1 of 3)
DESCRIPTION:Transition Planning to Adulthood\nWednesdays  \nOctober 9 \nOctober 16 \nOctober 23 \n  \n6:00 pm – 9:00 pm \nOnline \n  \nPart 1: Visioning and Planning \nPart 2  Valued Roles \nPart 3  Valued Roles \n  \nA 3-part workshop series exploring the critical transition to adulthood for 14-20 year-olds and how to create a plan for the future. \nThis is a workshop series for parents/caregivers that engages families in building knowledge when navigating this critical time for 14-20 year olds. \nThis workshop series includes topics on: life transitions\, valued roles in the community\, visioning and planning\, and navigating the systems.   Note: All three workshops must be taken consecutively. \nQuestions? \nShelley (Facilitator) at Shelley@GatewayAssociation.ca \nRegister here: https://www.eventbrite.ca/e/transition-planning-to-adulthood-tickets-945710053227?aff=oddtdtcreator
URL:https://gatewayassociation.ca/calendar/transition-planning-to-adulthood-1-of-3/
CATEGORIES:FRC
END:VEVENT
BEGIN:VEVENT
DTSTART;TZID=America/Denver:20241009T183000
DTEND;TZID=America/Denver:20241009T203000
DTSTAMP:20260421T061200
CREATED:20240722T154601Z
LAST-MODIFIED:20240722T154601Z
UID:252919-1728498600-1728505800@gatewayassociation.ca
SUMMARY:Families Forward  
DESCRIPTION:Families Forward\nWednesday\, October 9 \n6:30 pm – 8:30 pm | Online \n  \nMonthly meeting for families supporting loved ones with disabilities. \nWhere families and caregivers can connect with other families\, learn from one another\, and hear about topics that are important to them. \nCome learn together\, problem solve\, create networks\, share staff\, find roommates\, discover resources\, learn to navigate systems\, think solutions and learn to advocate at this peer to peer caregiver meeting. \n  \nQuestions? Contact Stacy at stacy@GatewayAssociation.ca \nRegister here: https://www.eventbrite.ca/e/families-forward-tickets-945921224847?aff=oddtdtcreator
URL:https://gatewayassociation.ca/calendar/families-forward-2/
CATEGORIES:FRC
END:VEVENT
END:VCALENDAR