BEGIN:VCALENDAR
VERSION:2.0
PRODID:-//Gateway Association - ECPv6.15.20//NONSGML v1.0//EN
CALSCALE:GREGORIAN
METHOD:PUBLISH
X-ORIGINAL-URL:https://gatewayassociation.ca
X-WR-CALDESC:Events for Gateway Association
REFRESH-INTERVAL;VALUE=DURATION:PT1H
X-Robots-Tag:noindex
X-PUBLISHED-TTL:PT1H
BEGIN:VTIMEZONE
TZID:America/Denver
BEGIN:DAYLIGHT
TZOFFSETFROM:-0700
TZOFFSETTO:-0600
TZNAME:MDT
DTSTART:20230312T090000
END:DAYLIGHT
BEGIN:STANDARD
TZOFFSETFROM:-0600
TZOFFSETTO:-0700
TZNAME:MST
DTSTART:20231105T080000
END:STANDARD
BEGIN:DAYLIGHT
TZOFFSETFROM:-0700
TZOFFSETTO:-0600
TZNAME:MDT
DTSTART:20240310T090000
END:DAYLIGHT
BEGIN:STANDARD
TZOFFSETFROM:-0600
TZOFFSETTO:-0700
TZNAME:MST
DTSTART:20241103T080000
END:STANDARD
BEGIN:DAYLIGHT
TZOFFSETFROM:-0700
TZOFFSETTO:-0600
TZNAME:MDT
DTSTART:20250309T090000
END:DAYLIGHT
BEGIN:STANDARD
TZOFFSETFROM:-0600
TZOFFSETTO:-0700
TZNAME:MST
DTSTART:20251102T080000
END:STANDARD
END:VTIMEZONE
BEGIN:VEVENT
DTSTART;TZID=America/Denver:20241016T090000
DTEND;TZID=America/Denver:20241016T150000
DTSTAMP:20260421T061402
CREATED:20240926T162214Z
LAST-MODIFIED:20240926T162214Z
UID:253828-1729069200-1729090800@gatewayassociation.ca
SUMMARY:Career 360 Calgary
DESCRIPTION:Career 360 Calgary \nSpend the day with us on October 16th from 9:00 AM to 3:00 PM as we help you get ready for your job search! This event is all about job preparation\, offering various resources to help you start your job search! \nThe Details: \nWednesday October 16th\, 2024 \n@Gateway Calgary Office \n1206 20 Ave NE \n9am -3pm \n\n9:00-10:00am: Welcome – arrive and get settled into our Career 360 space. Enjoy snacks and beverages and connect with other attendees\n10:00 – 11:00am: Labour Market Trends – learn what industries are hiring\, which industries are not and which will be in high demand!\n11:00am – 12:00 pm: Mindset Matters; Boost Your Job Search! This session will help you build a positive mindset to improve your job search. Learn how to overcome self-doubt and embrace challenges. Whether you’re starting fresh or changing careers\, discover how the right mindset can lead you to success!\n12:00 – 1:00pm: Networking Lunch – Enjoy lunch on us while to get to know your fellow job seekers\n1:00 – 3:00pm: Mock Interviews – Practice your interview skills and get feedback from professionals\n\nSee you there! \nPlease connect with us if you have any dietary restriction or any accommodation needs: Get-Work@GatewayAssociation.ca
URL:https://gatewayassociation.ca/calendar/career-360-calgary/
CATEGORIES:ERC
END:VEVENT
BEGIN:VEVENT
DTSTART;TZID=America/Denver:20241016T100000
DTEND;TZID=America/Denver:20241016T150000
DTSTAMP:20260421T061402
CREATED:20240906T211933Z
LAST-MODIFIED:20240906T211933Z
UID:253349-1729072800-1729090800@gatewayassociation.ca
SUMMARY:Calgary Drop In Wednesdays
DESCRIPTION:Drop In Wednesday CERC\nFor job seekers\, each Wednesday drop in any time between 10am and 3pm to connect with ERC team members to work on resumes\, interview skills\, job search and meet other job seekers!
URL:https://gatewayassociation.ca/calendar/calgary-drop-in-wednesdays-3/
CATEGORIES:ERC
END:VEVENT
BEGIN:VEVENT
DTSTART;TZID=America/Denver:20241016T110000
DTEND;TZID=America/Denver:20241016T120000
DTSTAMP:20260421T061402
CREATED:20240911T185609Z
LAST-MODIFIED:20240911T185609Z
UID:253419-1729076400-1729080000@gatewayassociation.ca
SUMMARY:Google Docs (1 of 2)
DESCRIPTION:Google Docs\nSession: 1 of 2  \nDuration: 1 hr   \nFacilitator: Lee  \nPrivate – GTDI Program intake required prior to workshop: getdigital@gatewayassociation.ca  \n  \nIn this 2 session workshop series\, Participants will practice creating and sharing google documents\, explore the tools provided to help them write\, edit\, comment and chat. This workshop covers the Basics of google docs\, as well as file organization\, sharing\, and commenting.  
URL:https://gatewayassociation.ca/calendar/google-docs-1-of-2-15/
END:VEVENT
BEGIN:VEVENT
DTSTART;TZID=America/Denver:20241016T130000
DTEND;TZID=America/Denver:20241016T140000
DTSTAMP:20260421T061402
CREATED:20240911T185356Z
LAST-MODIFIED:20240911T185356Z
UID:253415-1729083600-1729087200@gatewayassociation.ca
SUMMARY:LinkedIn Profiles (2 of 3)
DESCRIPTION:LinkedIn Profiles\nSession: 2 of 3 \nDuration: 1 hr \nFacilitator: Toby \nPrivate – GTDI Program intake required prior to workshop: getdigital@gatewayassociation.ca \n\nBuild your own LinkedIn profile! Share your skills\, goals\, and experiences\, create job alerts\, and grow your online network.
URL:https://gatewayassociation.ca/calendar/linkedin-profiles-2-of-3-9/
END:VEVENT
BEGIN:VEVENT
DTSTART;TZID=America/Denver:20241016T143000
DTEND;TZID=America/Denver:20241016T163000
DTSTAMP:20260421T061402
CREATED:20240911T184240Z
LAST-MODIFIED:20240911T184240Z
UID:253397-1729089000-1729096200@gatewayassociation.ca
SUMMARY:Online Boardgames
DESCRIPTION:Online Boardgames\nSession: 1 of 1 \nDuration: 1.5 to 2 hr \nFacilitator: Lee \nPrivate – GTDI Program intake required prior to workshop signup: getdigital@gatewayassociation.ca \n\n**Requires Online Social Connections – Discord and Steam Tutorials as well as desktop or laptop computer.** \nCome hang out! Learn about setting up online accounts\, meet new friends\, socialize\, and have fun playing boardgames online. Meet new friends\, practise new skills\, have fun!
URL:https://gatewayassociation.ca/calendar/online-boardgames-57/
END:VEVENT
BEGIN:VEVENT
DTSTART;TZID=America/Denver:20241016T180000
DTEND;TZID=America/Denver:20241016T210000
DTSTAMP:20260421T061402
CREATED:20240722T154200Z
LAST-MODIFIED:20240722T154200Z
UID:252915-1729101600-1729112400@gatewayassociation.ca
SUMMARY:Transition Planning to Adulthood (2 of 3)
DESCRIPTION:Transition Planning to Adulthood\nWednesdays  \nOctober 9 \nOctober 16 \nOctober 23 \n  \n6:00 pm – 9:00 pm \nOnline \n  \nPart 1: Visioning and Planning \nPart 2  Valued Roles \nPart 3  Valued Roles \n  \nA 3-part workshop series exploring the critical transition to adulthood for 14-20 year-olds and how to create a plan for the future. \nThis is a workshop series for parents/caregivers that engages families in building knowledge when navigating this critical time for 14-20 year olds. \nThis workshop series includes topics on: life transitions\, valued roles in the community\, visioning and planning\, and navigating the systems.   Note: All three workshops must be taken consecutively. \nQuestions? \nShelley (Facilitator) at Shelley@GatewayAssociation.ca \nRegister here: https://www.eventbrite.ca/e/transition-planning-to-adulthood-tickets-945710053227?aff=oddtdtcreator
URL:https://gatewayassociation.ca/calendar/transition-planning-to-adulthood-2-of-3/
CATEGORIES:FRC
END:VEVENT
BEGIN:VEVENT
DTSTART;TZID=America/Denver:20241016T183000
DTEND;TZID=America/Denver:20241016T203000
DTSTAMP:20260421T061402
CREATED:20240830T174210Z
LAST-MODIFIED:20240830T174210Z
UID:253313-1729103400-1729110600@gatewayassociation.ca
SUMMARY:Online Claims Reimbursement Systems Training 
DESCRIPTION:Online Claims Reimbursement Systems Training \nWednesday\, October 16 \n6:30 pm – 8:30 pm | Online \n  \nA workshop for Family Managed Services Administrators focused on enhancing your understanding and management of the Online Claims Reimbursement (OCR) system. \nThis session will address common challenges and streamline your experience with the system\, ensuring you can utilize it confidently and efficiently. \nWorkshop Goals: \n\nUnderstanding the Agreement: Gain a deeper understanding of the FMS agreements and expectations of the OCR system.\nAccessing OCR: Learn the ins and outs of accessing the system effectively\, including navigation tips\, user support resources\, and troubleshooting common issues.\nCreating a Successful Claim: We’ll Walk you through the process of creating and submitting claims through the OCR system\, focusing on accuracy and timeliness to ensure successful processing.\nRecord Keeping and Preparing for Reviews: Enhance your skills in maintaining accurate records and preparing for periodic reviews.\n\n  \nQuestions? Contact Miriam (facilitator)  at Miriam@GatewayAssociation.ca \nRegister here: https://www.eventbrite.ca/e/fms-admin-online-claims-reimbursement-systems-training-tickets-995336055937?aff=oddtdtcreator 
URL:https://gatewayassociation.ca/calendar/online-claims-reimbursement-systems-training/
CATEGORIES:FRC
END:VEVENT
END:VCALENDAR