BEGIN:VCALENDAR
VERSION:2.0
PRODID:-//Gateway Association - ECPv6.15.20//NONSGML v1.0//EN
CALSCALE:GREGORIAN
METHOD:PUBLISH
X-ORIGINAL-URL:https://gatewayassociation.ca
X-WR-CALDESC:Events for Gateway Association
REFRESH-INTERVAL;VALUE=DURATION:PT1H
X-Robots-Tag:noindex
X-PUBLISHED-TTL:PT1H
BEGIN:VTIMEZONE
TZID:America/Denver
BEGIN:DAYLIGHT
TZOFFSETFROM:-0700
TZOFFSETTO:-0600
TZNAME:MDT
DTSTART:20230312T090000
END:DAYLIGHT
BEGIN:STANDARD
TZOFFSETFROM:-0600
TZOFFSETTO:-0700
TZNAME:MST
DTSTART:20231105T080000
END:STANDARD
BEGIN:DAYLIGHT
TZOFFSETFROM:-0700
TZOFFSETTO:-0600
TZNAME:MDT
DTSTART:20240310T090000
END:DAYLIGHT
BEGIN:STANDARD
TZOFFSETFROM:-0600
TZOFFSETTO:-0700
TZNAME:MST
DTSTART:20241103T080000
END:STANDARD
BEGIN:DAYLIGHT
TZOFFSETFROM:-0700
TZOFFSETTO:-0600
TZNAME:MDT
DTSTART:20250309T090000
END:DAYLIGHT
BEGIN:STANDARD
TZOFFSETFROM:-0600
TZOFFSETTO:-0700
TZNAME:MST
DTSTART:20251102T080000
END:STANDARD
END:VTIMEZONE
BEGIN:VEVENT
DTSTART;TZID=America/Denver:20241021T130000
DTEND;TZID=America/Denver:20241021T140000
DTSTAMP:20260421T061423
CREATED:20240909T143006Z
LAST-MODIFIED:20240909T143006Z
UID:253357-1729515600-1729519200@gatewayassociation.ca
SUMMARY:Edmonton Employment Resource Centre Information Session
DESCRIPTION:Edmonton Employment Resource Centre Information Session\nJoin Gateway Association for a virtual Employment Resource Centre information session. \nThis session is for job seekers with disability or mental health-based barriers to learn about how Gateway Association can support you with achieving your employment goals! \nL earn about individualized supports and group workshops that will help you with: \nFor additional accommodations or questions\, please connect with us at employment@gatewayassociation.ca \n\n\n\nCareer development and action plans\nResume building\nInterview skills\nWorkplace communication\nOnboarding and training\nJob search and finding the right job for you\nKeeping your job!\nAND much more!\n\n\n\nRegister HERE
URL:https://gatewayassociation.ca/calendar/edmonton-employment-resource-centre-information-session-2/
CATEGORIES:ERC
END:VEVENT
BEGIN:VEVENT
DTSTART;TZID=America/Denver:20241021T130000
DTEND;TZID=America/Denver:20241021T140000
DTSTAMP:20260421T061423
CREATED:20240911T185909Z
LAST-MODIFIED:20240911T185909Z
UID:253425-1729515600-1729519200@gatewayassociation.ca
SUMMARY:Google Slides (1 of 3)
DESCRIPTION:Google Slides\nSession: 1 of 3 \nDuration: 1 hr \nFacilitator: Toby \nPrivate – GTDI Program intake required prior to workshop: getdigital@gatewayassociation.ca \n\nLearn how to make your own presentations using Google Slides. We will go through what Google Slides is\, how to access it\, and how to create and modify your own presentation. We will look at using tools like Animation\, Transitions\, different formatting options\, and creating and using Themes.
URL:https://gatewayassociation.ca/calendar/google-slides-1-of-3/
END:VEVENT
BEGIN:VEVENT
DTSTART;TZID=America/Denver:20241021T180000
DTEND;TZID=America/Denver:20241021T190000
DTSTAMP:20260421T061423
CREATED:20240722T155058Z
LAST-MODIFIED:20240722T155058Z
UID:252925-1729533600-1729537200@gatewayassociation.ca
SUMMARY:FSCD 101 
DESCRIPTION:FSCD 101\nMonday\, October 21 \n6:00 pm – 7:00 pm | Online \n  \nFSCD 101 is an introduction to the Family Support for Children with Disabilities (FSCD) program. \nThe presentation will support families with understanding how to utilize their FSCD agreement and is intended for families that have received their first FSCD agreement. \nPrior to attending the session\, it would be helpful for families to review the Family Package\, sent to you by the Family Support Services (FSS) team\, as we will be referencing this document throughout the session. \n  \nTopics we will be going over include: \n\nthe different types of services and supports\nreviewing an example agreement\nrecords-keeping and invoicing requirements\nand more.\n\n  \nQuestions? Shelley (facilitator) at shelley@gatewayassociation.ca \nEventbrite Link: https://www.eventbrite.ca/e/946664267307?aff=oddtdtcreator
URL:https://gatewayassociation.ca/calendar/fscd-101-9/
CATEGORIES:FRC
END:VEVENT
END:VCALENDAR