BEGIN:VCALENDAR
VERSION:2.0
PRODID:-//Gateway Association - ECPv6.15.20//NONSGML v1.0//EN
CALSCALE:GREGORIAN
METHOD:PUBLISH
X-ORIGINAL-URL:https://gatewayassociation.ca
X-WR-CALDESC:Events for Gateway Association
REFRESH-INTERVAL;VALUE=DURATION:PT1H
X-Robots-Tag:noindex
X-PUBLISHED-TTL:PT1H
BEGIN:VTIMEZONE
TZID:America/Denver
BEGIN:DAYLIGHT
TZOFFSETFROM:-0700
TZOFFSETTO:-0600
TZNAME:MDT
DTSTART:20230312T090000
END:DAYLIGHT
BEGIN:STANDARD
TZOFFSETFROM:-0600
TZOFFSETTO:-0700
TZNAME:MST
DTSTART:20231105T080000
END:STANDARD
BEGIN:DAYLIGHT
TZOFFSETFROM:-0700
TZOFFSETTO:-0600
TZNAME:MDT
DTSTART:20240310T090000
END:DAYLIGHT
BEGIN:STANDARD
TZOFFSETFROM:-0600
TZOFFSETTO:-0700
TZNAME:MST
DTSTART:20241103T080000
END:STANDARD
BEGIN:DAYLIGHT
TZOFFSETFROM:-0700
TZOFFSETTO:-0600
TZNAME:MDT
DTSTART:20250309T090000
END:DAYLIGHT
BEGIN:STANDARD
TZOFFSETFROM:-0600
TZOFFSETTO:-0700
TZNAME:MST
DTSTART:20251102T080000
END:STANDARD
END:VTIMEZONE
BEGIN:VEVENT
DTSTART;TZID=America/Denver:20241030T100000
DTEND;TZID=America/Denver:20241030T150000
DTSTAMP:20260421T061403
CREATED:20240906T212041Z
LAST-MODIFIED:20240906T212041Z
UID:253353-1730282400-1730300400@gatewayassociation.ca
SUMMARY:Calgary Drop In Wednesdays
DESCRIPTION:Drop In Wednesday CERC\nFor job seekers\, each Wednesday drop in any time between 10am and 3pm to connect with ERC team members to work on resumes\, interview skills\, job search and meet other job seekers!
URL:https://gatewayassociation.ca/calendar/calgary-drop-in-wednesdays-5/
CATEGORIES:ERC
END:VEVENT
BEGIN:VEVENT
DTSTART;TZID=America/Denver:20241030T130000
DTEND;TZID=America/Denver:20241030T140000
DTSTAMP:20260421T061403
CREATED:20240911T190509Z
LAST-MODIFIED:20240911T190509Z
UID:253441-1730293200-1730296800@gatewayassociation.ca
SUMMARY:You TOO Can YouTube (3 of 4)
DESCRIPTION:You TOO Can YouTube\nSession: 3 of 4 \nDuration: 1 hr \nFacilitator: Toby \nPrivate – GTDI Program intake required prior to workshop: getdigital@gatewayassociation.ca \nLearn about being a YouTube viewer and a YouTube creator. Find out how to make your own YouTube Channel and what to consider when you are choosing videos to watch. Create YouTube content\, learn about what to consider when watching videos as well as how to save and organize videos.
URL:https://gatewayassociation.ca/calendar/you-too-can-youtube-3-of-4-10/
END:VEVENT
BEGIN:VEVENT
DTSTART;TZID=America/Denver:20241030T143000
DTEND;TZID=America/Denver:20241030T163000
DTSTAMP:20260421T061403
CREATED:20240911T184425Z
LAST-MODIFIED:20240911T184425Z
UID:253401-1730298600-1730305800@gatewayassociation.ca
SUMMARY:Online Boardgames
DESCRIPTION:Online Boardgames\nSession: 1 of 1 \nDuration: 1.5 to 2 hr \nFacilitator: Lee \nPrivate – GTDI Program intake required prior to workshop signup: getdigital@gatewayassociation.ca \n\n**Requires Online Social Connections – Discord and Steam Tutorials as well as desktop or laptop computer.** \nCome hang out! Learn about setting up online accounts\, meet new friends\, socialize\, and have fun playing boardgames online. Meet new friends\, practise new skills\, have fun!
URL:https://gatewayassociation.ca/calendar/online-boardgames-59/
END:VEVENT
BEGIN:VEVENT
DTSTART;TZID=America/Denver:20241030T160000
DTEND;TZID=America/Denver:20241030T170000
DTSTAMP:20260421T061403
CREATED:20240909T152746Z
LAST-MODIFIED:20240909T152746Z
UID:253366-1730304000-1730307600@gatewayassociation.ca
SUMMARY:Calgary Employment Resource Centre Information Session
DESCRIPTION:Calgary Employment Resource Centre Information Session\nJoin Gateway Association for a virtual Employment Resource Centre information session. \nThis session is for job seekers with disability or mental health-based barriers to learn about how Gateway Association can support you with achieving your employment goals! \nL earn about individualized supports and group workshops that will help you with: \n\nCareer development and action plans\nResume building\nInterview skills\nWorkplace communication\nOnboarding and training\nJob search and finding the right job for you\nKeeping your job!\nA ND much more!\n\nFor additional accommodations or questions\, please connect with us at Get-Work@GatewayAssociation.ca \nRegister HERE
URL:https://gatewayassociation.ca/calendar/calgary-employment-resource-centre-information-session-4/
CATEGORIES:ERC
END:VEVENT
BEGIN:VEVENT
DTSTART;TZID=America/Denver:20241030T180000
DTEND;TZID=America/Denver:20241030T210000
DTSTAMP:20260421T061403
CREATED:20240722T155247Z
LAST-MODIFIED:20240722T155247Z
UID:252927-1730311200-1730322000@gatewayassociation.ca
SUMMARY:PDD 101 
DESCRIPTION:PDD 101\nWednesday\, October 30\n6:00 pm – 9:00 pm | Online\n\n\nA workshop for caregivers to develop knowledge of Alberta’s government service known as Persons with Developmental Disabilities (PDD).\n\n“This workshop is an introduction to\, and overview of\, PDD for those who may be eligible. You will gain an understanding of the PDD program\, options available for service provision\, and information to determine the best supports for your family.\n\n This workshop will provide you with:\n1. An understanding of the PDD program’s role in supporting adults with developmental disabilities\n2. Knowledge of available options for service provision – Family Managed Supports (FMS) and PDD Service Providers (agency)\n3. Information to guide you in determining which type of service provision will best suit your family and adult child’s needs”\n\nQuestions?  Contact Shelley (facilitator) at shelley@gatewayassociation.ca\n\nRegister here: https://www.eventbrite.ca/e/persons-with-developmental-disabilities-pdd-101-tickets-946678018437?aff=oddtdtcreator
URL:https://gatewayassociation.ca/calendar/pdd-101-3/
CATEGORIES:FRC
END:VEVENT
END:VCALENDAR