BEGIN:VCALENDAR
VERSION:2.0
PRODID:-//Gateway Association - ECPv6.15.20//NONSGML v1.0//EN
CALSCALE:GREGORIAN
METHOD:PUBLISH
X-WR-CALNAME:Gateway Association
X-ORIGINAL-URL:https://gatewayassociation.ca
X-WR-CALDESC:Events for Gateway Association
REFRESH-INTERVAL;VALUE=DURATION:PT1H
X-Robots-Tag:noindex
X-PUBLISHED-TTL:PT1H
BEGIN:VTIMEZONE
TZID:America/Denver
BEGIN:DAYLIGHT
TZOFFSETFROM:-0700
TZOFFSETTO:-0600
TZNAME:MDT
DTSTART:20230312T090000
END:DAYLIGHT
BEGIN:STANDARD
TZOFFSETFROM:-0600
TZOFFSETTO:-0700
TZNAME:MST
DTSTART:20231105T080000
END:STANDARD
BEGIN:DAYLIGHT
TZOFFSETFROM:-0700
TZOFFSETTO:-0600
TZNAME:MDT
DTSTART:20240310T090000
END:DAYLIGHT
BEGIN:STANDARD
TZOFFSETFROM:-0600
TZOFFSETTO:-0700
TZNAME:MST
DTSTART:20241103T080000
END:STANDARD
BEGIN:DAYLIGHT
TZOFFSETFROM:-0700
TZOFFSETTO:-0600
TZNAME:MDT
DTSTART:20250309T090000
END:DAYLIGHT
BEGIN:STANDARD
TZOFFSETFROM:-0600
TZOFFSETTO:-0700
TZNAME:MST
DTSTART:20251102T080000
END:STANDARD
END:VTIMEZONE
BEGIN:VEVENT
DTSTART;TZID=America/Denver:20241102T090000
DTEND;TZID=America/Denver:20241102T160000
DTSTAMP:20260421T061241
CREATED:20240722T155558Z
LAST-MODIFIED:20240722T155558Z
UID:252931-1730538000-1730563200@gatewayassociation.ca
SUMMARY:Transition Planning to Adulthood:  Weekend Blitz\, Day 2
DESCRIPTION:Transition Planning to Adulthood:  Weekend Blitz\n\nFriday\, November 1 \n\n\n6:00 pm – 9:00 pm \n\n\n\n\n\nSaturday\, November 2 \n\n\n9:00 am – 4:00 pm \n\n\nOnline \n\n\n\n\n\nCovers the 3 part series in 2 days \n\n\n\n\n\nPart 1: Visioning and Planning \n\n\nPart 2  Valued Roles \n\n\nPart 3  Valued Roles \n\n\n\n\n\nA 3-part workshop series exploring the critical transition to adulthood for 14-20 year-olds and how to create a plan for the future. \n\n\n\n\n\nThis is a workshop series for parents/caregivers that engages families in building knowledge when navigating this critical time for 14-20 year olds. \n\n\n\n\n\nThis workshop series includes topics on: life transitions\, valued roles in the community\, visioning and planning\, and navigating the systems.   Note: All three workshops must be taken consecutively. \n\n\n\n\n\nQuestions? \n\n\nYonique (Facilitator) at Yonique@GatewayAssociation.ca
URL:https://gatewayassociation.ca/calendar/transition-planning-to-adulthood-weekend-blitz-day-2-2/
CATEGORIES:FRC
END:VEVENT
END:VCALENDAR