BEGIN:VCALENDAR
VERSION:2.0
PRODID:-//Gateway Association - ECPv6.15.20//NONSGML v1.0//EN
CALSCALE:GREGORIAN
METHOD:PUBLISH
X-WR-CALNAME:Gateway Association
X-ORIGINAL-URL:https://gatewayassociation.ca
X-WR-CALDESC:Events for Gateway Association
REFRESH-INTERVAL;VALUE=DURATION:PT1H
X-Robots-Tag:noindex
X-PUBLISHED-TTL:PT1H
BEGIN:VTIMEZONE
TZID:America/Denver
BEGIN:DAYLIGHT
TZOFFSETFROM:-0700
TZOFFSETTO:-0600
TZNAME:MDT
DTSTART:20230312T090000
END:DAYLIGHT
BEGIN:STANDARD
TZOFFSETFROM:-0600
TZOFFSETTO:-0700
TZNAME:MST
DTSTART:20231105T080000
END:STANDARD
BEGIN:DAYLIGHT
TZOFFSETFROM:-0700
TZOFFSETTO:-0600
TZNAME:MDT
DTSTART:20240310T090000
END:DAYLIGHT
BEGIN:STANDARD
TZOFFSETFROM:-0600
TZOFFSETTO:-0700
TZNAME:MST
DTSTART:20241103T080000
END:STANDARD
BEGIN:DAYLIGHT
TZOFFSETFROM:-0700
TZOFFSETTO:-0600
TZNAME:MDT
DTSTART:20250309T090000
END:DAYLIGHT
BEGIN:STANDARD
TZOFFSETFROM:-0600
TZOFFSETTO:-0700
TZNAME:MST
DTSTART:20251102T080000
END:STANDARD
END:VTIMEZONE
BEGIN:VEVENT
DTSTART;TZID=America/Denver:20241105T080000
DTEND;TZID=America/Denver:20241105T170000
DTSTAMP:20260421T114240
CREATED:20241105T210241Z
LAST-MODIFIED:20241105T210241Z
UID:254132-1730793600-1730826000@gatewayassociation.ca
SUMMARY:Online Claims Reimbursement Systems Training
DESCRIPTION:Online Claims Reimbursement Systems Training\nMonday\, February 24 \n6:30 pm – 8:30 pm | Online \n  \nA workshop for Family Managed Services Administrators focused on enhancing your understanding and management of the Online Claims Reimbursement (OCR) system. \nThis session will address common challenges and streamline your experience with the system\, ensuring you can utilize it confidently and efficiently. \nWorkshop Goals: \n\nUnderstanding the Agreement: Gain a deeper understanding of the FMS agreements and expectations of the OCR system.\nAccessing OCR: Learn the ins and outs of accessing the system effectively\, including navigation tips\, user support resources\, and troubleshooting common issues.\nCreating a Successful Claim: We’ll walk you through the process of creating and submitting claims through the OCR system\, focusing on accuracy and timeliness to ensure successful processing.\nRecord Keeping and Preparing for Reviews: Enhance your skills in maintaining accurate records and preparing for periodic reviews.\n\n  \nQuestions? Contact Betty at Betty@GatewayAssociation.ca \nREGISTER HERE
URL:https://gatewayassociation.ca/calendar/online-claims-reimbursement-systems-training-2/
CATEGORIES:FRC
END:VEVENT
BEGIN:VEVENT
DTSTART;TZID=America/Denver:20241105T080000
DTEND;TZID=America/Denver:20241105T170000
DTSTAMP:20260421T114240
CREATED:20241105T210627Z
LAST-MODIFIED:20241105T210627Z
UID:254136-1730793600-1730826000@gatewayassociation.ca
SUMMARY:FMS Admin: Abuse Prevention and Response Protocol    
DESCRIPTION:FMS Admin: Abuse Prevention and Response Protocol     \nSaturday\, March 1 \n9:00 am – 12:00  pm | Online \n  \nA workshop that explores ways to reduce the risk of abuse and how to handle suspicions of abuse (for Family Managed Services Administrators). \nThis workshop\, for FMS Administrators\, provides an understanding of the protocol\, explores what can be done to reduce the risk of abuse\, identifies types of abuse\, and how to handle situations when abuse is suspected. \nNote: This is a mandatory course for FMS Administrators under Family Managed Services with Disability Services. \n  \nQuestions? Contact Betty (Facilitator) at Betty@GatewayAssociation.ca \nREGISTER HERE
URL:https://gatewayassociation.ca/calendar/fms-admin-abuse-prevention-and-response-protocol-5/
CATEGORIES:FRC
END:VEVENT
BEGIN:VEVENT
DTSTART;TZID=America/Denver:20241105T110000
DTEND;TZID=America/Denver:20241105T120000
DTSTAMP:20260421T114240
CREATED:20241007T204541Z
LAST-MODIFIED:20241007T204541Z
UID:253837-1730804400-1730808000@gatewayassociation.ca
SUMMARY:Google Drive (2 of 2)
DESCRIPTION:Google Drive\nSession: 2 of 2  \nDuration: 1  hr  \nFacilitator: Lee   \nPrivate – GTDI Program intake required prior to workshop: getdigital@gatewayassociation.ca  \n  \nLearn how to create a google accounts\, access google drive\, upload files\, create folders\, search for files. Group discussion on cloud storage\, strong passwords\, file naming conventions and keeping documents and folders organized.  
URL:https://gatewayassociation.ca/calendar/google-drive-2-of-2-15/
END:VEVENT
BEGIN:VEVENT
DTSTART;TZID=America/Denver:20241105T130000
DTEND;TZID=America/Denver:20241105T140000
DTSTAMP:20260421T114240
CREATED:20241008T185502Z
LAST-MODIFIED:20241008T185502Z
UID:253916-1730811600-1730815200@gatewayassociation.ca
SUMMARY:Finding Your Purpose
DESCRIPTION:Finding Your Purpose\n\nAre you wondering what your purpose is? Stuck and not sure where to go? Then we have a workshop for you! Come join us for self exploration and learning. We will talk about what people need in life to grow and how we can access those resources. As well\, we will explore a personality test and leave the workshop with a deeper understanding of who we are and where we would like to go!\n\nOnline or In-Person: ONLINE\n\nTo learn more and to register\, please connect with us at Get-Work@GatewayAssociation.ca
URL:https://gatewayassociation.ca/calendar/finding-your-purpose-12/
CATEGORIES:ERC
END:VEVENT
BEGIN:VEVENT
DTSTART;TZID=America/Denver:20241105T130000
DTEND;TZID=America/Denver:20241105T143000
DTSTAMP:20260421T114240
CREATED:20241007T204842Z
LAST-MODIFIED:20241007T204842Z
UID:253845-1730811600-1730817000@gatewayassociation.ca
SUMMARY:Internet Basics (2 of 4)
DESCRIPTION:Internet Basics\nSession 2 of 4  \nDuration 1.5 hr   \nFacilitator: Toby  \nPrivate – GTDI Program intake required prior to workshop: getdigital@gatewayassociation.ca  \n  \nThis 4 session workshop series (part 1 of the work simulation) helps learners find\, share\, and explore things online through a series of fun activities. Participants will use different google map features to find their way around town\, share their favourite places\, plan a vacation\, and compare different search engines. As a group\, learners will chat about fake news\, investigate stories on Snopes\, and chat about the media we take in everyday.  
URL:https://gatewayassociation.ca/calendar/internet-basics-2-of-4-5/
END:VEVENT
END:VCALENDAR