BEGIN:VCALENDAR
VERSION:2.0
PRODID:-//Gateway Association - ECPv6.15.20//NONSGML v1.0//EN
CALSCALE:GREGORIAN
METHOD:PUBLISH
X-ORIGINAL-URL:https://gatewayassociation.ca
X-WR-CALDESC:Events for Gateway Association
REFRESH-INTERVAL;VALUE=DURATION:PT1H
X-Robots-Tag:noindex
X-PUBLISHED-TTL:PT1H
BEGIN:VTIMEZONE
TZID:America/Denver
BEGIN:DAYLIGHT
TZOFFSETFROM:-0700
TZOFFSETTO:-0600
TZNAME:MDT
DTSTART:20230312T090000
END:DAYLIGHT
BEGIN:STANDARD
TZOFFSETFROM:-0600
TZOFFSETTO:-0700
TZNAME:MST
DTSTART:20231105T080000
END:STANDARD
BEGIN:DAYLIGHT
TZOFFSETFROM:-0700
TZOFFSETTO:-0600
TZNAME:MDT
DTSTART:20240310T090000
END:DAYLIGHT
BEGIN:STANDARD
TZOFFSETFROM:-0600
TZOFFSETTO:-0700
TZNAME:MST
DTSTART:20241103T080000
END:STANDARD
BEGIN:DAYLIGHT
TZOFFSETFROM:-0700
TZOFFSETTO:-0600
TZNAME:MDT
DTSTART:20250309T090000
END:DAYLIGHT
BEGIN:STANDARD
TZOFFSETFROM:-0600
TZOFFSETTO:-0700
TZNAME:MST
DTSTART:20251102T080000
END:STANDARD
END:VTIMEZONE
BEGIN:VEVENT
DTSTART;TZID=America/Denver:20241125T110000
DTEND;TZID=America/Denver:20241125T120000
DTSTAMP:20260421T172636
CREATED:20241008T180838Z
LAST-MODIFIED:20241022T155833Z
UID:253895-1732532400-1732536000@gatewayassociation.ca
SUMMARY:Explore Canva (1 of 2)
DESCRIPTION:Explore Canva\nSession 1 of 2  \nDuration 1 hr   \nFacilitator: Lee  \nPrivate – GTDI Program intake required prior to workshop: getdigital@gatewayassociation.ca  \n  \nLet your imagination be your guide as you create your own posters\, flyers\, cards\, videos\, and more to share information important to you. 
URL:https://gatewayassociation.ca/calendar/explore-canva-1-of-2-13/
END:VEVENT
BEGIN:VEVENT
DTSTART;TZID=America/Denver:20241125T110000
DTEND;TZID=America/Denver:20241125T120000
DTSTAMP:20260421T172636
CREATED:20241008T194430Z
LAST-MODIFIED:20241008T194430Z
UID:253944-1732532400-1732536000@gatewayassociation.ca
SUMMARY:Edmonton Employment Resource Centre Info Session
DESCRIPTION:Edmonton Employment Resource Centre Info Session\nJoin Gateway Association for a virtual Employment Resource Centre information session. \nThis session is for job seekers with disability or mental health-based barriers to learn about how Gateway Association can support you with achieving your employment goals! \nL earn about individualized supports and group workshops that will help you with: \nFor additional accommodations or questions\, please connect with us at employment@gatewayassociation.ca \n\n\n\nCareer development and action plans\nResume building\nInterview skills\nWorkplace communication\nOnboarding and training\nJob search and finding the right job for you\nKeeping your job!\nAND much more!\n\n\n\nRegister HERE
URL:https://gatewayassociation.ca/calendar/edmonton-employment-resource-centre-info-session-7/
CATEGORIES:ERC
END:VEVENT
BEGIN:VEVENT
DTSTART;TZID=America/Denver:20241125T130000
DTEND;TZID=America/Denver:20241125T140000
DTSTAMP:20260421T172636
CREATED:20241008T181014Z
LAST-MODIFIED:20241008T181014Z
UID:253900-1732539600-1732543200@gatewayassociation.ca
SUMMARY:File Management and PDFs (1 of 2)
DESCRIPTION:File Management and PDFs\nSession 1 of 2 \nDuration 1 hr \nFacilitator: Toby \nPrivate – GTDI Program intake required prior to workshop: getdigital@gatewayassociation.ca \n\nIn this workshop participants will learn about saving files\, organizing and finding files\, converting documents to pdfs\, what a is pdf\, and how to use pdfs.
URL:https://gatewayassociation.ca/calendar/file-management-and-pdfs-1-of-2-10/
END:VEVENT
BEGIN:VEVENT
DTSTART;TZID=America/Denver:20241125T150000
DTEND;TZID=America/Denver:20241125T160000
DTSTAMP:20260421T172636
CREATED:20241022T160648Z
LAST-MODIFIED:20241022T160648Z
UID:254033-1732546800-1732550400@gatewayassociation.ca
SUMMARY:LinkedIn Learning
DESCRIPTION:LinkedIn Learning\nSession 1 of 1  \nDuration 1 hr   \nFacilitator: Toby  \nPrivate – GTDI Program intake required prior to workshop: getdigital@gatewayassociation.ca  \n  \n***Requires an active library membership.**  \nExplore LinkedIn website as a group\, learn how to: create an account\, search for course\, save and organize courses\, and customize your profile.  
URL:https://gatewayassociation.ca/calendar/linkedin-learning-27/
END:VEVENT
BEGIN:VEVENT
DTSTART;TZID=America/Denver:20241125T163000
DTEND;TZID=America/Denver:20241125T173000
DTSTAMP:20260421T172636
CREATED:20241008T182326Z
LAST-MODIFIED:20241008T182326Z
UID:253912-1732552200-1732555800@gatewayassociation.ca
SUMMARY:Edmonton Employment Resource Centre Information Session
DESCRIPTION:Edmonton Employment Resource Centre Information Session\nJoin Gateway Association for a virtual Employment Resource Centre information session. \nThis session is for job seekers with disability or mental health-based barriers to learn about how Gateway Association can support you with achieving your employment goals! \nL earn about individualized supports and group workshops that will help you with: \nFor additional accommodations or questions\, please connect with us at employment@gatewayassociation.ca \n\n\n\nCareer development and action plans\nResume building\nInterview skills\nWorkplace communication\nOnboarding and training\nJob search and finding the right job for you\nKeeping your job!\nAND much more!\n\n\n\nRegister Here
URL:https://gatewayassociation.ca/calendar/edmonton-employment-resource-centre-information-session-4/
CATEGORIES:ERC
END:VEVENT
BEGIN:VEVENT
DTSTART;TZID=America/Denver:20241125T180000
DTEND;TZID=America/Denver:20241125T210000
DTSTAMP:20260421T172636
CREATED:20240830T174735Z
LAST-MODIFIED:20240830T174735Z
UID:253319-1732557600-1732568400@gatewayassociation.ca
SUMMARY:FMS Staff: More Than Just a Job
DESCRIPTION:FMS Staff: More Than Just a Job\nMonday\, November 25 \n6:00 pm – 9:00 pm | online \n  \nA workshop for Family Managed Services staff that explores ways to reduce the risk of abuse and to help identify and incorporate personal values in your work with persons with disabilities. \n  \nThis workshop\, for Family Managed Services (FMS) staff\, will help you identify your values and how they apply to your work in supporting others. You will learn how to keep people safe while growing independence\, and building relationships both within the support network and within the community. You will gain skills and tools to excel in your role. \n  \nQuestions? Contact Betty (Facilitator) at Betty@GatewayAssociation.ca \nRegister here: https://www.eventbrite.ca/e/fms-staff-more-than-just-a-job-tickets-996529595847?aff=oddtdtcreator
URL:https://gatewayassociation.ca/calendar/fms-staff-more-than-just-a-job/
CATEGORIES:FRC
END:VEVENT
END:VCALENDAR