BEGIN:VCALENDAR
VERSION:2.0
PRODID:-//Gateway Association - ECPv6.15.20//NONSGML v1.0//EN
CALSCALE:GREGORIAN
METHOD:PUBLISH
X-ORIGINAL-URL:https://gatewayassociation.ca
X-WR-CALDESC:Events for Gateway Association
REFRESH-INTERVAL;VALUE=DURATION:PT1H
X-Robots-Tag:noindex
X-PUBLISHED-TTL:PT1H
BEGIN:VTIMEZONE
TZID:America/Denver
BEGIN:DAYLIGHT
TZOFFSETFROM:-0700
TZOFFSETTO:-0600
TZNAME:MDT
DTSTART:20230312T090000
END:DAYLIGHT
BEGIN:STANDARD
TZOFFSETFROM:-0600
TZOFFSETTO:-0700
TZNAME:MST
DTSTART:20231105T080000
END:STANDARD
BEGIN:DAYLIGHT
TZOFFSETFROM:-0700
TZOFFSETTO:-0600
TZNAME:MDT
DTSTART:20240310T090000
END:DAYLIGHT
BEGIN:STANDARD
TZOFFSETFROM:-0600
TZOFFSETTO:-0700
TZNAME:MST
DTSTART:20241103T080000
END:STANDARD
BEGIN:DAYLIGHT
TZOFFSETFROM:-0700
TZOFFSETTO:-0600
TZNAME:MDT
DTSTART:20250309T090000
END:DAYLIGHT
BEGIN:STANDARD
TZOFFSETFROM:-0600
TZOFFSETTO:-0700
TZNAME:MST
DTSTART:20251102T080000
END:STANDARD
END:VTIMEZONE
BEGIN:VEVENT
DTSTART;TZID=America/Denver:20241206T100000
DTEND;TZID=America/Denver:20241206T150000
DTSTAMP:20260421T060304
CREATED:20241113T180512Z
LAST-MODIFIED:20241113T180512Z
UID:254240-1733479200-1733497200@gatewayassociation.ca
SUMMARY:First Aid and CPR Level C Certification Course\, Day 2
DESCRIPTION:2-Day First Aid and CPR Level C Certification Course\, Edmonton\n\nDay 2\nIn-person\n\n\nJoin us for a hands-on First Aid and CPR Level C Certification Course in Edmonton! Over two days\, you’ll learn life-saving skills that can make a difference in emergencies. The course will be held at 12304 118 Ave NW\, providing a convenient location for attendees. Don’t miss this opportunity to gain essential knowledge and certification to help others in need. Sign up now!\n\n\nTo register\, please connect with us at employment@gatewayassociation.ca
URL:https://gatewayassociation.ca/calendar/first-aid-and-cpr-level-c-certification-course-day-2/
CATEGORIES:ERC
END:VEVENT
END:VCALENDAR