BEGIN:VCALENDAR
VERSION:2.0
PRODID:-//Gateway Association - ECPv6.15.20//NONSGML v1.0//EN
CALSCALE:GREGORIAN
METHOD:PUBLISH
X-ORIGINAL-URL:https://gatewayassociation.ca
X-WR-CALDESC:Events for Gateway Association
REFRESH-INTERVAL;VALUE=DURATION:PT1H
X-Robots-Tag:noindex
X-PUBLISHED-TTL:PT1H
BEGIN:VTIMEZONE
TZID:America/Denver
BEGIN:DAYLIGHT
TZOFFSETFROM:-0700
TZOFFSETTO:-0600
TZNAME:MDT
DTSTART:20230312T090000
END:DAYLIGHT
BEGIN:STANDARD
TZOFFSETFROM:-0600
TZOFFSETTO:-0700
TZNAME:MST
DTSTART:20231105T080000
END:STANDARD
BEGIN:DAYLIGHT
TZOFFSETFROM:-0700
TZOFFSETTO:-0600
TZNAME:MDT
DTSTART:20240310T090000
END:DAYLIGHT
BEGIN:STANDARD
TZOFFSETFROM:-0600
TZOFFSETTO:-0700
TZNAME:MST
DTSTART:20241103T080000
END:STANDARD
BEGIN:DAYLIGHT
TZOFFSETFROM:-0700
TZOFFSETTO:-0600
TZNAME:MDT
DTSTART:20250309T090000
END:DAYLIGHT
BEGIN:STANDARD
TZOFFSETFROM:-0600
TZOFFSETTO:-0700
TZNAME:MST
DTSTART:20251102T080000
END:STANDARD
END:VTIMEZONE
BEGIN:VEVENT
DTSTART;TZID=America/Denver:20241211T110000
DTEND;TZID=America/Denver:20241211T120000
DTSTAMP:20260421T062613
CREATED:20241105T222320Z
LAST-MODIFIED:20241105T222320Z
UID:254203-1733914800-1733918400@gatewayassociation.ca
SUMMARY:ePortfolios
DESCRIPTION:ePortfolios\nSession 2 of 3 \nDuration 1 hr \nFacilitator: Lee \nPrivate – GTDI Program intake required prior to workshop: getdigital@gatewayassociation.ca \n**A desktop or laptop computer is required for this workshop.** \n\nIn the eportfolio workshop series\, participants will learn about the different types of portfolios\, how to use google sites\, and the basics of layout and design. Learners will choose the type of portfolio they want to build and the subject they want to focus on. They will select and add content to their sites along with descriptions\, statements about their motivation\, interests\, skills\, and hobbies. Learners will work on their own between classes.
URL:https://gatewayassociation.ca/calendar/eportfolios/
END:VEVENT
BEGIN:VEVENT
DTSTART;TZID=America/Denver:20241211T120000
DTEND;TZID=America/Denver:20241211T130000
DTSTAMP:20260421T062613
CREATED:20240812T191735Z
LAST-MODIFIED:20240812T191735Z
UID:253218-1733918400-1733922000@gatewayassociation.ca
SUMMARY:FSCD 101
DESCRIPTION:FSCD 101\nWednesday\, December 11 \n12:00 pm – 1:00 pm | Online \n  \nFSCD 101 is an introduction to the Family Support for Children with Disabilities (FSCD) program. \n  \nThe presentation will support families with understanding how to utilize their FSCD agreement and is intended for families that have received their first FSCD agreement. \n  \nPrior to attending the session\, it would be helpful for families to review the Family Package\, sent to you by the Family Support Services (FSS) team\, as we will be referencing this document throughout the session. \n  \nTopics we will be going over include: \n\nthe different types of services and supports\nreviewing an example agreement\nrecords-keeping and invoicing requirements\nand more.\n\n\nQuestions? Shelley (Facilitator) at Shelley@gatewayassociation.ca \nEventbrite Link: https://www.eventbrite.ca/e/fscd-101-tickets-981868112957?aff=oddtdtcreator
URL:https://gatewayassociation.ca/calendar/fscd-101-11/
CATEGORIES:FRC
END:VEVENT
BEGIN:VEVENT
DTSTART;TZID=America/Denver:20241211T130000
DTEND;TZID=America/Denver:20241211T140000
DTSTAMP:20260421T062613
CREATED:20241105T222530Z
LAST-MODIFIED:20241105T222530Z
UID:254209-1733922000-1733925600@gatewayassociation.ca
SUMMARY:Audio Editing with Audacity (2 of 3)
DESCRIPTION:Audio Editing with Audacity\nSession 2 of 3 \nDuration 1 hr \nFacilitator: Toby \nPrivate – GTDI Program intake required prior to workshop: getdigital@gatewayassociation.ca \nIn this 3 session workshop series participants will be guided through the steps to use Audacity software for basic audio editing. This series will focus on editing spoken dialogue.
URL:https://gatewayassociation.ca/calendar/audio-editing-with-audacity-2-of-3-12/
END:VEVENT
BEGIN:VEVENT
DTSTART;TZID=America/Denver:20241211T143000
DTEND;TZID=America/Denver:20241211T163000
DTSTAMP:20260421T062613
CREATED:20241105T221552Z
LAST-MODIFIED:20241105T221552Z
UID:254183-1733927400-1733934600@gatewayassociation.ca
SUMMARY:Online Boardgames
DESCRIPTION:Online Boardgames\nSession: 1 of 1 \nDuration: 1.5 to 2 hr \nFacilitator: Lee \nPrivate – GTDI Program intake required prior to workshop signup: getdigital@gatewayassociation.ca \n\n**Requires Online Social Connections – Discord and Steam Tutorials as well as desktop or laptop computer.** \nCome hang out! Learn about setting up online accounts\, meet new friends\, socialize\, and have fun playing boardgames online. Meet new friends\, practise new skills\, have fun!
URL:https://gatewayassociation.ca/calendar/online-boardgames-64/
END:VEVENT
BEGIN:VEVENT
DTSTART;TZID=America/Denver:20241211T150000
DTEND;TZID=America/Denver:20241211T160000
DTSTAMP:20260421T062613
CREATED:20241105T222117Z
LAST-MODIFIED:20241105T222117Z
UID:254197-1733929200-1733932800@gatewayassociation.ca
SUMMARY:You TOO Can YouTube (3 of 4)
DESCRIPTION:You TOO Can YouTube\nSession: 3 of 4 \nDuration: 1 hr \nFacilitator: Toby \nPrivate – GTDI Program intake required prior to workshop: getdigital@gatewayassociation.ca \n\nLearn about being a YouTube viewer and a YouTube creator. Find out how to make your own YouTube Channel and what to consider when you are choosing videos to watch. Create YouTube content\, learn about what to consider when watching videos as well as how to save and organize videos.
URL:https://gatewayassociation.ca/calendar/you-too-can-youtube-3-of-4-12/
END:VEVENT
END:VCALENDAR