BEGIN:VCALENDAR
VERSION:2.0
PRODID:-//Gateway Association - ECPv6.15.20//NONSGML v1.0//EN
CALSCALE:GREGORIAN
METHOD:PUBLISH
X-WR-CALNAME:Gateway Association
X-ORIGINAL-URL:https://gatewayassociation.ca
X-WR-CALDESC:Events for Gateway Association
REFRESH-INTERVAL;VALUE=DURATION:PT1H
X-Robots-Tag:noindex
X-PUBLISHED-TTL:PT1H
BEGIN:VTIMEZONE
TZID:America/Denver
BEGIN:DAYLIGHT
TZOFFSETFROM:-0700
TZOFFSETTO:-0600
TZNAME:MDT
DTSTART:20240310T090000
END:DAYLIGHT
BEGIN:STANDARD
TZOFFSETFROM:-0600
TZOFFSETTO:-0700
TZNAME:MST
DTSTART:20241103T080000
END:STANDARD
BEGIN:DAYLIGHT
TZOFFSETFROM:-0700
TZOFFSETTO:-0600
TZNAME:MDT
DTSTART:20250309T090000
END:DAYLIGHT
BEGIN:STANDARD
TZOFFSETFROM:-0600
TZOFFSETTO:-0700
TZNAME:MST
DTSTART:20251102T080000
END:STANDARD
BEGIN:DAYLIGHT
TZOFFSETFROM:-0700
TZOFFSETTO:-0600
TZNAME:MDT
DTSTART:20260308T090000
END:DAYLIGHT
BEGIN:STANDARD
TZOFFSETFROM:-0600
TZOFFSETTO:-0700
TZNAME:MST
DTSTART:20261101T080000
END:STANDARD
END:VTIMEZONE
BEGIN:VEVENT
DTSTART;TZID=America/Denver:20250222T090000
DTEND;TZID=America/Denver:20250222T160000
DTSTAMP:20260421T075223
CREATED:20241105T210043Z
LAST-MODIFIED:20241105T210043Z
UID:254130-1740214800-1740240000@gatewayassociation.ca
SUMMARY:Transition Planning to Adulthood:  Weekend Blitz
DESCRIPTION:Transition Planning to Adulthood:  Weekend Blitz\nFriday\, February 21 \n6:00 pm – 9:00 pm \nSaturday\, February 22  \n9:00 am – 4:00 pm \nOnline \n  \nCovers the 3 part series in 2 days \nPart 1: Visioning and Planning \nPart 2  Valued Roles \nPart 3  Valued Roles \n  \nA 3-part workshop series exploring the critical transition to adulthood for 14-20 year-olds and how to create a plan for the future. \nThis is a workshop series for parents/caregivers that engages families in building knowledge when navigating this critical time for 14-20 year olds. \nThis workshop series includes topics on: life transitions\, valued roles in the community\, visioning and planning\, and navigating the systems.   Note: All three workshops must be taken consecutively. \nQuestions? \nShelley (Facilitator) at Shelley@GatewayAssociation.ca \nREGISTER HERE
URL:https://gatewayassociation.ca/calendar/transition-planning-to-adulthood-weekend-blitz-2/
CATEGORIES:FRC
END:VEVENT
END:VCALENDAR