BEGIN:VCALENDAR
VERSION:2.0
PRODID:-//Gateway Association - ECPv6.15.20//NONSGML v1.0//EN
CALSCALE:GREGORIAN
METHOD:PUBLISH
X-WR-CALNAME:Gateway Association
X-ORIGINAL-URL:https://gatewayassociation.ca
X-WR-CALDESC:Events for Gateway Association
REFRESH-INTERVAL;VALUE=DURATION:PT1H
X-Robots-Tag:noindex
X-PUBLISHED-TTL:PT1H
BEGIN:VTIMEZONE
TZID:America/Denver
BEGIN:DAYLIGHT
TZOFFSETFROM:-0700
TZOFFSETTO:-0600
TZNAME:MDT
DTSTART:20240310T090000
END:DAYLIGHT
BEGIN:STANDARD
TZOFFSETFROM:-0600
TZOFFSETTO:-0700
TZNAME:MST
DTSTART:20241103T080000
END:STANDARD
BEGIN:DAYLIGHT
TZOFFSETFROM:-0700
TZOFFSETTO:-0600
TZNAME:MDT
DTSTART:20250309T090000
END:DAYLIGHT
BEGIN:STANDARD
TZOFFSETFROM:-0600
TZOFFSETTO:-0700
TZNAME:MST
DTSTART:20251102T080000
END:STANDARD
BEGIN:DAYLIGHT
TZOFFSETFROM:-0700
TZOFFSETTO:-0600
TZNAME:MDT
DTSTART:20260308T090000
END:DAYLIGHT
BEGIN:STANDARD
TZOFFSETFROM:-0600
TZOFFSETTO:-0700
TZNAME:MST
DTSTART:20261101T080000
END:STANDARD
END:VTIMEZONE
BEGIN:VEVENT
DTSTART;TZID=America/Denver:20250312T100000
DTEND;TZID=America/Denver:20250312T150000
DTSTAMP:20260421T045948
CREATED:20250115T182833Z
LAST-MODIFIED:20250115T182833Z
UID:254486-1741773600-1741791600@gatewayassociation.ca
SUMMARY:YYC Drop-In Wednesdays
DESCRIPTION:YYC Drop-In Wednesdays\nFor registered participants – Join us every Wednesday from 10 AM to 3 PM for our open drop-in sessions. Whether you’re exploring career options\, updating your resume\, practicing for interviews\, or navigating the job search process\, our friendly team is ready to support you. \nNo appointment needed—just drop in! Let’s work together to take the next step in your employment journey. \nWhere: Gateway Association Calgary Office\nWhen: Wednesdays\, 10 AM – 3 PM
URL:https://gatewayassociation.ca/calendar/yyc-drop-in-wednesdays-10/
CATEGORIES:ERC
END:VEVENT
BEGIN:VEVENT
DTSTART;TZID=America/Denver:20250312T110000
DTEND;TZID=America/Denver:20250312T120000
DTSTAMP:20260421T045948
CREATED:20250227T185228Z
LAST-MODIFIED:20250227T185228Z
UID:254607-1741777200-1741780800@gatewayassociation.ca
SUMMARY:ePortfolios (2 of 3)
DESCRIPTION:ePortfolios\nSession 2 of 3 \nDuration 1 hr \nFacilitator: Lee \nPrivate – GTDI Program intake required prior to workshop: getdigital@gatewayassociation.ca \n\n**A desktop or laptop computer is required for this workshop.** \nIn the ePortfolio workshop series\, participants will learn about the different types of portfolios\, how to use google sites\, and the basics of layout and design. Learners will choose the type of portfolio they want to build and the subject they want to focus on. They will select and add content to their sites along with descriptions\, statements about their motivation\, interests\, skills\, and hobbies. Learners will work on their own between classes.
URL:https://gatewayassociation.ca/calendar/eportfolios-2-of-3-7/
END:VEVENT
BEGIN:VEVENT
DTSTART;TZID=America/Denver:20250312T130000
DTEND;TZID=America/Denver:20250312T140000
DTSTAMP:20260421T045948
CREATED:20250225T193523Z
LAST-MODIFIED:20250225T193523Z
UID:254602-1741784400-1741788000@gatewayassociation.ca
SUMMARY:Google Slides (3 of 3)
DESCRIPTION:Google Slides\nVirtual  \nSession: 3 of 3 \nDuration: 1 hr \nFacilitator: Lee \nPrivate – GTDI Program intake required prior to workshop: getdigital@gatewayassociation.ca \nLearn how to make your own presentations using Google Slides. We will go through what Google Slides is\, how to access it\, and how to create and modify your own presentation. We will look at using tools like Animation\, Transitions\, different formatting options\, and creating and using Themes.
URL:https://gatewayassociation.ca/calendar/google-slides-3-of-3-5/
END:VEVENT
BEGIN:VEVENT
DTSTART;TZID=America/Denver:20250312T143000
DTEND;TZID=America/Denver:20250312T163000
DTSTAMP:20260421T045948
CREATED:20250225T192556Z
LAST-MODIFIED:20250225T192556Z
UID:254592-1741789800-1741797000@gatewayassociation.ca
SUMMARY:Online Boardgames
DESCRIPTION:Online Boardgames\nSession: 1 of 1 \nDuration: 1.5 to 2 hr \nFacilitator: Lee \nPrivate – GTDI Program intake required prior to workshop signup: getdigital@gatewayassociation.ca \n\n**Requires Online Social Connections – Discord and Steam Tutorials as well as desktop or laptop computer.** \nCome hang out! Learn about setting up online accounts\, meet new friends\, socialize\, and have fun playing boardgames online. Meet new friends\, practice new skills\, have fun!
URL:https://gatewayassociation.ca/calendar/online-boardgames-69/
END:VEVENT
BEGIN:VEVENT
DTSTART;TZID=America/Denver:20250312T183000
DTEND;TZID=America/Denver:20250312T203000
DTSTAMP:20260421T045948
CREATED:20241105T215058Z
LAST-MODIFIED:20241105T215058Z
UID:254157-1741804200-1741811400@gatewayassociation.ca
SUMMARY:Families Foward
DESCRIPTION:Families Forward  \n\nWednesday\, March 12 \n\n\n6:30 pm – 8:30 pm \n\n\n\nSpread the words! \nEdmonton Public Library (EPL) is in the house\, connecting with families to update on all the fun and educational FREE offerings EPL has for residents to take advantage of. They have books and entertainment to borrow\, classes and events to attend\, book lists and resources to peruse\, as well as wonderful spaces and communities to visit and be part of. Join the conversation to learn more\, ask questions and maybe even meet a special guest. \n\nSpeech Matters & Gateway Association \nSpeech Language Pathologist Holly Smith and colleagues explore specialized services (SS) and Behavior Development Services (BDS) and the role of Speech Language Pathologist (SLP) with supporting families with an FSCD contract. \n(we had both here\, not sure which one we are going with) \n\n\nQuestions? Contact Stacy at stacy@GatewayAssociation.ca
URL:https://gatewayassociation.ca/calendar/families-foward/
CATEGORIES:FRC
END:VEVENT
BEGIN:VEVENT
DTSTART;TZID=America/Denver:20250312T183000
DTEND;TZID=America/Denver:20250312T203000
DTSTAMP:20260421T045948
CREATED:20241106T163111Z
LAST-MODIFIED:20241106T163111Z
UID:254214-1741804200-1741811400@gatewayassociation.ca
SUMMARY:Families Forward
DESCRIPTION:Families Forward  \nWednesday\, March 12 \n6:30 pm – 8:30 pm | Online \n  \nSpread the words! \n  \nEdmonton Public Library (EPL) is in the house\, connecting with families to update on all the fun and educational FREE offerings EPL has for residents to take advantage of. They have books and entertainment to borrow\, classes and events to attend\, book lists and resources to peruse\, as well as wonderful spaces and communities to visit and be part of. Join the conversation to learn more\, ask questions and maybe even meet a special guests \nQuestions? Contact Stacy at stacy@GatewayAssociation.ca \nREGISTER HERE
URL:https://gatewayassociation.ca/calendar/families-forward-5/
CATEGORIES:FRC
END:VEVENT
END:VCALENDAR