BEGIN:VCALENDAR
VERSION:2.0
PRODID:-//Gateway Association - ECPv6.15.20//NONSGML v1.0//EN
CALSCALE:GREGORIAN
METHOD:PUBLISH
X-WR-CALNAME:Gateway Association
X-ORIGINAL-URL:https://gatewayassociation.ca
X-WR-CALDESC:Events for Gateway Association
REFRESH-INTERVAL;VALUE=DURATION:PT1H
X-Robots-Tag:noindex
X-PUBLISHED-TTL:PT1H
BEGIN:VTIMEZONE
TZID:America/Denver
BEGIN:DAYLIGHT
TZOFFSETFROM:-0700
TZOFFSETTO:-0600
TZNAME:MDT
DTSTART:20240310T090000
END:DAYLIGHT
BEGIN:STANDARD
TZOFFSETFROM:-0600
TZOFFSETTO:-0700
TZNAME:MST
DTSTART:20241103T080000
END:STANDARD
BEGIN:DAYLIGHT
TZOFFSETFROM:-0700
TZOFFSETTO:-0600
TZNAME:MDT
DTSTART:20250309T090000
END:DAYLIGHT
BEGIN:STANDARD
TZOFFSETFROM:-0600
TZOFFSETTO:-0700
TZNAME:MST
DTSTART:20251102T080000
END:STANDARD
BEGIN:DAYLIGHT
TZOFFSETFROM:-0700
TZOFFSETTO:-0600
TZNAME:MDT
DTSTART:20260308T090000
END:DAYLIGHT
BEGIN:STANDARD
TZOFFSETFROM:-0600
TZOFFSETTO:-0700
TZNAME:MST
DTSTART:20261101T080000
END:STANDARD
END:VTIMEZONE
BEGIN:VEVENT
DTSTART;TZID=America/Denver:20250324T110000
DTEND;TZID=America/Denver:20250324T120000
DTSTAMP:20260421T042034
CREATED:20250227T190407Z
LAST-MODIFIED:20250227T190407Z
UID:254620-1742814000-1742817600@gatewayassociation.ca
SUMMARY:Google Photos: Edits (1 of 2)
DESCRIPTION:Google Photos: Edits\nSession: 1 of 2  \nDuration: 1 hr   \nFacilitator: Toby  \nPrivate – GTDI Program intake required prior to workshop: getdigital@gatewayassociation.ca  \n  \nIn this workshop we will be learning how to use Google Photos for basic photo editing. We will go through terminology\, the different tools available\, tips for taking photos\, and some things to consider about photos in public spaces.
URL:https://gatewayassociation.ca/calendar/google-photos-edits-1-of-2-2/
END:VEVENT
BEGIN:VEVENT
DTSTART;TZID=America/Denver:20250324T130000
DTEND;TZID=America/Denver:20250324T140000
DTSTAMP:20260421T042034
CREATED:20250227T190654Z
LAST-MODIFIED:20250227T190654Z
UID:254624-1742821200-1742824800@gatewayassociation.ca
SUMMARY:Study Hall - ePortfolios
DESCRIPTION:Study Hall – ePortfolios\nSession 1 of 1  \nDuration 1 hr   \nFacilitator: Lee  \nPrivate – GTDI Program intake required prior to workshop: getdigital@gatewayassociation.ca  \n**Requires desktop or laptop computer. \n  \nThis is an open work session for participants who  have already completed the ePortfolio Workshop series and would like to continue working on their portfolios.
URL:https://gatewayassociation.ca/calendar/study-hall-eportfolios-7/
END:VEVENT
END:VCALENDAR