BEGIN:VCALENDAR
VERSION:2.0
PRODID:-//Gateway Association - ECPv6.15.20//NONSGML v1.0//EN
CALSCALE:GREGORIAN
METHOD:PUBLISH
X-WR-CALNAME:Gateway Association
X-ORIGINAL-URL:https://gatewayassociation.ca
X-WR-CALDESC:Events for Gateway Association
REFRESH-INTERVAL;VALUE=DURATION:PT1H
X-Robots-Tag:noindex
X-PUBLISHED-TTL:PT1H
BEGIN:VTIMEZONE
TZID:America/Denver
BEGIN:DAYLIGHT
TZOFFSETFROM:-0700
TZOFFSETTO:-0600
TZNAME:MDT
DTSTART:20240310T090000
END:DAYLIGHT
BEGIN:STANDARD
TZOFFSETFROM:-0600
TZOFFSETTO:-0700
TZNAME:MST
DTSTART:20241103T080000
END:STANDARD
BEGIN:DAYLIGHT
TZOFFSETFROM:-0700
TZOFFSETTO:-0600
TZNAME:MDT
DTSTART:20250309T090000
END:DAYLIGHT
BEGIN:STANDARD
TZOFFSETFROM:-0600
TZOFFSETTO:-0700
TZNAME:MST
DTSTART:20251102T080000
END:STANDARD
BEGIN:DAYLIGHT
TZOFFSETFROM:-0700
TZOFFSETTO:-0600
TZNAME:MDT
DTSTART:20260308T090000
END:DAYLIGHT
BEGIN:STANDARD
TZOFFSETFROM:-0600
TZOFFSETTO:-0700
TZNAME:MST
DTSTART:20261101T080000
END:STANDARD
END:VTIMEZONE
BEGIN:VEVENT
DTSTART;TZID=America/Denver:20250812T120000
DTEND;TZID=America/Denver:20250812T150000
DTSTAMP:20260421T061147
CREATED:20250522T152501Z
LAST-MODIFIED:20250522T152519Z
UID:255040-1755000000-1755010800@gatewayassociation.ca
SUMMARY:IN PERSON - FMS Admin: Abuse Prevention and Response Protocol
DESCRIPTION:FMS Admin: Abuse Prevention and Response Protocol\nTuesday\, August 12\n12:00 pm  – 3:00 pm | In-person\n\n  Workshop is in person at\n\nGateway Association\nSuite 201\, 10941 120 Street\nEdmonton AB T5H 3R3\n\n\nA workshop that explores ways to reduce the risk of abuse and how to handle suspicions of abuse (for Family Managed Services Administrators).\n\nThis workshop\, for FMS Administrators\, provides an understanding of the protocol\, explores what can be done to reduce the risk of abuse\, identifies types of abuse\, and how to handle situations when abuse is suspected.\n\nNote: This is a mandatory course for FMS Administrators under Family Managed Services with Disability Services.\n\n\nQuestions? Contact Betty (Facilitator) at Betty@GatewayAssociation.ca    \n\nREGISTER HERE
URL:https://gatewayassociation.ca/calendar/online-fms-admin-abuse-prevention-and-response-protocol/
CATEGORIES:FRC
END:VEVENT
BEGIN:VEVENT
DTSTART;TZID=America/Denver:20250812T130000
DTEND;TZID=America/Denver:20250812T140000
DTSTAMP:20260421T061147
CREATED:20250714T213028Z
LAST-MODIFIED:20250714T213028Z
UID:255175-1755003600-1755007200@gatewayassociation.ca
SUMMARY:How to Read a Job Posting
DESCRIPTION:How to Read a Job Posting\nJoin this workshop to understand various elements of a job posting\, identify red flags\, and find the right match. This workshop intends to help people save their time by targeting jobs that fits their expectations. \nOnline – Zoom \nFor more information and to register\, please connect with us at Get-Work@GatewayAssociation.ca
URL:https://gatewayassociation.ca/calendar/how-to-read-a-job-posting-16/
CATEGORIES:ERC
END:VEVENT
END:VCALENDAR