BEGIN:VCALENDAR
VERSION:2.0
PRODID:-//Gateway Association - ECPv6.15.20//NONSGML v1.0//EN
CALSCALE:GREGORIAN
METHOD:PUBLISH
X-WR-CALNAME:Gateway Association
X-ORIGINAL-URL:https://gatewayassociation.ca
X-WR-CALDESC:Events for Gateway Association
REFRESH-INTERVAL;VALUE=DURATION:PT1H
X-Robots-Tag:noindex
X-PUBLISHED-TTL:PT1H
BEGIN:VTIMEZONE
TZID:America/Denver
BEGIN:DAYLIGHT
TZOFFSETFROM:-0700
TZOFFSETTO:-0600
TZNAME:MDT
DTSTART:20240310T090000
END:DAYLIGHT
BEGIN:STANDARD
TZOFFSETFROM:-0600
TZOFFSETTO:-0700
TZNAME:MST
DTSTART:20241103T080000
END:STANDARD
BEGIN:DAYLIGHT
TZOFFSETFROM:-0700
TZOFFSETTO:-0600
TZNAME:MDT
DTSTART:20250309T090000
END:DAYLIGHT
BEGIN:STANDARD
TZOFFSETFROM:-0600
TZOFFSETTO:-0700
TZNAME:MST
DTSTART:20251102T080000
END:STANDARD
BEGIN:DAYLIGHT
TZOFFSETFROM:-0700
TZOFFSETTO:-0600
TZNAME:MDT
DTSTART:20260308T090000
END:DAYLIGHT
BEGIN:STANDARD
TZOFFSETFROM:-0600
TZOFFSETTO:-0700
TZNAME:MST
DTSTART:20261101T080000
END:STANDARD
END:VTIMEZONE
BEGIN:VEVENT
DTSTART;TZID=America/Denver:20250910T100000
DTEND;TZID=America/Denver:20250910T150000
DTSTAMP:20260421T074531
CREATED:20250731T192431Z
LAST-MODIFIED:20250731T192431Z
UID:255236-1757498400-1757516400@gatewayassociation.ca
SUMMARY:Calgary Drop-In Wednesdays
DESCRIPTION:Calgary Drop-In Wednesdays\nFor registered participants –  Join us every Wednesday from 10 AM to 3 PM for our open drop-in sessions. Whether you’re exploring career options\, updating your resume\, practicing for interviews\, or navigating the job search process\, our friendly team is ready to support you. \nNo appointment needed—just drop in! Let’s work together to take the next step in your employment journey.\n\nWhere: Gateway Association Calgary Office\nWhen: Wednesdays\, 10 AM – 3 PM
URL:https://gatewayassociation.ca/calendar/calgary-drop-in-wednesdays-33/
CATEGORIES:ERC
END:VEVENT
BEGIN:VEVENT
DTSTART;TZID=America/Denver:20250910T130000
DTEND;TZID=America/Denver:20250910T150000
DTSTAMP:20260421T074531
CREATED:20250805T193458Z
LAST-MODIFIED:20250805T193458Z
UID:255255-1757509200-1757516400@gatewayassociation.ca
SUMMARY:Edmonton Drop-In Wednesdays
DESCRIPTION:Edmonton Drop-In Wednesdays\nFor registered participants –  Join us every Wednesday from 10 AM to 3 PM for our open drop-in sessions. Whether you’re exploring career options\, updating your resume\, practicing for interviews\, or navigating the job search process\, our friendly team is ready to support you. \nNo appointment needed—just drop in! Let’s work together to take the next step in your employment journey.\nWhere: Gateway Association Edmonton Office\nWhen: Wednesdays\, 1 – 3 PM
URL:https://gatewayassociation.ca/calendar/edmonton-drop-in-wednesdays-15/
CATEGORIES:ERC
END:VEVENT
BEGIN:VEVENT
DTSTART;TZID=America/Denver:20250910T183000
DTEND;TZID=America/Denver:20250910T203000
DTSTAMP:20260421T074531
CREATED:20250522T154353Z
LAST-MODIFIED:20250522T154353Z
UID:255046-1757529000-1757536200@gatewayassociation.ca
SUMMARY:Families Forward: Topic TBD
DESCRIPTION:Families Forward: Topic TBD\nWednesday Sept 10\n6:30 – 8:30pm\n\nLet’s dive a little deeper into this topic and walk away with some new tools and strategies\, and come prepared to share some strategies that have worked for you!\n\nFriendly reminders:\n\nKeep your confirmation email! It contains the links to join online events\nPlease plan to join at the start time. Participants may not be admitted 15 minutes after the event has started or events maybe cancelled after 15 minutes if there are no participants.\n\n\nQuestions?\nContact Stacy(Facilitator) by email at Stacy@GatewayAssociation.ca\n\nREGISTER HERE
URL:https://gatewayassociation.ca/calendar/families-forward-topic-tbd/
CATEGORIES:FRC
END:VEVENT
END:VCALENDAR