BEGIN:VCALENDAR
VERSION:2.0
PRODID:-//Gateway Association - ECPv6.15.20//NONSGML v1.0//EN
CALSCALE:GREGORIAN
METHOD:PUBLISH
X-ORIGINAL-URL:https://gatewayassociation.ca
X-WR-CALDESC:Events for Gateway Association
REFRESH-INTERVAL;VALUE=DURATION:PT1H
X-Robots-Tag:noindex
X-PUBLISHED-TTL:PT1H
BEGIN:VTIMEZONE
TZID:America/Denver
BEGIN:DAYLIGHT
TZOFFSETFROM:-0700
TZOFFSETTO:-0600
TZNAME:MDT
DTSTART:20240310T090000
END:DAYLIGHT
BEGIN:STANDARD
TZOFFSETFROM:-0600
TZOFFSETTO:-0700
TZNAME:MST
DTSTART:20241103T080000
END:STANDARD
BEGIN:DAYLIGHT
TZOFFSETFROM:-0700
TZOFFSETTO:-0600
TZNAME:MDT
DTSTART:20250309T090000
END:DAYLIGHT
BEGIN:STANDARD
TZOFFSETFROM:-0600
TZOFFSETTO:-0700
TZNAME:MST
DTSTART:20251102T080000
END:STANDARD
BEGIN:DAYLIGHT
TZOFFSETFROM:-0700
TZOFFSETTO:-0600
TZNAME:MDT
DTSTART:20260308T090000
END:DAYLIGHT
BEGIN:STANDARD
TZOFFSETFROM:-0600
TZOFFSETTO:-0700
TZNAME:MST
DTSTART:20261101T080000
END:STANDARD
END:VTIMEZONE
BEGIN:VEVENT
DTSTART;TZID=America/Denver:20250917T100000
DTEND;TZID=America/Denver:20250917T150000
DTSTAMP:20260421T080024
CREATED:20250731T192534Z
LAST-MODIFIED:20250731T192534Z
UID:255239-1758103200-1758121200@gatewayassociation.ca
SUMMARY:Calgary Drop-In Wednesdays
DESCRIPTION:Calgary Drop-In Wednesdays\nFor registered participants –  Join us every Wednesday from 10 AM to 3 PM for our open drop-in sessions. Whether you’re exploring career options\, updating your resume\, practicing for interviews\, or navigating the job search process\, our friendly team is ready to support you. \nNo appointment needed—just drop in! Let’s work together to take the next step in your employment journey.\n\nWhere: Gateway Association Calgary Office\nWhen: Wednesdays\, 10 AM – 3 PM
URL:https://gatewayassociation.ca/calendar/calgary-drop-in-wednesdays-34/
CATEGORIES:ERC
END:VEVENT
BEGIN:VEVENT
DTSTART;TZID=America/Denver:20250917T130000
DTEND;TZID=America/Denver:20250917T150000
DTSTAMP:20260421T080024
CREATED:20250805T193539Z
LAST-MODIFIED:20250805T193539Z
UID:255257-1758114000-1758121200@gatewayassociation.ca
SUMMARY:Edmonton Drop-In Wednesdays
DESCRIPTION:Edmonton Drop-In Wednesdays\nFor registered participants –  Join us every Wednesday from 10 AM to 3 PM for our open drop-in sessions. Whether you’re exploring career options\, updating your resume\, practicing for interviews\, or navigating the job search process\, our friendly team is ready to support you. \nNo appointment needed—just drop in! Let’s work together to take the next step in your employment journey.\nWhere: Gateway Association Edmonton Office\nWhen: Wednesdays\, 1 – 3 PM
URL:https://gatewayassociation.ca/calendar/edmonton-drop-in-wednesdays-16/
CATEGORIES:ERC
END:VEVENT
BEGIN:VEVENT
DTSTART;TZID=America/Denver:20250917T183000
DTEND;TZID=America/Denver:20250917T193000
DTSTAMP:20260421T080024
CREATED:20250522T155826Z
LAST-MODIFIED:20250522T155826Z
UID:255050-1758133800-1758137400@gatewayassociation.ca
SUMMARY:FSCD 101
DESCRIPTION:FSCD 101\nWednesday\, Sept 17 \n6:30 pm – 7:30 pm | Online \n  \nFSCD 101 is an introduction to the Family Support for Children with Disabilities (FSCD) program. \nThe presentation will support families with understanding how to utilize their FSCD agreement and is intended for families that have received their first FSCD agreement. \n  \nPrior to attending the session\, it would be helpful for families to review the Family Package\, sent to you by the Family Support Services (FSS) team\, as we will be referencing this document throughout the session. \n  \nTopics we will be going over include: \n·        the different types of services and supports \n·        reviewing an example agreement \n·        records-keeping and invoicing requirements \n·        and more. \nQuestions? Shelley (Facilitator) at Shelley@gatewayassociation.ca \nREGISTER HERE
URL:https://gatewayassociation.ca/calendar/fscd-101-16/
CATEGORIES:FRC
END:VEVENT
BEGIN:VEVENT
DTSTART;TZID=America/Denver:20250917T183000
DTEND;TZID=America/Denver:20250917T203000
DTSTAMP:20260421T080024
CREATED:20250610T131724Z
LAST-MODIFIED:20250610T131724Z
UID:255125-1758133800-1758141000@gatewayassociation.ca
SUMMARY:FMS Admin: Online Claims Reimbursement Systems Training
DESCRIPTION:Online Claims Reimbursement Systems Training\n\nWednesday\, Sept 17\n6:30 pm – 8:30 pm | Online\n\nA workshop for Family Managed Services Administrators focused on enhancing your understanding and management of the Online Claims Reimbursement (OCR) system.\n\n This session will address common challenges and streamline your experience with the system\, ensuring you can utilize it confidently and efficiently.\nWorkshop Goals:\n\nUnderstanding the Agreement: Gain a deeper understanding of the FMS agreements and expectations of the OCR system.\nAccessing OCR: Learn the ins and outs of accessing the system effectively\, including navigation tips\, user support resources\, and troubleshooting common issues.\nCreating a Successful Claim: We’ll walk you through the process of creating and submitting claims through the OCR system\, focusing on accuracy and timeliness to ensure successful processing.\nRecord Keeping and Preparing for Reviews: Enhance your skills in maintaining accurate records and preparing for periodic reviews.\n\n\nQuestions? Contact Miriam at Miriam@GatewayAssociation.ca\n\nRegister HERE: https://www.eventbrite.ca/e/fms-admin-online-claims-reimbursement-systems-training-tickets-1407340375949?aff=oddtdtcreator
URL:https://gatewayassociation.ca/calendar/fms-admin-online-claims-reimbursement-systems-training-2/
CATEGORIES:FRC
END:VEVENT
END:VCALENDAR