BEGIN:VCALENDAR
VERSION:2.0
PRODID:-//Gateway Association - ECPv6.15.20//NONSGML v1.0//EN
CALSCALE:GREGORIAN
METHOD:PUBLISH
X-ORIGINAL-URL:https://gatewayassociation.ca
X-WR-CALDESC:Events for Gateway Association
REFRESH-INTERVAL;VALUE=DURATION:PT1H
X-Robots-Tag:noindex
X-PUBLISHED-TTL:PT1H
BEGIN:VTIMEZONE
TZID:America/Denver
BEGIN:DAYLIGHT
TZOFFSETFROM:-0700
TZOFFSETTO:-0600
TZNAME:MDT
DTSTART:20240310T090000
END:DAYLIGHT
BEGIN:STANDARD
TZOFFSETFROM:-0600
TZOFFSETTO:-0700
TZNAME:MST
DTSTART:20241103T080000
END:STANDARD
BEGIN:DAYLIGHT
TZOFFSETFROM:-0700
TZOFFSETTO:-0600
TZNAME:MDT
DTSTART:20250309T090000
END:DAYLIGHT
BEGIN:STANDARD
TZOFFSETFROM:-0600
TZOFFSETTO:-0700
TZNAME:MST
DTSTART:20251102T080000
END:STANDARD
BEGIN:DAYLIGHT
TZOFFSETFROM:-0700
TZOFFSETTO:-0600
TZNAME:MDT
DTSTART:20260308T090000
END:DAYLIGHT
BEGIN:STANDARD
TZOFFSETFROM:-0600
TZOFFSETTO:-0700
TZNAME:MST
DTSTART:20261101T080000
END:STANDARD
END:VTIMEZONE
BEGIN:VEVENT
DTSTART;TZID=America/Denver:20250922T163000
DTEND;TZID=America/Denver:20250922T180000
DTSTAMP:20260421T074715
CREATED:20250522T160136Z
LAST-MODIFIED:20250522T160136Z
UID:255054-1758558600-1758564000@gatewayassociation.ca
SUMMARY:Having Difficult Conversations
DESCRIPTION:Having Difficult Conversations    \nMonday September 22\n4:30 pm – 6:00 pm | Online\n\n\nA workshop for people with disabilities and their families on navigating difficult conversations\n\nLet’s get talking!    Having conversations can be hard.   How we communicate with others is important.   During this short ninety minute workshop\, we will explore what conflict is\, how we respond to it and some key principles for good communication.\n\nQuestions? Stacy (facilitator) or Mike (Facilitator) at Stacy@GatewayAssociation.ca or Mike@GatewayAssociation.ca \n\nREGISTER HERE
URL:https://gatewayassociation.ca/calendar/having-difficult-conversations-9/
CATEGORIES:FRC
END:VEVENT
END:VCALENDAR