BEGIN:VCALENDAR
VERSION:2.0
PRODID:-//Gateway Association - ECPv6.15.20//NONSGML v1.0//EN
CALSCALE:GREGORIAN
METHOD:PUBLISH
X-WR-CALNAME:Gateway Association
X-ORIGINAL-URL:https://gatewayassociation.ca
X-WR-CALDESC:Events for Gateway Association
REFRESH-INTERVAL;VALUE=DURATION:PT1H
X-Robots-Tag:noindex
X-PUBLISHED-TTL:PT1H
BEGIN:VTIMEZONE
TZID:America/Denver
BEGIN:DAYLIGHT
TZOFFSETFROM:-0700
TZOFFSETTO:-0600
TZNAME:MDT
DTSTART:20240310T090000
END:DAYLIGHT
BEGIN:STANDARD
TZOFFSETFROM:-0600
TZOFFSETTO:-0700
TZNAME:MST
DTSTART:20241103T080000
END:STANDARD
BEGIN:DAYLIGHT
TZOFFSETFROM:-0700
TZOFFSETTO:-0600
TZNAME:MDT
DTSTART:20250309T090000
END:DAYLIGHT
BEGIN:STANDARD
TZOFFSETFROM:-0600
TZOFFSETTO:-0700
TZNAME:MST
DTSTART:20251102T080000
END:STANDARD
BEGIN:DAYLIGHT
TZOFFSETFROM:-0700
TZOFFSETTO:-0600
TZNAME:MDT
DTSTART:20260308T090000
END:DAYLIGHT
BEGIN:STANDARD
TZOFFSETFROM:-0600
TZOFFSETTO:-0700
TZNAME:MST
DTSTART:20261101T080000
END:STANDARD
END:VTIMEZONE
BEGIN:VEVENT
DTSTART;TZID=America/Denver:20251112T180000
DTEND;TZID=America/Denver:20251112T200000
DTSTAMP:20260419T110947
CREATED:20250529T190901Z
LAST-MODIFIED:20250529T190901Z
UID:255084-1762970400-1762977600@gatewayassociation.ca
SUMMARY:Visioning and Planning 9-13 year olds (2 of 3)
DESCRIPTION:Visioning and Planning 9-13 year olds   \nWednesdays \nNovember 5\nNovember 12\nNovember 19\n \n6:00 pm – 8:00 pm | Online \n\nA 3-part workshop series  that empowers families of 9 – 13 year-olds with disabilities with knowledge\, resources\, and more.\n\nThis workshop is for parents/caregivers of 9-13 year-olds with disabilities with knowledge\, resources\, and a sense of direction for the future.\n\nWe will touch on a variety of topics including values and belonging in the community\, visioning and planning\, various transitions during  later elementary school\, IPPs\, navigating various systems (FSCD) age appropriate for families with “tween” age children as well as advocacy and having difficult conversations.\n\nQuestions? Stacy (facilitator) at Stacy@GatewayAssociation.ca\n\nRegister here: https://www.eventbrite.ca/e/1374785583689?aff=oddtdtcreator
URL:https://gatewayassociation.ca/calendar/visioning-and-planning-9-13-year-olds-2-of-3-3/
CATEGORIES:FRC
END:VEVENT
BEGIN:VEVENT
DTSTART;TZID=America/Denver:20251112T183000
DTEND;TZID=America/Denver:20251112T210000
DTSTAMP:20260419T110948
CREATED:20250529T191133Z
LAST-MODIFIED:20250529T191133Z
UID:255088-1762972200-1762981200@gatewayassociation.ca
SUMMARY:Online Claims Reimbursement Systems Training - FMS
DESCRIPTION:Online Claims Reimbursement Systems Training – FMS\n\nWednesday\, November 12 \n6:30 pm – 9:00 pm | Online\n\nA workshop for Family Managed Services Administrators focused on enhancing your understanding and management of the Online Claims Reimbursement (OCR) system.\n\n This session will address common challenges and streamline your experience with the system\, ensuring you can utilize it confidently and efficiently.\nWorkshop Goals:\n\nUnderstanding the Agreement: Gain a deeper understanding of the FMS agreements and expectations of the OCR system.\nAccessing OCR: Learn the ins and outs of accessing the system effectively\, including navigation tips\, user support resources\, and troubleshooting common issues.\nCreating a Successful Claim: We’ll walk you through the process of creating and submitting claims through the OCR system\, focusing on accuracy and timeliness to ensure successful processing.\nRecord Keeping and Preparing for Reviews: Enhance your skills in maintaining accurate records and preparing for periodic reviews.\n\n\nQuestions? Contact Yonique at Yonique@GatewayAssociation.ca\n\nRegister here: https://www.eventbrite.ca/e/1374790267699?aff=oddtdtcreator
URL:https://gatewayassociation.ca/calendar/online-claims-reimbursement-systems-training-fms/
CATEGORIES:FRC
END:VEVENT
END:VCALENDAR