BEGIN:VCALENDAR
VERSION:2.0
PRODID:-//Gateway Association - ECPv6.15.20//NONSGML v1.0//EN
CALSCALE:GREGORIAN
METHOD:PUBLISH
X-WR-CALNAME:Gateway Association
X-ORIGINAL-URL:https://gatewayassociation.ca
X-WR-CALDESC:Events for Gateway Association
REFRESH-INTERVAL;VALUE=DURATION:PT1H
X-Robots-Tag:noindex
X-PUBLISHED-TTL:PT1H
BEGIN:VTIMEZONE
TZID:America/Denver
BEGIN:DAYLIGHT
TZOFFSETFROM:-0700
TZOFFSETTO:-0600
TZNAME:MDT
DTSTART:20240310T090000
END:DAYLIGHT
BEGIN:STANDARD
TZOFFSETFROM:-0600
TZOFFSETTO:-0700
TZNAME:MST
DTSTART:20241103T080000
END:STANDARD
BEGIN:DAYLIGHT
TZOFFSETFROM:-0700
TZOFFSETTO:-0600
TZNAME:MDT
DTSTART:20250309T090000
END:DAYLIGHT
BEGIN:STANDARD
TZOFFSETFROM:-0600
TZOFFSETTO:-0700
TZNAME:MST
DTSTART:20251102T080000
END:STANDARD
BEGIN:DAYLIGHT
TZOFFSETFROM:-0700
TZOFFSETTO:-0600
TZNAME:MDT
DTSTART:20260308T090000
END:DAYLIGHT
BEGIN:STANDARD
TZOFFSETFROM:-0600
TZOFFSETTO:-0700
TZNAME:MST
DTSTART:20261101T080000
END:STANDARD
END:VTIMEZONE
BEGIN:VEVENT
DTSTART;TZID=America/Denver:20251117T170000
DTEND;TZID=America/Denver:20251117T180000
DTSTAMP:20260419T110939
CREATED:20250923T215726Z
LAST-MODIFIED:20250923T215726Z
UID:255350-1763398800-1763402400@gatewayassociation.ca
SUMMARY:FSCD 101
DESCRIPTION:FSCD 101\nFSCD 101 is an introduction to the Family Support for Children with Disabilities (FSCD) program. \nThe presentation will support families with understanding how to utilize their FSCD agreement and is intended for families that have received their first FSCD agreement. \nPrior to attending the session\, it would be helpful for families to review the Family Package\, sent to you by the Family Support Services (FSS) team\, as we will be referencing this document throughout the session. \nTopics we will be going over include: \n·       the different types of services and supports \n·        reviewing an example agreement \n·        records-keeping and invoicing requirements \n·        and more. \nQuestions? Please connect with Stacy (Facilitator) at Stacy@gatewayassociation.ca \nRegister HERE
URL:https://gatewayassociation.ca/calendar/fscd-101-17/
CATEGORIES:FRC
END:VEVENT
END:VCALENDAR