BEGIN:VCALENDAR
VERSION:2.0
PRODID:-//Gateway Association - ECPv6.15.20//NONSGML v1.0//EN
CALSCALE:GREGORIAN
METHOD:PUBLISH
X-ORIGINAL-URL:https://gatewayassociation.ca
X-WR-CALDESC:Events for Gateway Association
REFRESH-INTERVAL;VALUE=DURATION:PT1H
X-Robots-Tag:noindex
X-PUBLISHED-TTL:PT1H
BEGIN:VTIMEZONE
TZID:America/Denver
BEGIN:DAYLIGHT
TZOFFSETFROM:-0700
TZOFFSETTO:-0600
TZNAME:MDT
DTSTART:20230312T090000
END:DAYLIGHT
BEGIN:STANDARD
TZOFFSETFROM:-0600
TZOFFSETTO:-0700
TZNAME:MST
DTSTART:20231105T080000
END:STANDARD
BEGIN:DAYLIGHT
TZOFFSETFROM:-0700
TZOFFSETTO:-0600
TZNAME:MDT
DTSTART:20240310T090000
END:DAYLIGHT
BEGIN:STANDARD
TZOFFSETFROM:-0600
TZOFFSETTO:-0700
TZNAME:MST
DTSTART:20241103T080000
END:STANDARD
BEGIN:DAYLIGHT
TZOFFSETFROM:-0700
TZOFFSETTO:-0600
TZNAME:MDT
DTSTART:20250309T090000
END:DAYLIGHT
BEGIN:STANDARD
TZOFFSETFROM:-0600
TZOFFSETTO:-0700
TZNAME:MST
DTSTART:20251102T080000
END:STANDARD
END:VTIMEZONE
BEGIN:VEVENT
DTSTART;TZID=America/Denver:20240109T130000
DTEND;TZID=America/Denver:20240109T140000
DTSTAMP:20260421T080026
CREATED:20231211T215746Z
LAST-MODIFIED:20231211T215746Z
UID:251871-1704805200-1704808800@gatewayassociation.ca
SUMMARY:Finding Your Purpose
DESCRIPTION:Are you wondering what your purpose is? Stuck and not sure where to go? Then we have a workshop for you! Come join us for self exploration and learning. We will talk about what people need in life to grow and how we can access those resources. As well\, we will explore a personality test and leave the workshop with a deeper understanding of who we are and where we would like to go! \nThis workshop is being offered online. \nThis workshop is for registered participants only. To register\, please connect with us at Get-Work@GatewayAssociation.ca
URL:https://gatewayassociation.ca/calendar/finding-your-purpose-4/
CATEGORIES:ERC
END:VEVENT
BEGIN:VEVENT
DTSTART;TZID=America/Denver:20240110T100000
DTEND;TZID=America/Denver:20240110T150000
DTSTAMP:20260421T080026
CREATED:20231220T152043Z
LAST-MODIFIED:20231220T152043Z
UID:251983-1704880800-1704898800@gatewayassociation.ca
SUMMARY:DROP IN WEDNESDAYS at Calgary Employment Resource Centre
DESCRIPTION:DROP IN WEDNESDAYS \nat the Calgary Employment Resource Centre \nFor job seekers\, each Wednesday drop in any time between 10am and 3pm to connect with ERC team members to work on resumes\, interview skills\, job search and meet other job seekers! \n1206 20 AVE SE \nCalgary\, AB
URL:https://gatewayassociation.ca/calendar/drop-in-wednesdays-at-calgary-employment-resource-centre-3/
CATEGORIES:ERC
END:VEVENT
BEGIN:VEVENT
DTSTART;TZID=America/Denver:20240111T130000
DTEND;TZID=America/Denver:20240111T140000
DTSTAMP:20260421T080026
CREATED:20231211T220242Z
LAST-MODIFIED:20231211T220242Z
UID:251873-1704978000-1704981600@gatewayassociation.ca
SUMMARY:Growth Mindset: Resiliency in Job Search
DESCRIPTION:Job search can be a long and daunting process for many. This workshop will introduce folks to the concept of having a “Growth Mindset” and help individuals create a positive/persistent mindset along with tips on how to stay motivated throughout this process. \nThis workshop is for registered participants only. To register\, please connect with us at Get-Work@GatewayAssociation.ca
URL:https://gatewayassociation.ca/calendar/growth-mindset-resiliency-in-job-search-11/
CATEGORIES:ERC
END:VEVENT
BEGIN:VEVENT
DTSTART;TZID=America/Denver:20240116T130000
DTEND;TZID=America/Denver:20240116T140000
DTSTAMP:20260421T080026
CREATED:20231211T220740Z
LAST-MODIFIED:20231211T220740Z
UID:251875-1705410000-1705413600@gatewayassociation.ca
SUMMARY:Networking 101
DESCRIPTION:Networking 101 \nDescription: In this workshop participants will be learning how to network in-person! You will develop skills such as greeting others\, making connections with people you want to connect with\, how to stay connected after you meet them\, etc. The skills you learn will be useful for connecting with people at conferences\, workshops\, events\, and casual meetings. \nTo
URL:https://gatewayassociation.ca/calendar/networking-101-2/
CATEGORIES:ERC
END:VEVENT
BEGIN:VEVENT
DTSTART;TZID=America/Denver:20240117T100000
DTEND;TZID=America/Denver:20240117T150000
DTSTAMP:20260421T080026
CREATED:20231220T152124Z
LAST-MODIFIED:20231220T152124Z
UID:251985-1705485600-1705503600@gatewayassociation.ca
SUMMARY:DROP IN WEDNESDAYS  at the Calgary Employment Resource Centre
DESCRIPTION:DROP IN WEDNESDAYS \nat the Calgary Employment Resource Centre \nFor job seekers\, each Wednesday drop in any time between 10am and 3pm to connect with ERC team members to work on resumes\, interview skills\, job search and meet other job seekers! \n1206 20 AVE SE \nCalgary\, AB
URL:https://gatewayassociation.ca/calendar/drop-in-wednesdays-at-the-calgary-employment-resource-centre-4/
CATEGORIES:ERC
END:VEVENT
BEGIN:VEVENT
DTSTART;TZID=America/Denver:20240118T100000
DTEND;TZID=America/Denver:20240118T120000
DTSTAMP:20260421T080026
CREATED:20231211T220839Z
LAST-MODIFIED:20240117T174003Z
UID:251877-1705572000-1705579200@gatewayassociation.ca
SUMMARY:Interview Roundtable: Learning and Laughing Together
DESCRIPTION:Join us for a dynamic and interactive workshop designed to help you ace your next job interview. In our Interview Roundtable\, you’ll have the opportunity to connect with fellow job seekers and share your experiences and insights. Our experienced facilitators will guide you through real-life interview scenarios and help you develop the skills and confidence you need to succeed \n  \nSpots are limited. To register\, please e-mail Nikkitta@gatewayassociation.ca. Registration will be first-come
URL:https://gatewayassociation.ca/calendar/interview-roundtable-learning-and-laughing-together-2/
CATEGORIES:ERC
END:VEVENT
BEGIN:VEVENT
DTSTART;TZID=America/Denver:20240118T130000
DTEND;TZID=America/Denver:20240118T140000
DTSTAMP:20260421T080026
CREATED:20231211T220938Z
LAST-MODIFIED:20231211T220938Z
UID:251879-1705582800-1705586400@gatewayassociation.ca
SUMMARY:Interview Prep: Before\, During & After
DESCRIPTION:In this workshop\, you will learn about how to get ready for a job interview\, how to “shine’ in the interview and what to do after the interview to stand out and increase your chances of getting called back! \n\nThis workshop is for registered participants only. To register\, please connect with us at get-work@GatewayAssociation.ca
URL:https://gatewayassociation.ca/calendar/interview-prep-before-during-after/
CATEGORIES:ERC
END:VEVENT
BEGIN:VEVENT
DTSTART;TZID=America/Denver:20240123T130000
DTEND;TZID=America/Denver:20240123T140000
DTSTAMP:20260421T080026
CREATED:20231211T221024Z
LAST-MODIFIED:20231211T221024Z
UID:251881-1706014800-1706018400@gatewayassociation.ca
SUMMARY:Workplace Expectations
DESCRIPTION:Workplace Expectations \nYou’ve got the job\, now you must keep it! Talking about the everyday behaviors that are appropriate in the workplace: \n\nshowing up on time\nhow long is too long for socializing with coworkers\nbreaks – what does this mean\nmotivation and engagement\n\n \n\nThis workshop is for registered participants only. To register\, please connect with us at get-work@GatewayAssociation.ca
URL:https://gatewayassociation.ca/calendar/workplace-expectations-11/
CATEGORIES:ERC
END:VEVENT
BEGIN:VEVENT
DTSTART;TZID=America/Denver:20240124T100000
DTEND;TZID=America/Denver:20240124T150000
DTSTAMP:20260421T080026
CREATED:20231220T152155Z
LAST-MODIFIED:20231220T152155Z
UID:251987-1706090400-1706108400@gatewayassociation.ca
SUMMARY:DROP IN WEDNESDAYS  at the Calgary Employment Resource Centre
DESCRIPTION:DROP IN WEDNESDAYS \nat the Calgary Employment Resource Centre \nFor job seekers\, each Wednesday drop in any time between 10am and 3pm to connect with ERC team members to work on resumes\, interview skills\, job search and meet other job seekers! \n1206 20 AVE SE \nCalgary\, AB
URL:https://gatewayassociation.ca/calendar/drop-in-wednesdays-at-the-calgary-employment-resource-centre-5/
CATEGORIES:ERC
END:VEVENT
BEGIN:VEVENT
DTSTART;TZID=America/Denver:20240124T130000
DTEND;TZID=America/Denver:20240124T140000
DTSTAMP:20260421T080026
CREATED:20231211T221115Z
LAST-MODIFIED:20231211T221115Z
UID:251883-1706101200-1706104800@gatewayassociation.ca
SUMMARY:How to Read a Job Posting
DESCRIPTION:How to Read a Job Posting \nJoin this workshop to understand various elements of a job posting\, identify red flags\, and find the right match. This workshop intends to help people save their time by targeting jobs that fits their expectations. \n\nThis workshop is for registered participants only. To register\, please connect with us at get-work@GatewayAssociation.ca
URL:https://gatewayassociation.ca/calendar/how-to-read-a-job-posting-7/
CATEGORIES:ERC
END:VEVENT
BEGIN:VEVENT
DTSTART;TZID=America/Denver:20240125T130000
DTEND;TZID=America/Denver:20240125T140000
DTSTAMP:20260421T080026
CREATED:20231211T221203Z
LAST-MODIFIED:20231211T221203Z
UID:251885-1706187600-1706191200@gatewayassociation.ca
SUMMARY:Workplace Communication 101 - Positive Communication and Constructive Feedback
DESCRIPTION:Workplace Communication 101 – Positive Communication and Constructive Feedback \nWorkplace Communication is made up of many essential skills\, such as\, what is okay to talk about at work with your coworkers? How to give and receive positive and constructive feedback? In this workshop\, we will talk about ways to help you to feel confident and comfortable with workplace communication. \n\n\nThis workshop is for registered participants only. To register\, please connect with us at get-work@GatewayAssociation.ca
URL:https://gatewayassociation.ca/calendar/workplace-communication-101-positive-communication-and-constructive-feedback-2/
CATEGORIES:ERC
END:VEVENT
BEGIN:VEVENT
DTSTART;TZID=America/Denver:20240131T100000
DTEND;TZID=America/Denver:20240131T150000
DTSTAMP:20260421T080026
CREATED:20231220T152231Z
LAST-MODIFIED:20231220T152231Z
UID:251989-1706695200-1706713200@gatewayassociation.ca
SUMMARY:DROP IN WEDNESDAYS  at the Calgary Employment Resource Centre
DESCRIPTION:DROP IN WEDNESDAYS \nat the Calgary Employment Resource Centre \nFor job seekers\, each Wednesday drop in any time between 10am and 3pm to connect with ERC team members to work on resumes\, interview skills\, job search and meet other job seekers! \n1206 20 AVE SE \nCalgary\, AB
URL:https://gatewayassociation.ca/calendar/drop-in-wednesdays-at-the-calgary-employment-resource-centre-6/
CATEGORIES:ERC
END:VEVENT
BEGIN:VEVENT
DTSTART;TZID=America/Denver:20240131T180000
DTEND;TZID=America/Denver:20240131T190000
DTSTAMP:20260421T080026
CREATED:20231220T154958Z
LAST-MODIFIED:20231220T162739Z
UID:252008-1706724000-1706727600@gatewayassociation.ca
SUMMARY:Employment Resource Centre Information Session
DESCRIPTION:Employment Resource Centre Information Session \nJoin Gateway Association for a virtual Employment Resource Centre information session. \nThis session is for job seekers with disability or mental health-based barriers to learn about how Gateway Association can support you with achieving your employment goals! \nL earn about individualized supports and group workshops that will help you with: \n\nCareer development and action plans\nResume building\nInterview skills\nWorkplace communication\nOnboarding and training\nJob search and finding the right job for you\nKeeping your job!\nA ND much more!\n\nRegister HERE \nFor additional accommodations or questions\, please connect with us at Get-Work@GatewayAssociation.ca
URL:https://gatewayassociation.ca/calendar/employment-resource-centre-information-session/
CATEGORIES:ERC
END:VEVENT
END:VCALENDAR