BEGIN:VCALENDAR
VERSION:2.0
PRODID:-//Gateway Association - ECPv6.15.20//NONSGML v1.0//EN
CALSCALE:GREGORIAN
METHOD:PUBLISH
X-WR-CALNAME:Gateway Association
X-ORIGINAL-URL:https://gatewayassociation.ca
X-WR-CALDESC:Events for Gateway Association
REFRESH-INTERVAL;VALUE=DURATION:PT1H
X-Robots-Tag:noindex
X-PUBLISHED-TTL:PT1H
BEGIN:VTIMEZONE
TZID:America/Denver
BEGIN:DAYLIGHT
TZOFFSETFROM:-0700
TZOFFSETTO:-0600
TZNAME:MDT
DTSTART:20240310T090000
END:DAYLIGHT
BEGIN:STANDARD
TZOFFSETFROM:-0600
TZOFFSETTO:-0700
TZNAME:MST
DTSTART:20241103T080000
END:STANDARD
BEGIN:DAYLIGHT
TZOFFSETFROM:-0700
TZOFFSETTO:-0600
TZNAME:MDT
DTSTART:20250309T090000
END:DAYLIGHT
BEGIN:STANDARD
TZOFFSETFROM:-0600
TZOFFSETTO:-0700
TZNAME:MST
DTSTART:20251102T080000
END:STANDARD
BEGIN:DAYLIGHT
TZOFFSETFROM:-0700
TZOFFSETTO:-0600
TZNAME:MDT
DTSTART:20260308T090000
END:DAYLIGHT
BEGIN:STANDARD
TZOFFSETFROM:-0600
TZOFFSETTO:-0700
TZNAME:MST
DTSTART:20261101T080000
END:STANDARD
END:VTIMEZONE
BEGIN:VEVENT
DTSTART;TZID=America/Denver:20250304T130000
DTEND;TZID=America/Denver:20250304T140000
DTSTAMP:20260421T042037
CREATED:20250115T174040Z
LAST-MODIFIED:20250115T174054Z
UID:254460-1741093200-1741096800@gatewayassociation.ca
SUMMARY: Mindset Matters: Boost Your Job Search!
DESCRIPTION: Mindset Matters: Boost Your Job Search!\nAs offered in Career360 in October\, this workshop will help you build a positive mindset to improve your job search. Learn how to overcome self-doubt and embrace challenges. Whether you’re starting fresh or changing careers\, discover how the right mindset can lead you to success! \nTo register\, please connect with us at Get-Work@GatewayAssociation.ca
URL:https://gatewayassociation.ca/calendar/mindset-metters-boost-your-job-search/
CATEGORIES:ERC
END:VEVENT
BEGIN:VEVENT
DTSTART;TZID=America/Denver:20250305T100000
DTEND;TZID=America/Denver:20250305T150000
DTSTAMP:20260421T042037
CREATED:20250115T182719Z
LAST-MODIFIED:20250115T182719Z
UID:254484-1741168800-1741186800@gatewayassociation.ca
SUMMARY:YYC Drop-In Wednesdays
DESCRIPTION:YYC Drop-In Wednesdays\nFor registered participants – Join us every Wednesday from 10 AM to 3 PM for our open drop-in sessions. Whether you’re exploring career options\, updating your resume\, practicing for interviews\, or navigating the job search process\, our friendly team is ready to support you. \nNo appointment needed—just drop in! Let’s work together to take the next step in your employment journey. \nWhere: Gateway Association Calgary Office\nWhen: Wednesdays\, 10 AM – 3 PM
URL:https://gatewayassociation.ca/calendar/yyc-drop-in-wednesdays-9/
CATEGORIES:ERC
END:VEVENT
BEGIN:VEVENT
DTSTART;TZID=America/Denver:20250312T100000
DTEND;TZID=America/Denver:20250312T150000
DTSTAMP:20260421T042037
CREATED:20250115T182833Z
LAST-MODIFIED:20250115T182833Z
UID:254486-1741773600-1741791600@gatewayassociation.ca
SUMMARY:YYC Drop-In Wednesdays
DESCRIPTION:YYC Drop-In Wednesdays\nFor registered participants – Join us every Wednesday from 10 AM to 3 PM for our open drop-in sessions. Whether you’re exploring career options\, updating your resume\, practicing for interviews\, or navigating the job search process\, our friendly team is ready to support you. \nNo appointment needed—just drop in! Let’s work together to take the next step in your employment journey. \nWhere: Gateway Association Calgary Office\nWhen: Wednesdays\, 10 AM – 3 PM
URL:https://gatewayassociation.ca/calendar/yyc-drop-in-wednesdays-10/
CATEGORIES:ERC
END:VEVENT
BEGIN:VEVENT
DTSTART;TZID=America/Denver:20250313T130000
DTEND;TZID=America/Denver:20250313T140000
DTSTAMP:20260421T042037
CREATED:20250115T174212Z
LAST-MODIFIED:20250115T174212Z
UID:254463-1741870800-1741874400@gatewayassociation.ca
SUMMARY:How to Read a Job Posting 
DESCRIPTION:How to Read a Job Posting\nJoin this workshop to understand various elements of a job posting\, identify red flags\, and find the right match. This workshop intends to help people save their time by targeting jobs that fits their expectations. \nTo register\, connect with us at Get-Work@GatewayAssociation.ca
URL:https://gatewayassociation.ca/calendar/how-to-read-a-job-posting-13/
CATEGORIES:ERC
END:VEVENT
BEGIN:VEVENT
DTSTART;TZID=America/Denver:20250318T130000
DTEND;TZID=America/Denver:20250318T140000
DTSTAMP:20260421T042037
CREATED:20250115T175456Z
LAST-MODIFIED:20250115T175456Z
UID:254467-1742302800-1742306400@gatewayassociation.ca
SUMMARY:Workplace Communication 102 - Conflict Resolution
DESCRIPTION:Workplace Communication 102 – Conflict Resolution\nWorkplace Communication is made up of many essential skills\, including how to deal with conflict.  Conflict can be difficult to navigate and hard to understand.  In this workshop\, we will talk about conflict in the workplace and learn strategies to resolve conflict. \nTo register\, please connect with us at Get-Work@GatewayAssociation.ca
URL:https://gatewayassociation.ca/calendar/workplace-communication-102-conflict-resolution-5/
CATEGORIES:ERC
END:VEVENT
BEGIN:VEVENT
DTSTART;TZID=America/Denver:20250319T100000
DTEND;TZID=America/Denver:20250319T120000
DTSTAMP:20260421T042037
CREATED:20250115T175142Z
LAST-MODIFIED:20250227T171333Z
UID:254465-1742378400-1742385600@gatewayassociation.ca
SUMMARY: Interview Roundtable: Learning and Laughing Together - Practice
DESCRIPTION: Interview Roundtable: Learning and Laughing Together – Practice\nThis is IN-PERSON at the Calgary Office. \nJoin us for a dynamic and interactive workshop designed to help you ace your next job interview. In our Interview Roundtable\, you’ll have the opportunity to connect with fellow job seekers and share your experiences and insights. Our experienced facilitators will guide you through real-life interview scenarios and help you develop the skills and confidence you need to succeed. \nTo register\, please connect with us at Get-Work@GatewayAssociation.ca \n  \n 
URL:https://gatewayassociation.ca/calendar/interview-roundtable-learning-and-laughing-together-practice-4/
LOCATION:calgary central library\, www.cal800 3 St SE\, Calgary\, Alberta\, T2G 2E7\, Canada
CATEGORIES:ERC
END:VEVENT
BEGIN:VEVENT
DTSTART;TZID=America/Denver:20250319T100000
DTEND;TZID=America/Denver:20250319T150000
DTSTAMP:20260421T042037
CREATED:20250115T182953Z
LAST-MODIFIED:20250115T182953Z
UID:254488-1742378400-1742396400@gatewayassociation.ca
SUMMARY:YYC Drop-In Wednesdays
DESCRIPTION:YYC Drop-In Wednesdays\nFor registered participants – Join us every Wednesday from 10 AM to 3 PM for our open drop-in sessions. Whether you’re exploring career options\, updating your resume\, practicing for interviews\, or navigating the job search process\, our friendly team is ready to support you. \nNo appointment needed—just drop in! Let’s work together to take the next step in your employment journey. \nWhere: Gateway Association Calgary Office\nWhen: Wednesdays\, 10 AM – 3 PM
URL:https://gatewayassociation.ca/calendar/yyc-drop-in-wednesdays-11/
CATEGORIES:ERC
END:VEVENT
BEGIN:VEVENT
DTSTART;TZID=America/Denver:20250319T140000
DTEND;TZID=America/Denver:20250319T150000
DTSTAMP:20260421T042037
CREATED:20250311T192847Z
LAST-MODIFIED:20250311T192847Z
UID:254641-1742392800-1742396400@gatewayassociation.ca
SUMMARY:MentorAbility Industry Info Session: Explore Labour Market Trends
DESCRIPTION:You are officially invited to the Labour Market Trends in Alberta session happening on the 19th of March from 2:00pm to 3:00pm. The goal of this session is to learn about current labour needs\, emerging trends\, in-demand skills\, and overlooked industries to help job seekers broaden their employment options. We are joined by Sneda Vargas (Pronouns: she/her/hers)\, Workforce Consultant- Regional Employer Supports \nJobs\, Economy and Trade with the Government of Alberta. With over fifteen years of experience in government relations\, Sneda is a seasoned Workforce Consultant (WFC) committed to building a strong and resilient workforce. Based in Edmonton Metro Region\, Sneda provides employers and industry with outreach services across various areas including: \n\nCoaching and advising parties to empower them in identifying and addressing workforce development challenges\nPromoting and connecting parties to relevant provincial and federal workforce programs\nAssisting parties in establishing Labour Market Partnerships and networks at both local and regional levels\n\nIn addition to her professional work\, she also volunteers her time\, when possible\, with a mentorship program for newcomers\, offering guidance and support as they adjust to the labour market environment. Outside of her professional and volunteer commitments\, she has a passion for travelling immersing herself in the art and culture of each destination. \nThis event is offered to all MentorAbility participants – so if you are a job seeker who experiences disability-related barriers to employment or a supportive employment service provider who wants to learn more about the industry\, this event is for you! \nIf we can offer any accommodations during the event to make your participation easier or answer any questions you have about the event ahead of time\, please contact susannah@gatewayassociation.ca after you register to discuss. \nThis event will be recorded. \nRegister HERE
URL:https://gatewayassociation.ca/calendar/mentorability-industry-info-session-explore-labour-market-trends/
CATEGORIES:ERC,MentorAbility Alberta
END:VEVENT
BEGIN:VEVENT
DTSTART;TZID=America/Denver:20250326T100000
DTEND;TZID=America/Denver:20250326T150000
DTSTAMP:20260421T042037
CREATED:20250115T183021Z
LAST-MODIFIED:20250115T183021Z
UID:254490-1742983200-1743001200@gatewayassociation.ca
SUMMARY:YYC Drop-In Wednesdays
DESCRIPTION:YYC Drop-In Wednesdays\nFor registered participants – Join us every Wednesday from 10 AM to 3 PM for our open drop-in sessions. Whether you’re exploring career options\, updating your resume\, practicing for interviews\, or navigating the job search process\, our friendly team is ready to support you. \nNo appointment needed—just drop in! Let’s work together to take the next step in your employment journey. \nWhere: Gateway Association Calgary Office\nWhen: Wednesdays\, 10 AM – 3 PM
URL:https://gatewayassociation.ca/calendar/yyc-drop-in-wednesdays-12/
CATEGORIES:ERC
END:VEVENT
BEGIN:VEVENT
DTSTART;TZID=America/Denver:20250327T130000
DTEND;TZID=America/Denver:20250327T140000
DTSTAMP:20260421T042037
CREATED:20250115T181220Z
LAST-MODIFIED:20250115T181234Z
UID:254473-1743080400-1743084000@gatewayassociation.ca
SUMMARY: Interview Prep 101: Before\, During & After
DESCRIPTION: Interview Prep 101: Before\, During & After\n In this workshop\, you will learn about how to get ready for a job interview\, how to “shine’ in the interview and what to do after the interview to stand out and increase your chances of getting called back! \nTo register\, please connect with us at Get-Work@GatewayAssociation.ca
URL:https://gatewayassociation.ca/calendar/254473/
CATEGORIES:ERC
END:VEVENT
END:VCALENDAR