BEGIN:VCALENDAR
VERSION:2.0
PRODID:-//Gateway Association - ECPv6.15.20//NONSGML v1.0//EN
CALSCALE:GREGORIAN
METHOD:PUBLISH
X-WR-CALNAME:Gateway Association
X-ORIGINAL-URL:https://gatewayassociation.ca
X-WR-CALDESC:Events for Gateway Association
REFRESH-INTERVAL;VALUE=DURATION:PT1H
X-Robots-Tag:noindex
X-PUBLISHED-TTL:PT1H
BEGIN:VTIMEZONE
TZID:America/Denver
BEGIN:DAYLIGHT
TZOFFSETFROM:-0700
TZOFFSETTO:-0600
TZNAME:MDT
DTSTART:20240310T090000
END:DAYLIGHT
BEGIN:STANDARD
TZOFFSETFROM:-0600
TZOFFSETTO:-0700
TZNAME:MST
DTSTART:20241103T080000
END:STANDARD
BEGIN:DAYLIGHT
TZOFFSETFROM:-0700
TZOFFSETTO:-0600
TZNAME:MDT
DTSTART:20250309T090000
END:DAYLIGHT
BEGIN:STANDARD
TZOFFSETFROM:-0600
TZOFFSETTO:-0700
TZNAME:MST
DTSTART:20251102T080000
END:STANDARD
BEGIN:DAYLIGHT
TZOFFSETFROM:-0700
TZOFFSETTO:-0600
TZNAME:MDT
DTSTART:20260308T090000
END:DAYLIGHT
BEGIN:STANDARD
TZOFFSETFROM:-0600
TZOFFSETTO:-0700
TZNAME:MST
DTSTART:20261101T080000
END:STANDARD
END:VTIMEZONE
BEGIN:VEVENT
DTSTART;TZID=America/Denver:20250806T100000
DTEND;TZID=America/Denver:20250806T150000
DTSTAMP:20260421T110553
CREATED:20250731T184822Z
LAST-MODIFIED:20250731T184822Z
UID:255225-1754474400-1754492400@gatewayassociation.ca
SUMMARY:Calgary Drop-In Wednesdays
DESCRIPTION:Calgary Drop-In Wednesdays\nFor registered participants –  Join us every Wednesday from 10 AM to 3 PM for our open drop-in sessions. Whether you’re exploring career options\, updating your resume\, practicing for interviews\, or navigating the job search process\, our friendly team is ready to support you. \nNo appointment needed—just drop in! Let’s work together to take the next step in your employment journey.\n Where: Gateway Association Calgary Office\nWhen: Wednesdays\, 10 AM – 3 PM
URL:https://gatewayassociation.ca/calendar/calgary-drop-in-wednesdays-28/
CATEGORIES:ERC
END:VEVENT
BEGIN:VEVENT
DTSTART;TZID=America/Denver:20250806T130000
DTEND;TZID=America/Denver:20250806T150000
DTSTAMP:20260421T110553
CREATED:20250805T191951Z
LAST-MODIFIED:20250805T191951Z
UID:255245-1754485200-1754492400@gatewayassociation.ca
SUMMARY:Edmonton Drop-In Wednesdays
DESCRIPTION:Edmonton Drop-In Wednesdays\nFor registered participants –  Join us every Wednesday from 10 AM to 3 PM for our open drop-in sessions. Whether you’re exploring career options\, updating your resume\, practicing for interviews\, or navigating the job search process\, our friendly team is ready to support you. \nNo appointment needed—just drop in! Let’s work together to take the next step in your employment journey.\nWhere: Gateway Association Edmonton Office\nWhen: Wednesdays\, 1 – 3 PM
URL:https://gatewayassociation.ca/calendar/edmonton-drop-in-wednesdays-10/
CATEGORIES:ERC
END:VEVENT
BEGIN:VEVENT
DTSTART;TZID=America/Denver:20250807T130000
DTEND;TZID=America/Denver:20250807T140000
DTSTAMP:20260421T110553
CREATED:20250714T204406Z
LAST-MODIFIED:20250714T204406Z
UID:255173-1754571600-1754575200@gatewayassociation.ca
SUMMARY:Networking - Using Our Connections
DESCRIPTION:Networking – Using Our Connections\nIn this workshop\, participants will be learning how to network online and in person. \nOnline – Zoom \nFor questions or to register\, please connect with us at Get-Work@GatewayAssociation.ca
URL:https://gatewayassociation.ca/calendar/networking-using-our-connections-7/
CATEGORIES:ERC
END:VEVENT
BEGIN:VEVENT
DTSTART;TZID=America/Denver:20250812T130000
DTEND;TZID=America/Denver:20250812T140000
DTSTAMP:20260421T110553
CREATED:20250714T213028Z
LAST-MODIFIED:20250714T213028Z
UID:255175-1755003600-1755007200@gatewayassociation.ca
SUMMARY:How to Read a Job Posting
DESCRIPTION:How to Read a Job Posting\nJoin this workshop to understand various elements of a job posting\, identify red flags\, and find the right match. This workshop intends to help people save their time by targeting jobs that fits their expectations. \nOnline – Zoom \nFor more information and to register\, please connect with us at Get-Work@GatewayAssociation.ca
URL:https://gatewayassociation.ca/calendar/how-to-read-a-job-posting-16/
CATEGORIES:ERC
END:VEVENT
BEGIN:VEVENT
DTSTART;TZID=America/Denver:20250813T100000
DTEND;TZID=America/Denver:20250813T150000
DTSTAMP:20260421T110553
CREATED:20250731T185044Z
LAST-MODIFIED:20250731T185044Z
UID:255227-1755079200-1755097200@gatewayassociation.ca
SUMMARY:Calgary Drop-In Wednesdays
DESCRIPTION:Calgary Drop-In Wednesdays\nFor registered participants –  Join us every Wednesday from 10 AM to 3 PM for our open drop-in sessions. Whether you’re exploring career options\, updating your resume\, practicing for interviews\, or navigating the job search process\, our friendly team is ready to support you. \nNo appointment needed—just drop in! Let’s work together to take the next step in your employment journey.\n Where: Gateway Association Calgary Office\nWhen: Wednesdays\, 10 AM – 3 PM
URL:https://gatewayassociation.ca/calendar/calgary-drop-in-wednesdays-29/
CATEGORIES:ERC
END:VEVENT
BEGIN:VEVENT
DTSTART;TZID=America/Denver:20250813T130000
DTEND;TZID=America/Denver:20250813T150000
DTSTAMP:20260421T110553
CREATED:20250805T192832Z
LAST-MODIFIED:20250805T192832Z
UID:255247-1755090000-1755097200@gatewayassociation.ca
SUMMARY:Edmonton Drop-In Wednesdays
DESCRIPTION:Edmonton Drop-In Wednesdays\nFor registered participants –  Join us every Wednesday from 10 AM to 3 PM for our open drop-in sessions. Whether you’re exploring career options\, updating your resume\, practicing for interviews\, or navigating the job search process\, our friendly team is ready to support you. \nNo appointment needed—just drop in! Let’s work together to take the next step in your employment journey.\nWhere: Gateway Association Edmonton Office\nWhen: Wednesdays\, 1 – 3 PM
URL:https://gatewayassociation.ca/calendar/edmonton-drop-in-wednesdays-11/
CATEGORIES:ERC
END:VEVENT
BEGIN:VEVENT
DTSTART;TZID=America/Denver:20250814T130000
DTEND;TZID=America/Denver:20250814T140000
DTSTAMP:20260421T110553
CREATED:20250714T213216Z
LAST-MODIFIED:20250714T213338Z
UID:255177-1755176400-1755180000@gatewayassociation.ca
SUMMARY:Interview Prep 101
DESCRIPTION:Interview Prep 101\nIn this workshop\, you will learn about how to get ready for a job interview\, how to “shine’ in the interview and what to do after the interview to stand out and increase your chances of getting called back! \nOnline \n\nFor more information or to register\, please connect with us at Get-Work@GatewayAssociation.ca
URL:https://gatewayassociation.ca/calendar/255177/
CATEGORIES:ERC
END:VEVENT
BEGIN:VEVENT
DTSTART;TZID=America/Denver:20250819T130000
DTEND;TZID=America/Denver:20250819T140000
DTSTAMP:20260421T110553
CREATED:20250714T213415Z
LAST-MODIFIED:20250714T213415Z
UID:255181-1755608400-1755612000@gatewayassociation.ca
SUMMARY:Workplace Expectations
DESCRIPTION:Workplace Expectations\nThis interactive workshop will help you retain your job; we will explore what you need to do to keep your job. \nOnline – Zoom \n\nFor more information or to register\, please connect with us at Get-Work@GatewayAssociation.ca
URL:https://gatewayassociation.ca/calendar/workplace-expectations-21/
CATEGORIES:ERC
END:VEVENT
BEGIN:VEVENT
DTSTART;TZID=America/Denver:20250820T100000
DTEND;TZID=America/Denver:20250820T150000
DTSTAMP:20260421T110553
CREATED:20250731T185132Z
LAST-MODIFIED:20250731T185132Z
UID:255229-1755684000-1755702000@gatewayassociation.ca
SUMMARY:Calgary Drop-In Wednesdays
DESCRIPTION:Calgary Drop-In Wednesdays\nFor registered participants –  Join us every Wednesday from 10 AM to 3 PM for our open drop-in sessions. Whether you’re exploring career options\, updating your resume\, practicing for interviews\, or navigating the job search process\, our friendly team is ready to support you. \nNo appointment needed—just drop in! Let’s work together to take the next step in your employment journey.\n Where: Gateway Association Calgary Office\nWhen: Wednesdays\, 10 AM – 3 PM
URL:https://gatewayassociation.ca/calendar/calgary-drop-in-wednesdays-30/
CATEGORIES:ERC
END:VEVENT
BEGIN:VEVENT
DTSTART;TZID=America/Denver:20250821T130000
DTEND;TZID=America/Denver:20250821T140000
DTSTAMP:20260421T110553
CREATED:20250714T213554Z
LAST-MODIFIED:20250714T213554Z
UID:255183-1755781200-1755784800@gatewayassociation.ca
SUMMARY:Mindset Matters
DESCRIPTION:Mindset Matters\nThis workshop will help you build a positive mindset to improve your job search. Learn how to overcome self-doubt and embrace challenges. Whether you’re starting fresh or changing careers\, discover how the right mindset can lead you to success! \nOnline – Zoom \n\nFor more information or to register\, please connect with us at Get-work@GatewayAssociation.ca
URL:https://gatewayassociation.ca/calendar/mindset-matters-3/
CATEGORIES:ERC
END:VEVENT
BEGIN:VEVENT
DTSTART;TZID=America/Denver:20250826T130000
DTEND;TZID=America/Denver:20250826T140000
DTSTAMP:20260421T110553
CREATED:20250714T213733Z
LAST-MODIFIED:20250714T213733Z
UID:255185-1756213200-1756216800@gatewayassociation.ca
SUMMARY:Finding Your Purpose
DESCRIPTION:Finding Your Purpose\nAre you wondering what your purpose is? Stuck and not sure where to go? Then we have a workshop for you! Come join us for self exploration and learning. We will talk about what people need in life to grow and how we can access those resources. As well\, we will explore a personality test and leave the workshop with a deeper understanding of who we are and where we would like to go! \nOnline – Zoom \nFor more information or to register\, please connect with us at Get-Work@GatewayAssociation.ca
URL:https://gatewayassociation.ca/calendar/finding-your-purpose-20/
CATEGORIES:ERC
END:VEVENT
BEGIN:VEVENT
DTSTART;TZID=America/Denver:20250827T100000
DTEND;TZID=America/Denver:20250827T150000
DTSTAMP:20260421T110553
CREATED:20250731T185222Z
LAST-MODIFIED:20250731T185236Z
UID:255231-1756288800-1756306800@gatewayassociation.ca
SUMMARY:Calgary Drop-In Wednesdays
DESCRIPTION:Calgary Drop-In Wednesdays\nFor registered participants –  Join us every Wednesday from 10 AM to 3 PM for our open drop-in sessions. Whether you’re exploring career options\, updating your resume\, practicing for interviews\, or navigating the job search process\, our friendly team is ready to support you. \nNo appointment needed—just drop in! Let’s work together to take the next step in your employment journey.\n\nWhere: Gateway Association Calgary Office\nWhen: Wednesdays\, 10 AM – 3 PM
URL:https://gatewayassociation.ca/calendar/calgary-drop-in-wednesdays-31/
CATEGORIES:ERC
END:VEVENT
BEGIN:VEVENT
DTSTART;TZID=America/Denver:20250827T130000
DTEND;TZID=America/Denver:20250827T150000
DTSTAMP:20260421T110553
CREATED:20250805T192950Z
LAST-MODIFIED:20250805T192950Z
UID:255251-1756299600-1756306800@gatewayassociation.ca
SUMMARY:Edmonton Drop-In Wednesdays
DESCRIPTION:Edmonton Drop-In Wednesdays\nFor registered participants –  Join us every Wednesday from 10 AM to 3 PM for our open drop-in sessions. Whether you’re exploring career options\, updating your resume\, practicing for interviews\, or navigating the job search process\, our friendly team is ready to support you. \nNo appointment needed—just drop in! Let’s work together to take the next step in your employment journey.\nWhere: Gateway Association Edmonton Office\nWhen: Wednesdays\, 1 – 3 PM
URL:https://gatewayassociation.ca/calendar/edmonton-drop-in-wednesdays-13/
CATEGORIES:ERC
END:VEVENT
END:VCALENDAR