BEGIN:VCALENDAR
VERSION:2.0
PRODID:-//Gateway Association - ECPv6.15.20//NONSGML v1.0//EN
CALSCALE:GREGORIAN
METHOD:PUBLISH
X-WR-CALNAME:Gateway Association
X-ORIGINAL-URL:https://gatewayassociation.ca
X-WR-CALDESC:Events for Gateway Association
REFRESH-INTERVAL;VALUE=DURATION:PT1H
X-Robots-Tag:noindex
X-PUBLISHED-TTL:PT1H
BEGIN:VTIMEZONE
TZID:America/Denver
BEGIN:DAYLIGHT
TZOFFSETFROM:-0700
TZOFFSETTO:-0600
TZNAME:MDT
DTSTART:20240310T090000
END:DAYLIGHT
BEGIN:STANDARD
TZOFFSETFROM:-0600
TZOFFSETTO:-0700
TZNAME:MST
DTSTART:20241103T080000
END:STANDARD
BEGIN:DAYLIGHT
TZOFFSETFROM:-0700
TZOFFSETTO:-0600
TZNAME:MDT
DTSTART:20250309T090000
END:DAYLIGHT
BEGIN:STANDARD
TZOFFSETFROM:-0600
TZOFFSETTO:-0700
TZNAME:MST
DTSTART:20251102T080000
END:STANDARD
BEGIN:DAYLIGHT
TZOFFSETFROM:-0700
TZOFFSETTO:-0600
TZNAME:MDT
DTSTART:20260308T090000
END:DAYLIGHT
BEGIN:STANDARD
TZOFFSETFROM:-0600
TZOFFSETTO:-0700
TZNAME:MST
DTSTART:20261101T080000
END:STANDARD
END:VTIMEZONE
BEGIN:VEVENT
DTSTART;TZID=America/Denver:20251104T130000
DTEND;TZID=America/Denver:20251104T140000
DTSTAMP:20260421T164144
CREATED:20250805T205431Z
LAST-MODIFIED:20250805T205431Z
UID:255309-1762261200-1762264800@gatewayassociation.ca
SUMMARY:How to Read a Job Posting
DESCRIPTION:How to Read a Job Posting\nJoin this workshop to understand various elements of a job posting\, identify red flags\, and find the right match. This workshop intends to help people save their time by targeting jobs that fits their expectations. \nOnline – Zoom \nTo learn more or to register\, please connect with us at Get-Work@GatewayAssociation.ca
URL:https://gatewayassociation.ca/calendar/how-to-read-a-job-posting-18/
CATEGORIES:ERC
END:VEVENT
BEGIN:VEVENT
DTSTART;TZID=America/Denver:20251106T130000
DTEND;TZID=America/Denver:20251106T140000
DTSTAMP:20260421T164144
CREATED:20250805T210051Z
LAST-MODIFIED:20250805T210051Z
UID:255311-1762434000-1762437600@gatewayassociation.ca
SUMMARY:Overcoming Interview and Workplace Anxiety
DESCRIPTION:Overcoming Interview and Workplace Anxiety\nThis workshop helps job seekers manage anxiety during interviews and in the workplace through practical strategies and confidence-building techniques. Participants will gain tools to reduce stress and communicate more effectively in professional settings. \nTo learn more and to register\, please connect with us at Get-Work@GatewayAssociation.ca \n 
URL:https://gatewayassociation.ca/calendar/overcoming-interview-and-workplace-anxiety/
CATEGORIES:ERC
END:VEVENT
BEGIN:VEVENT
DTSTART;TZID=America/Denver:20251113T130000
DTEND;TZID=America/Denver:20251113T140000
DTSTAMP:20260421T164144
CREATED:20250805T210220Z
LAST-MODIFIED:20250805T210220Z
UID:255313-1763038800-1763042400@gatewayassociation.ca
SUMMARY:Interview Prep 102
DESCRIPTION:Interview Prep 102\nLearn tips about how to effectively answer some of the most common interview questions! \nOnline – Zoom \nTo learn more or to register\, please connect with us at Get-Work@GatewayAssociation.ca
URL:https://gatewayassociation.ca/calendar/interview-prep-102-3/
CATEGORIES:ERC
END:VEVENT
BEGIN:VEVENT
DTSTART;TZID=America/Denver:20251119T100000
DTEND;TZID=America/Denver:20251119T150000
DTSTAMP:20260421T164144
CREATED:20251118T164242Z
LAST-MODIFIED:20251118T164242Z
UID:255373-1763546400-1763564400@gatewayassociation.ca
SUMMARY:Calgary Drop-In Wednesdays
DESCRIPTION:Calgary Drop-In Wednesdays\nFor registered participants –  Join us every Wednesday from 10 AM to 3 PM for our open drop-in sessions. Whether you’re exploring career options\, updating your resume\, practicing for interviews\, or navigating the job search process\, our friendly team is ready to support you. \nNo appointment needed—just drop in! Let’s work together to take the next step in your employment journey.\n\nWhere: Gateway Association Calgary Office\nWhen: Wednesdays\, 10 AM – 3 PM
URL:https://gatewayassociation.ca/calendar/calgary-drop-in-wednesdays-41/
CATEGORIES:ERC
END:VEVENT
BEGIN:VEVENT
DTSTART;TZID=America/Denver:20251119T120000
DTEND;TZID=America/Denver:20251119T133000
DTSTAMP:20260421T164144
CREATED:20251117T171245Z
LAST-MODIFIED:20251117T171245Z
UID:255371-1763553600-1763559000@gatewayassociation.ca
SUMMARY:Disability in the Media
DESCRIPTION:Disability in the Media\nExplore authentic disability representation in media & learn inclusive practices at our DEAM 2025 session on November 19.\n\n\n\nJoin us on November 19th with Katie MacMillan from Kello Inclusive\, as part of AEFN’s DEAM 2025 Campaign. Disability in the Media invites employers and disability sector professionals to explore how media can move beyond tokenism toward authentic disability representation. \nThe session will examine the historical exclusion of disabled voices in Canadian media\, challenge harmful tropes such as the “Super Crip” and “Tragic Victim\,” and emphasize the importance of cross-disability perspectives and inclusive language. \nAttendees will learn how to identify ableism\, adopt more responsible storytelling practices\, and involve disabled talent at every stage of media creation. Real-world examples from Kello Inclusive will demonstrate what meaningful inclusion looks like in practice\, while practical tools and strategies will help participants evaluate and improve their own media content. \nThe session will conclude with an open Q&A\, reinforcing the call to shift narratives by centering disabled voices and building inclusive\, accessible media from the ground up. \nASL available upon request. \nREGISTER HERE\nKatie is a mother\, leader\, advocate\, and the founder of Kello Inclusive – a talent agency exclusively representing disabled and visibly different talent\, because the beauty of disabilities\, diversities\, and differences deserves to be represented fairly and fully.Katie spent 15 years teaching French\, English\, Psychology\, and Sociology in an Edmonton Public high school before transitioning careers nearly two years ago. Her experience as an educator shaped her passion for equity and inclusion\, but it was her lived experience as the parent of four beautiful children – one of whom lives with Cerebral Palsy – that truly redefined her path. Her daughter’s disability and the many experiences that have come with it sparked Katie’s deep commitment to advocacy\, social justice\, and reimagining representation in media. These experiences are at the heart of why Kello Inclusive exists today: to challenge ableism\, create meaningful opportunities\, and push for authentic\, inclusive storytelling in the entertainment industry.
URL:https://gatewayassociation.ca/calendar/disability-in-the-media/
CATEGORIES:ERC,FRC,MentorAbility Alberta
END:VEVENT
BEGIN:VEVENT
DTSTART;TZID=America/Denver:20251120T130000
DTEND;TZID=America/Denver:20251120T140000
DTSTAMP:20260421T164144
CREATED:20250805T210310Z
LAST-MODIFIED:20250805T210310Z
UID:255315-1763643600-1763647200@gatewayassociation.ca
SUMMARY:Labor Market Trends
DESCRIPTION:Labor Market Trends\nAn in-depth discussion on what jobs are in demand and how you can plan for career stability \nOnline – Zoom \nFor more information or to register\, please connect with us at Get-Work@GatewayAssociation.ca
URL:https://gatewayassociation.ca/calendar/labor-market-trends-2/
CATEGORIES:ERC
END:VEVENT
BEGIN:VEVENT
DTSTART;TZID=America/Denver:20251125T130000
DTEND;TZID=America/Denver:20251125T140000
DTSTAMP:20260421T164144
CREATED:20250805T210358Z
LAST-MODIFIED:20250805T210358Z
UID:255317-1764075600-1764079200@gatewayassociation.ca
SUMMARY:Disclosure and Accommodations
DESCRIPTION:Disclosure and Accommodations\nPractical steps you can take to share personal needs and ask for support. \nOnline \nFor more information or to register\, please connect with us at Get-Work@GatewayAssociation.ca \n 
URL:https://gatewayassociation.ca/calendar/disclosure-and-accommodations-4/
CATEGORIES:ERC
END:VEVENT
BEGIN:VEVENT
DTSTART;TZID=America/Denver:20251126T100000
DTEND;TZID=America/Denver:20251126T150000
DTSTAMP:20260421T164144
CREATED:20251118T164323Z
LAST-MODIFIED:20251118T164323Z
UID:255375-1764151200-1764169200@gatewayassociation.ca
SUMMARY:Calgary Drop-In Wednesdays
DESCRIPTION:Calgary Drop-In Wednesdays\nFor registered participants –  Join us every Wednesday from 10 AM to 3 PM for our open drop-in sessions. Whether you’re exploring career options\, updating your resume\, practicing for interviews\, or navigating the job search process\, our friendly team is ready to support you. \nNo appointment needed—just drop in! Let’s work together to take the next step in your employment journey.\n\nWhere: Gateway Association Calgary Office\nWhen: Wednesdays\, 10 AM – 3 PM
URL:https://gatewayassociation.ca/calendar/calgary-drop-in-wednesdays-42/
CATEGORIES:ERC
END:VEVENT
BEGIN:VEVENT
DTSTART;TZID=America/Denver:20251127T130000
DTEND;TZID=America/Denver:20251127T140000
DTSTAMP:20260421T164144
CREATED:20250805T210452Z
LAST-MODIFIED:20250805T210452Z
UID:255319-1764248400-1764252000@gatewayassociation.ca
SUMMARY:Mindset Matters
DESCRIPTION:Mindset Matters\nThis workshop will help you build a positive mindset to improve your job search. Learn how to overcome self-doubt and embrace challenges. Whether you’re starting fresh or changing careers\, discover how the right mindset can lead you to success! \nOnline – Zoom \nFor more information or to register\, please connect with us at Get-work@GatewayAssociation.ca
URL:https://gatewayassociation.ca/calendar/mindset-matters-5/
CATEGORIES:ERC
END:VEVENT
END:VCALENDAR