BEGIN:VCALENDAR
VERSION:2.0
PRODID:-//Gateway Association - ECPv6.15.20//NONSGML v1.0//EN
CALSCALE:GREGORIAN
METHOD:PUBLISH
X-ORIGINAL-URL:https://gatewayassociation.ca
X-WR-CALDESC:Events for Gateway Association
REFRESH-INTERVAL;VALUE=DURATION:PT1H
X-Robots-Tag:noindex
X-PUBLISHED-TTL:PT1H
BEGIN:VTIMEZONE
TZID:America/Denver
BEGIN:DAYLIGHT
TZOFFSETFROM:-0700
TZOFFSETTO:-0600
TZNAME:MDT
DTSTART:20250309T090000
END:DAYLIGHT
BEGIN:STANDARD
TZOFFSETFROM:-0600
TZOFFSETTO:-0700
TZNAME:MST
DTSTART:20251102T080000
END:STANDARD
BEGIN:DAYLIGHT
TZOFFSETFROM:-0700
TZOFFSETTO:-0600
TZNAME:MDT
DTSTART:20260308T090000
END:DAYLIGHT
BEGIN:STANDARD
TZOFFSETFROM:-0600
TZOFFSETTO:-0700
TZNAME:MST
DTSTART:20261101T080000
END:STANDARD
BEGIN:DAYLIGHT
TZOFFSETFROM:-0700
TZOFFSETTO:-0600
TZNAME:MDT
DTSTART:20270314T090000
END:DAYLIGHT
BEGIN:STANDARD
TZOFFSETFROM:-0600
TZOFFSETTO:-0700
TZNAME:MST
DTSTART:20271107T080000
END:STANDARD
END:VTIMEZONE
BEGIN:VEVENT
DTSTART;TZID=America/Denver:20260107T130000
DTEND;TZID=America/Denver:20260107T140000
DTSTAMP:20260421T204647
CREATED:20251209T210313Z
LAST-MODIFIED:20251209T210313Z
UID:255419-1767790800-1767794400@gatewayassociation.ca
SUMMARY:Disclosure and Accommodations
DESCRIPTION:Disclosure and Accommodations\nPractical steps you can take to share personal needs and ask for support. \nFormat: Online \nFor more information\, please connect with us at  Get-Work@GatewayAssociation.ca \n** Please note that these sessions are for registered participants only. To find out more info or to apply\, please connect with us at Get-Work@GatewayAssociation.ca
URL:https://gatewayassociation.ca/calendar/disclosure-and-accommodations-5/
CATEGORIES:ERC
END:VEVENT
BEGIN:VEVENT
DTSTART;TZID=America/Denver:20260108T130000
DTEND;TZID=America/Denver:20260108T140000
DTSTAMP:20260421T204647
CREATED:20251209T210452Z
LAST-MODIFIED:20251209T210513Z
UID:255423-1767877200-1767880800@gatewayassociation.ca
SUMMARY:Mindset Matters
DESCRIPTION:Mindset Matters\nThis workshop will help you build a positive mindset to improve your job search. Learn how to overcome self-doubt and embrace challenges. Whether you’re starting fresh or changing careers\, discover how the right mindset can lead you to success! \nOnline – Zoom \n  \n** Please note that these sessions are for registered participants only. To find out more info or to apply\, please connect with us at Get-Work@GatewayAssociation.ca
URL:https://gatewayassociation.ca/calendar/mindset-matters-6/
CATEGORIES:ERC
END:VEVENT
BEGIN:VEVENT
DTSTART;TZID=America/Denver:20260114T130000
DTEND;TZID=America/Denver:20260114T140000
DTSTAMP:20260421T204647
CREATED:20251209T210634Z
LAST-MODIFIED:20251209T210634Z
UID:255426-1768395600-1768399200@gatewayassociation.ca
SUMMARY:Interview Prep 102
DESCRIPTION:Interview Prep 102\nLearn tips on how to effectively answer some of th most common interview questions! \nOnline – Zoom \n** Please note that these sessions are for registered participants only. To find out more info or to apply\, please connect with us at Get-Work@GatewayAssociation.ca
URL:https://gatewayassociation.ca/calendar/interview-prep-102-4/
CATEGORIES:ERC
END:VEVENT
BEGIN:VEVENT
DTSTART;TZID=America/Denver:20260115T130000
DTEND;TZID=America/Denver:20260115T140000
DTSTAMP:20260421T204647
CREATED:20251209T210731Z
LAST-MODIFIED:20251209T210910Z
UID:255428-1768482000-1768485600@gatewayassociation.ca
SUMMARY:Finding Your Purpose
DESCRIPTION:Finding Your Purpose\nAre you wondering what your purpose is? Stuck and not sure where to go? Then we have a workshop for you! Come join us for self exploration and learning. We will talk about what people need in life to grow and how we can access those resources. As well\, we will explore a personality test and leave the workshop with a deeper understanding of who we are and where we would like to go! \n** Please note that these sessions are for registered participants only. To find out more info or to apply\, please connect with us at Get-Work@GatewayAssociation.ca
URL:https://gatewayassociation.ca/calendar/255428/
CATEGORIES:ERC
END:VEVENT
BEGIN:VEVENT
DTSTART;TZID=America/Denver:20260120T130000
DTEND;TZID=America/Denver:20260120T140000
DTSTAMP:20260421T204647
CREATED:20260105T204637Z
LAST-MODIFIED:20260105T204637Z
UID:255571-1768914000-1768917600@gatewayassociation.ca
SUMMARY:Mindfulness: The What and How Skills of Mindfulness
DESCRIPTION:Mindfulness: The What and How Skills of Mindfulness\nVirtual\, via Zoom\n\nDiscover the power of mindfulness in this interactive session! You’ll explore what mindfulness really is\, learn various techniques to practice it in your daily life\, and understand the benefits of regular mindfulness practice. \nBy participating\, you can expect to: \n\n\nImprove your emotional regulation \n\n\nBoost your focus and attention \n\n\nDevelop practical tools to bring more calm and clarity into your everyday life \n\n\nWhether you’re new to mindfulness or looking to deepen your practice\, this workshop provides simple\, effective strategies to help you feel more balanced\, centered\, and present. \n\n\nThis session is for registered employment program participants. If you would like to register\, please connect with us at Get-work@gatewayassociation.ca
URL:https://gatewayassociation.ca/calendar/mindfulness-the-what-and-how-skills-of-mindfulness/
CATEGORIES:ERC
END:VEVENT
BEGIN:VEVENT
DTSTART;TZID=America/Denver:20260121T130000
DTEND;TZID=America/Denver:20260121T140000
DTSTAMP:20260421T204647
CREATED:20251209T210831Z
LAST-MODIFIED:20251209T210831Z
UID:255430-1769000400-1769004000@gatewayassociation.ca
SUMMARY:Cover Letter Basics
DESCRIPTION:Cover Letter Basics\nLearn how to write a clear and professional cover letter that highlights your strengths to make a great first impression. \nOnline – Zoom \n** Please note that these sessions are for registered participants only. To find out more info or to apply\, please connect with us at Get-Work@GatewayAssociation.ca
URL:https://gatewayassociation.ca/calendar/cover-letter-basics/
CATEGORIES:ERC
END:VEVENT
BEGIN:VEVENT
DTSTART;TZID=America/Denver:20260122T130000
DTEND;TZID=America/Denver:20260122T140000
DTSTAMP:20260421T204647
CREATED:20251209T211103Z
LAST-MODIFIED:20251209T211103Z
UID:255437-1769086800-1769090400@gatewayassociation.ca
SUMMARY:Networking - Using Our Connections
DESCRIPTION:Networking – Using Our Connections\nIn this workshop\, participants will be learning how to network online and in person. \nOnline – Zoom \n** Please note that these sessions are for registered participants only. To find out more info or to apply\, please connect with us at Get-Work@GatewayAssociation.ca
URL:https://gatewayassociation.ca/calendar/networking-using-our-connections-11/
CATEGORIES:ERC
END:VEVENT
BEGIN:VEVENT
DTSTART;TZID=America/Denver:20260127T130000
DTEND;TZID=America/Denver:20260127T140000
DTSTAMP:20260421T204647
CREATED:20260105T205621Z
LAST-MODIFIED:20260105T205621Z
UID:255573-1769518800-1769522400@gatewayassociation.ca
SUMMARY:Emotions: What Are They and How Do They Work?
DESCRIPTION:Emotions: What Are They and How Do They Work? \nTuesday\, January 27\, 2026 | 1:00 PM – 2:00 PM\nDive into the fascinating world of emotions in this interactive workshop! You’ll learn what emotions are\, the valuable information they can provide\, and the biological\, psychological\, and social factors that influence them. \nParticipants will explore: \n\n\nWhat makes us more vulnerable to certain emotions \n\n\nHow to increase awareness of our emotional states \n\n\nPractical insights for understanding and navigating everyday emotional experiences \n\n\nThis workshop is perfect for anyone looking to better understand their emotions and develop tools for self-awareness\, resilience\, and emotional wellbeing. \nNote: This workshop is for registered employment program participants only. If you would like to register\, please connect with us at Get-Work@GatewayAssociation.ca
URL:https://gatewayassociation.ca/calendar/emotions-what-are-they-and-how-do-they-work/
CATEGORIES:ERC
END:VEVENT
BEGIN:VEVENT
DTSTART;TZID=America/Denver:20260128T130000
DTEND;TZID=America/Denver:20260128T140000
DTSTAMP:20260421T204647
CREATED:20251209T211205Z
LAST-MODIFIED:20251209T211205Z
UID:255439-1769605200-1769608800@gatewayassociation.ca
SUMMARY:Workplace Expectations
DESCRIPTION:Workplace Expectations\nThis interactive workshop will help you retain your job; we will explore what you need to do to keep your job. \nOnline – Zoom \n** Please note that these sessions are for registered participants only. To find out more info or to apply\, please connect with us at Get-Work@GatewayAssociation.ca
URL:https://gatewayassociation.ca/calendar/workplace-expectations-24/
CATEGORIES:ERC
END:VEVENT
BEGIN:VEVENT
DTSTART;TZID=America/Denver:20260129T130000
DTEND;TZID=America/Denver:20260129T140000
DTSTAMP:20260421T204647
CREATED:20251209T211307Z
LAST-MODIFIED:20251209T211307Z
UID:255441-1769691600-1769695200@gatewayassociation.ca
SUMMARY:Executive Skills for Everyday Work
DESCRIPTION:Executive Skills for Everyday Work\nLearn practical strategies to stay organized\, manage time\, and boost focus for greater success. \nOnline – Zoom \n** Please note that these sessions are for registered participants only. To find out more info or to apply\, please connect with us at Get-Work@GatewayAssociation.ca
URL:https://gatewayassociation.ca/calendar/executive-skills-for-everyday-work/
CATEGORIES:ERC
END:VEVENT
END:VCALENDAR