BEGIN:VCALENDAR
VERSION:2.0
PRODID:-//Gateway Association - ECPv6.15.20//NONSGML v1.0//EN
CALSCALE:GREGORIAN
METHOD:PUBLISH
X-ORIGINAL-URL:https://gatewayassociation.ca
X-WR-CALDESC:Events for Gateway Association
REFRESH-INTERVAL;VALUE=DURATION:PT1H
X-Robots-Tag:noindex
X-PUBLISHED-TTL:PT1H
BEGIN:VTIMEZONE
TZID:America/Denver
BEGIN:DAYLIGHT
TZOFFSETFROM:-0700
TZOFFSETTO:-0600
TZNAME:MDT
DTSTART:20220313T090000
END:DAYLIGHT
BEGIN:STANDARD
TZOFFSETFROM:-0600
TZOFFSETTO:-0700
TZNAME:MST
DTSTART:20221106T080000
END:STANDARD
BEGIN:DAYLIGHT
TZOFFSETFROM:-0700
TZOFFSETTO:-0600
TZNAME:MDT
DTSTART:20230312T090000
END:DAYLIGHT
BEGIN:STANDARD
TZOFFSETFROM:-0600
TZOFFSETTO:-0700
TZNAME:MST
DTSTART:20231105T080000
END:STANDARD
BEGIN:DAYLIGHT
TZOFFSETFROM:-0700
TZOFFSETTO:-0600
TZNAME:MDT
DTSTART:20240310T090000
END:DAYLIGHT
BEGIN:STANDARD
TZOFFSETFROM:-0600
TZOFFSETTO:-0700
TZNAME:MST
DTSTART:20241103T080000
END:STANDARD
END:VTIMEZONE
BEGIN:VEVENT
DTSTART;TZID=America/Denver:20230905T130000
DTEND;TZID=America/Denver:20230905T140000
DTSTAMP:20260421T193821
CREATED:20230816T185204Z
LAST-MODIFIED:20230816T185204Z
UID:251246-1693918800-1693922400@gatewayassociation.ca
SUMMARY:Finding Your Purpose
DESCRIPTION:Finding Your Purpose \nAre you wondering what your purpose is? Stuck and not sure where to go? Then we have a workshop for you! Come join us for self exploration and learning. We will talk about what people need in life to grow and how we can access those resources. As well\, we will explore a personality test and leave the workshop with a deeper understanding of who we are and where we would like to go! \nOnline or In-Person: ONLINE \nTo register\, connect with us at Get-Work@GatewayAssociation.ca
URL:https://gatewayassociation.ca/calendar/finding-your-purpose-2/
CATEGORIES:ERC
END:VEVENT
END:VCALENDAR